{"text_format":"1","workbook":"xlsx","n_sheets":11,"sheets":["Utilitaire","Accueil","Description","Détail des projets","GES","Indicateurs","Évaluation","Commentaires","Validation","Modalités de fin du PACC","Prochain Exercice-Commentaire"],"not_rendered":{"charts":0,"images":10,"macros":1,"external_links":0,"defined_names":480,"comments":2,"pivot_tables":0},"unopened":[],"bounds":{"document_bytes":16777216,"sheet_cells":100000,"rows_first":2000,"rows_last":500,"rows_between":2000,"halvings":0,"cell_chars":16384,"cell_head_chars":4096},"cells_cut":0,"cells_raw":0,"read":"whole","date_system":"1900"}

{"sheet":"Utilitaire","index":0,"n_rows":239,"n_cols":18,"rows_kept":239,"cut":false,"hidden":true,"merged":[[15,1,15,5],[15,8,15,9],[39,1,39,5]]}
[]
[]
[null,"Mot de passe:","!1320PACC","Fiche verrouillée:","Oui - diffusion en ligne"]
[null,"Fiche validée:","Oui","Fiche générée"]
[null,"GES attendu:",null,"Est-ce que le pop-up \"validation\" s'affiche:","Générée"]
[null,"Feuille accueil complètement remplie:","Oui","Exercice de suivi:","2022-03-31","Date de l'exercice:","2022-03-31"]
[null,"Statut action:",{"$f":"Accueil!D58","v":"en cours"},null,null,"Année Courante","2022-2023"]
[null,"Feuille Utilitaire visible:","Non","Titre des Onglets:","Plan d'action 2013-2020 sur les changements climatiques"]
[null,"Dernière ligne de la zone de défilement de l'onglet détail des projets:",679]
[null,"nombre d'indicateurs approuvés:",6]
[null,"Secteur:","Plan d'action 2013-2020 sur les changements climatiques"]
[null,"Numéro de séquence de l'action:",20.010000000000002,"Remplir la section Évaluation requis : ",{"$f":"IF(Utilitaire!C7=I21,\"Oui\",IF(C7=I23,\"Oui\",\"Non\"))","v":"Non"},"Première ligne masquée dans l'onglet Indicateurs : ",164]
[null,"Première ligne masquée dans l'onglet Description:",86,"Affiche onglet Évaluation:","Oui","Première ligne masquée dans l'onglet Évaluation:",51]
[]
[null,"Listes Déroulantes"]
[null,"Onglet \"Détail des projets\"",null,null,null,null,"Onglet \"Indicateurs\"","DRFM COF","Accueil"]
[null,"Région Administrative","Statut","Classification","Type d'émissions","Info GES","Type d'indicateur","Exercice de suivi","Statut de l'action","Programmes","Fiche verrouillée"]
[null,"99-toutes les régions","COVID-19 - Reporté ou prolongé","SU-Subvention","QC-Québec","Oui","Minimum à atteindre","2013-2014-1","non démarrée","Sans objet","Oui - partenaire"]
[null,"01-Bas-Saint-Laurent","COVID-19 - Suspendu","CF-Contrat fonctionnement","HQ-Hors-Québec","Non","Maximum à ne pas dépasser","2013-2014-2","en élaboration","Programme \"Faites de l'air!\"","Oui - diffusion en ligne"]
[null,"02-Saguenay- Lac-Saint-Jean","COVID-19 - Annulé","CI-Contrat immobilisation","ND-Non distingué",null,"Binaire","2014-2015-1","en cours","Programme Action-Climat Québec","Non - BGFV"]
[null,"03-Capitale-Nationale","AC-Actif","CP-Contrat service professionnel",null,null,null,"2014-2015-2","terminée","Programme Chauffez vert"]
[null,"04-Mauricie ","TE-Terminé","CT-Contrat service technique",null,null,null,"2015-2016-1","en suspens","Programme Climat municipalités - Phase 2"]
[null,"05-Estrie","AT-En attente","PI-Projet à l'interne",null,null,null,"2015-2016-2","Retirée du PACC","Programme d’aide gouvernementale à l’amélioration des services de transport en commun (PAGASTC )"]
[null,"06-Montréal","SU-Suspendu","AU-Autre",null,null,"Étape","2016-2017-1",null,"Programme d’aide gouvernementale au transport collectif des personnes (PAGTCP)"]
[null,"07-Outaouais","AN-Annulé",null,null,null,"Recherche","2016-2017-2",null,"Programme d’aide gouvernementale transitoire en matière de transport routier des personnes","Commentaires"]
[null,"08-Abitibi-Témiscamingue","AB-Abandonné",null,null,null,"Étude de cas et caractérisation des impacts des CC","2017-2018-1",null,"Programme d'aide à la réduction des émissions de gaz à effet de serre dans le transport routier des marchandises - ÉcoCamionnage","Accueil"]
[null,"09-Côte-Nord","Projet en lien avec le transport","Horizon temporel Potentiel GES",null,"Catégories","Surveillance et prévention","2017-2018-2",null,"Programme d'aide à la réhabilitation des terrains contaminés - ClimatSol-Plus - Volet 1","Description"]
[null,"10-Nord-du-Québec","Oui","À la fin du projet (suite au dernier versement)",null,"Agricole","Réalisation","2018-2019-1",null,"Programme d'aide à l'amélioration de l'efficacité du transport maritime, aérien et ferroviaire en matière de réduction des émissions de GES (PETMAF)","Détail des projets"]
[null,"11-Gaspésie-Iles-de-la-Madeleine","Non","Cinq ans après la commercialisation du produit",null,"Aménagement du territoire","Aide à la décision","2018-2019-2","Part de financement par le PACC","Programme d'aide au développement du transport collectif (PADTC)","GES"]
[null,"12-Chaudières-Appalaches",null,"Dix ans après la commercialisation du produit",null,"Bâtiment","Sensibilisation et formation","2019-2020-1","Variable","Programme d'aide aux nouvelles mobilités des personnes (NOMO)","Indicateurs"]
[null,"13-Laval",null,2030,null,"Biodiversité, écosystèmes et ressources naturelles","Cadre législatif","2019-2020-2",{"$f":"10 & \" %\"","v":"10 %"},"Programme d'aide financière au développement des transports actifs dans les périmètres urbains (TAPU)","Validation"]
[null,"14-Lanaudière",null,2040,null,"Industriel, commercial et institutionnel",null,"2020-2021-1",{"$f":"20 & \" %\"","v":"20 %"},"Programme d'aide financière pour la planification de milieux de vie durables","Tout - autres"]
[null,"15-Laurentides",null,2050,null,"Matières résiduelles",null,"2020-2021-2",{"$f":"30 & \" %\"","v":"30 %"},"Programme d'aide financière pour le compostage domestique et communautaire (ACDC)"]
[null,"16-Montérégie",null,null,null,"Reddition de comptes et partenariats",null,"2021-2022-1",{"$f":"40 & \" %\"","v":"40 %"},"Programme d'aide gouvernementale au transport collectif régional (PAGTCR)"]
[null,"17-Centre-du-Québec",null,null,null,"Santé et sécurité publique","Ajustements","2021-2022-2",{"$f":"50 & \" %\"","v":"50 %"},"Programme d'appui à la lutte contre les changements climatiques en agriculture (PALCCA)","Onglet Évaluation"]
[null,"Québec méridional",null,null,null,"Transports","Agriculture","2022-2023-1",{"$f":"60 & \" %\"","v":"60 %"},"Programme de biomasse forestière résiduelle","Type de document"]
[null,"À l'extérieur du Québec",null,null,null,"Autres","Aménagement du territoire","2022-2023-2",{"$f":"70 & \" %\"","v":"70 %"},"Programme de coopération climatique internationale (PCCI)","Cadre d'évaluation"]
[null,null,null,null,null,null,"Bâtiments et infrastructures","2023-2024-1",{"$f":"80 & \" %\"","v":"80 %"},"Programme de formation continue sur l'utilisation du bois dans la construction","Cadre de suivi d'évaluation préliminaire"]
[null,null,null,null,null,null,"Forêts","2023-2024-2",{"$f":"90 & \" %\"","v":"90 %"},"Programme de récupération et de valorisation des réfrigérateurs et congélateurs domestiques","Rapport d'évaluation"]
[null,"Onglet \"Description\"",null,null,null,null,"Industriel, commercial et institutionnel",null,{"$f":"100 & \" %\"","v":"100 %"},"Programme de soutien à la promotion de l'électrification des transports","Résultats"]
[null,"Clientèle","État d'avancement","Moyens","Finalité","COVID","Océan, fleuve ou cours d'eau",null,null,"Programme de soutien à la réalisation de projets de démonstration de taxis électriques"]
[null,"Citoyens","Nouvelle","Encadrement légal (politiques, stratégies, codes, réglementations, etc.)","Adaptation aux effets des changements climatiques","Aucun changement prévu","Politiques et gestion",null,null,"Programme de soutien à l'intégration de l'adaptation aux changements climatiques à la planification municipale (PIACC)","Type d'évaluation"]
[null,"Entreprises (grandes entreprises)","En cours","Innovation, recherche et développement","Réduction des émissions de gaz à effet de serre","Diminution des coûts prévus","Services à la population",null,null,"Programme de soutien au déploiement des autobus scolaires électriques au Québec","En cours d'action"]
[null,"Entreprises (petites ou moyennes entreprises)","Complétée","Réalisation (programmes et subventions favorisant l'exécution de solutions établies)","Réduction et adaptation","Augmentation des coûts prévus","Suivi de l'état de l'environnement",null,null,"Programme de soutien aux essais de fertilisation","Lorsque l'action est terminée"]
[null,"Établissements de recherche","Inactive","Sensibilisation, formation et promotion","Coordination","L'augmentation prévue du coûts des projets rend le budget 2013-2020 insuffisant pour garantir la réalisation de tous les projets entamés","Autres",null,null,"Programme de soutien aux municipalités dans la mise en place d'infrastructures de gestion durable des eaux de pluie à la source"]
[null,"Ministères et organismes gouvernementaux","Abandonnée",null,null,"moins d'un mois",null,null,null,"Programme de subventions à l’adaptation des taxis et des autocars interurbains pour le transport des personnes se déplaçant en fauteuil roulant"]
[null,"Municipalités et organismes municipaux",null,null,null,"de 1 à 6 mois",null,null,null,"Programme de traitement des matières organiques par biométhanisation et compostage (PTMOBC)","Recommandation"]
[null,"Organismes à but non lucratif",null,null,null,"de 7 à 12 mois",null,null,null,"Programme de vitrine technologique pour les bâtiments et les solutions innovantes en bois","Reconduire"]
[null,null,null,null,null,"plus de 12 mois",null,null,null,"Programme d'innovation en construction bois","Ne pas reconduire"]
[null,null,null,null,null,"Aucun changement","Risques",null,null,"Programme ÉcoPerformance","Voir commentaire ci-dessous"]
[null,null,null,null,null,"Retards prévus, mais les engagements seront tous pris avant le 31 décembre 2020","Biodiversité",null,null,"Programme Prime-Vert 2013-2018","Objectifs initiaux"]
[null,null,null,null,null,"Retards prévus et les engagements ne pourront pas tous être pris avant le 31 décembre 2020","Économie",null,null,"Programme Roulez vert","Oui"]
[null,null,null,null,null,"Les échéanciers pourront être devancés","Environnement",null,null,"Programme Technoclimat","Partiellement"]
[null,null,null,null,null,"Des cibles pourraient être atteintes avant les délais prévus","Ressources naturelles",null,null,"Programme visant à rendre les établissements d'enseignement écoresponsables","Non"]
[null,null,null,null,null,"Toutes les cibles devraient être atteintes dans les délais prévus","Santé et sécurité publique",null,null,"Programme visant la réduction des émissions de GES par le développement du transport intermodal (PREGTI)"]
[null,null,null,null,null,"Toutes les cibles devraient être atteintes avec certains retards","Services à la population",null,null,"Programme visant la réduction, la récupération et le recyclage des matières organiques du secteur des industries, commerces et institutions (ICI)"]
[]
[null,null,null,null,null,"Aucune cible ne pourra être atteinte",null,null,null,"Autre programme"]
[]
[]
[null,null,null,null,null,null,"Effets des changements climatiques"]
[null,null,null,null,null,null,"Dégradation d'écosystèmes"]
[null,null,null,null,null,null,"Dégradation du pergélisol"]
[null,null,null,null,null,null,"Intensification de l'érosion"]
[null,null,null,null,null,null,"Exacerbation des aléas naturels"]
[null,null,null,null,null,null,"Intensification des îlots de chaleur"]
[null,null,null,null,null,null,"Modifications des régimes hydriques, de vagues ou de glaces"]
[null,null,null,null,null,null,"Modifications des régimes de précipitations"]
[null,null,null,null,null,null,"Propagation de maladies ou d'espèces nuisibles"]
[null,null,null,null,null,null,"Qualité de l'air"]
[null,null,null,null,null,null,"Tous les effets"]
[null,null,null,null,null,null,"Autres"]
[]
[]
[]
[]
[]
[]
[]
[]
[]
[null,null,null,null,null,null,null,null,null,null,"Onglet de la fiche"]
[null,null,null,null,null,null,null,null,null,null,"Accueil"]
[null,null,null,null,null,null,null,null,null,null,"Administration"]
[null,null,null,null,null,null,null,null,null,null,"Description"]
[null,null,null,null,null,null,null,null,null,null,"Détail des projets"]
[null,null,null,null,null,null,null,null,null,null,"GES"]
[null,null,null,null,null,null,null,null,null,null,"Adaptation"]
[null,null,null,null,null,null,null,null,null,null,"Indicateurs"]
[null,null,null,null,null,null,null,null,null,null,"Commentaires"]
[]
[]
[]
[]
[]
[]
[]
[]
[]
[]
[]
[]
[]
[]
[]
[]
[]
[]
[]
[]
[]
[]
[]
[]
[]
[]
[]
[]
[]
[]
[]
[]
[]
[]
[]
[]
[]
[]
[]
[]
[]
[]
[]
[]
[]
[]
[]
[]
[]
[]
[]
[]
[]
[]
[]
[]
[]
[]
[]
[]
[]
[]
[]
[]
[]
[]
[]
[]
[]
[]
[]
[]
[]
[]
[]
[]
[]
[]
[]
[]
[]
[]
[]
[]
[]
[]
[]
[]
[]
[]
[]
[]
[]
[]
[]
[]
[]
[]
[]
[]
[]
[]
[]
[]
[]
[]
[]
[]
[]
[]
[]
[]
[]
[]
[]
[]
[]
[]
[]
[]
[]
[]
[]
[]
[]
[]
[]
[]
[]
[]
[]
[]
[]
[]
[]
[]
[null,"ONGLET INDICATEURS: Liste des statuts de l'action"]
[null,null,"2013-2014","2014-2015","2015-2016","2016-2017","2017-2018","2018-2019","2019-2020","2020-2021","2021-2022","2022-2023","2023-2024","2024-2025","2025-2026","2026-2027","2027-2028","2026-2029"]
[null,"Valeurs actuelles",{"$f":"IF(C228=$G$7,IF(Accueil!$D$58<>$C$239,Accueil!$D$58,IF(ISBLANK(C230),B230,C230)),C230)","v":"non démarrée"},{"$f":"IF(D228=$G$7,IF(Accueil!$D$58<>$C$239,Accueil!$D$58,IF(ISBLANK(D230),C230,D230)),D230)","v":"non démarrée"},{"$f":"IF(E228=$G$7,IF(Accueil!$D$58<>$C$239,Accueil!$D$58,IF(ISBLANK(E230),D230,E230)),E230)","v":"non démarrée"},{"$f":"IF(F228=$G$7,IF(Accueil!$D$58<>$C$239,Accueil!$D$58,IF(ISBLANK(F230),E230,F230)),F230)","v":"non démarrée"},{"$f":"IF(G228=$G$7,IF(Accueil!$D$58<>$C$239,Accueil!$D$58,IF(ISBLANK(G230),F230,G230)),G230)","v":"non démarrée"},{"$f":"IF(H228=$G$7,IF(Accueil!$D$58<>$C$239,Accueil!$D$58,IF(ISBLANK(H230),G230,H230)),H230)","v":"non démarrée"},{"$f":"IF(I228=$G$7,IF(Accueil!$D$58<>$C$239,Accueil!$D$58,IF(ISBLANK(I230),H230,I230)),I230)","v":"non démarrée"},{"$f":"IF(J228=$G$7,IF(Accueil!$D$58<>$C$239,Accueil!$D$58,IF(ISBLANK(J230),I230,J230)),J230)","v":"non démarrée"},{"$f":"IF(K228=$G$7,IF(Accueil!$D$58<>$C$239,Accueil!$D$58,IF(ISBLANK(K230),J230,K230)),K230)","v":"non démarrée"},{"$f":"IF(L228=$G$7,IF(Accueil!$D$58<>$C$239,Accueil!$D$58,IF(ISBLANK(L230),K230,L230)),L230)","v":"en cours"},{"$f":"IF(M228=$G$7,IF(Accueil!$D$58<>$C$239,Accueil!$D$58,IF(ISBLANK(M230),L230,M230)),M230)","v":0},{"$f":"IF(N228=$G$7,IF(Accueil!$D$58<>$C$239,Accueil!$D$58,IF(ISBLANK(N230),M230,N230)),N230)","v":0},{"$f":"IF(O228=$G$7,IF(Accueil!$D$58<>$C$239,Accueil!$D$58,IF(ISBLANK(O230),N230,O230)),O230)","v":0},{"$f":"IF(P228=$G$7,IF(Accueil!$D$58<>$C$239,Accueil!$D$58,IF(ISBLANK(P230),O230,P230)),P230)","v":0},{"$f":"IF(Q228=$G$7,IF(Accueil!$D$58<>$C$239,Accueil!$D$58,IF(ISBLANK(Q230),P230,Q230)),Q230)","v":0},{"$f":"IF(R228=$G$7,IF(Accueil!$D$58<>$C$239,Accueil!$D$58,IF(ISBLANK(R230),Q230,R230)),R230)","v":0}]
[null,"Valeurs précédentes","non démarrée","non démarrée","non démarrée","non démarrée","non démarrée","non démarrée","non démarrée","non démarrée","non démarrée"]
[]
[]
[null,"IdStatutAction","codeStatutAction","valeurStatutAction","rangStatut"]
[null,1,{"$f":"I18","v":"non démarrée"},0,1]
[null,2,{"$f":"I19","v":"en élaboration"},0,2]
[null,3,"en cours",0.5,3]
[null,4,"terminée",1,4]
[null,5,"en suspens",0,5]
[null,6,"Retirée du PACC",0,6]

{"sheet":"Accueil","index":1,"n_rows":85,"n_cols":11,"rows_kept":85,"cut":false,"hidden":false,"merged":[[1,4,2,12],[67,1,67,2],[57,1,57,2],[31,1,31,9],[66,3,66,6],[66,8,66,9],[66,1,66,2],[65,3,65,6],[53,4,53,11],[53,1,53,2],[55,3,55,11],[64,3,64,6],[65,10,65,11],[64,10,64,11],[57,3,57,11],[66,10,66,11],[65,1,65,2],[65,8,65,9],[62,3,62,4],[64,1,64,2],[62,1,62,2],[58,3,58,11],[64,8,64,9],[58,1,58,2],[30,1,30,12],[55,1,55,2],[31,10,31,12],[51,1,51,2],[52,1,52,2],[54,4,54,11],[51,4,51,11],[52,4,52,11],[56,1,56,2],[56,3,56,10],[49,1,49,12],[4,1,5,12],[54,1,54,2],[29,1,29,12],[24,1,24,12],[22,1,22,12],[9,1,9,12],[26,1,26,12],[21,1,21,12],[16,1,16,12],[14,1,14,12],[15,1,15,12],[23,1,23,12],[25,1,25,12],[18,1,18,12],[20,1,20,11],[17,1,17,12],[72,10,72,11],[69,0,71,0],[68,1,68,12],[71,10,71,11],[69,1,69,2],[71,8,71,9],[70,1,70,2],[71,1,71,2],[71,3,71,6],[69,10,69,11],[70,8,70,9],[69,3,69,6],[70,3,70,6],[69,8,69,9],[70,10,70,11],[84,1,84,12],[13,1,13,2],[13,3,13,4],[28,1,28,12],[85,1,87,12],[72,1,72,2],[74,3,74,11],[74,1,74,2],[73,1,73,2],[76,11,76,12],[67,3,67,6],[73,3,73,11],[67,8,67,9],[67,10,67,11],[72,3,72,6],[72,8,72,9]]}
[]
[null,null,null,null,"EXERCICE DE SUIVI DU PLAN D'ACTION 2013-2020 SUR LES CHANGEMENTS CLIMATIQUES"]
[]
[]
[]
[]
[]
[]
[]
[null,"Bienvenue dans votre fiche de suivi du FECC - Gestion des matières résiduelles"]
[]
[]
[]
[null,"Échéance de transmission :",null,"2022-06-14"]
[null,"Nouveautés pour l’exercice de suivi de mai 2020 "]
[null,"RAPPEL :"]
[null,"* Fin du PACC : Les conventions de subventions se rapportant aux engagements saisis à SAGIR sont maintenant signées."]
[null,"* Fin du PACC : Les projets réalisés à l'interne dans vos organisations doivent se terminer avant le 31 décembre 2022"]
[null,"* Fin du PACC : Vous devez compléter l'onglet Évaluation."]
[null,"Consignes générales :"]
[null,"→Les informations doivent correspondre à l'avancement de l'action en date du 31 mars 2022."]
[null,"→Assurez-vous de valider votre fiche (onglet Validation) avant de la transmettre à l’adresse suivante :  suivi.climatique@environnement.gouv.qc.ca"]
[null,"→Toute information confidentielle doit être saisie en bleu."]
[null,"→Conservez la fiche en format xlsm afin de pouvoir profiter des outils conviviaux."]
[null,"→La plupart des cellules contenant du texte sont limitées à 250 caractères."]
[]
[null,"→Copier-coller des informations à partir d’un document Word verrouille les cellules concernées. Pour pouvoir à nouveau écrire et modifier le  format de ces cellules, fermez et ouvrez à nouveau la fiche."]
[]
[null,"→Besoin d’assistance? Écrivez-nous à l’adresse suivante en précisant votre question et vos coordonnées : suivi.climatique@environnement.gouv.qc.ca"]
[]
[]
[null,null,null,null,null,null,null,null,null,null,"suivi.climatique@environnement.gouv.qc.ca"]
[]
[]
[]
[]
[]
[]
[]
[]
[]
[]
[]
[]
[]
[]
[]
[]
[]
[null,"Veuillez vérifier, corriger et compléter les informations ci-dessous :"]
[]
[null,"Priorité :",null,"20","Favoriser les énergies renouvelables et l'efficacité énergétique dans les bâtiments résidentiels, commerciaux et institutionnels"]
[null,"Action :",null,"20.1","Conversion et efficacité énergétique dans les bâtiments commerciaux et institutionnels (ÉcoPerformance)"]
[null,"Sous-action :",null,20.100000000000001,""]
[null,"Libellé usuel :",null,"20.1","Conversion et efficacité énergétique dans les bâtiments commerciaux et institutionnels (Écoperformance)"]
[null,"Programme :",null,"Programme ÉcoPerformance"]
[null,"Nom du programme :"]
[null,"Statut de l’action :",null,"en cours"]
[null,"Raison du statut de l’action :"]
[]
[]
[]
[null,"Informations en date du :",null,{"$f":"Utilitaire!G6","v":"2022-03-31"}]
[]
[null,"Ministère porteur :",null,"MERN (SITE)",null,null,null,null,"Direction responsable :",null,"DG opérations et innovation"]
[null,"Partenaires :",null,"S.O.",null,null,null,null,"Part de financement par le FECC :",null,"Variable"]
[null,"Budget 2013-2020 (M$) :",null,114.08,null,null,null,null,"Autres sources de financement :",null,"Fonds pour une économie à faibles émissions de carbone (fédéral) et Plan budgétaire 2019-2020"]
[null,"Date de lancement de l’action :",null,"2013-10-28",null,null,null,null,"Date de fin de l’action :",null,"2024-10-31"]
[null,"Section réservée à l’usage exclusif du BECC (lignes 70 à 73 non publiées)"]
[null,"Chargé de projet :",null,"Guy Desbiens",null,null,null,null,"Tél. :",null,"418 627-6379, poste 708016"]
[null,"Responsable ministériel :",null,"Dominique Deschênes",null,null,null,null,"Tél. :",null,"418 627-6379, poste 708088"]
[null,"Personne ressource pour le BECC :",null,"Guy Desbiens",null,null,null,null,"Tél. :",null,"418-627-6379 (708016)"]
[null,"Estimation des sommes résiduelles au \n31 décembre 2020 ($) :",null,0,null,null,null,null,"Précisions sur le montant des sommes résiduelles :",null,"s"]
[null,"Téléphone pour informations :",null,"1 866 266-0008"]
[null,"Référence Web :",null,"https://www.environnement.gouv.qc.ca/ministere/fonds-electrification-changements-climatiques/index.htm"]
[]
[]
[]
[]
[]
[]
[]
[]
[]
[null,"Ministère de l'Énergie et des Ressources naturelles (Sous-Ministère associé de l'Innovation et de la Transition Energétique)"]

{"sheet":"Description","index":2,"n_rows":198,"n_cols":14,"rows_kept":198,"cut":false,"hidden":false,"merged":[[1,1,1,6],[18,1,18,2],[18,3,18,4],[18,5,18,14],[14,1,14,14],[15,1,15,2],[15,3,15,4],[15,5,15,14],[16,1,16,2],[16,3,16,4],[16,6,16,14],[17,1,17,2],[17,3,17,4],[17,6,17,14],[2,1,2,2],[3,2,3,6],[5,1,5,6],[1,8,1,9],[1,11,1,12],[1,13,1,14],[2,8,5,14],[4,1,4,2],[4,3,4,6],[41,1,41,14],[52,1,52,14],[53,7,53,8],[162,1,162,8],[162,9,162,11],[162,12,162,14],[158,1,158,8],[158,9,158,11],[158,12,158,14],[159,1,159,8],[159,9,159,11],[159,12,159,14],[156,1,156,8],[156,9,156,11],[156,12,156,14],[157,1,157,8],[157,9,157,11],[157,12,157,14],[154,1,154,8],[154,9,154,11],[154,12,154,14],[155,1,155,8],[152,1,152,8],[152,9,152,11],[163,1,163,8],[163,9,163,11],[163,12,163,14],[160,1,160,8],[160,9,160,11],[160,12,160,14],[161,1,161,8],[161,9,161,11],[161,12,161,14],[152,12,152,14],[153,1,153,8],[153,9,153,11],[153,12,153,14],[150,1,150,8],[150,9,150,11],[150,12,150,14],[151,1,151,8],[151,9,151,11],[151,12,151,14],[148,1,148,8],[148,9,148,11],[148,12,148,14],[149,1,149,8],[149,9,149,11],[149,12,149,14],[146,1,146,8],[146,9,146,11],[146,12,146,14],[147,1,147,8],[147,9,147,11],[147,12,147,14],[144,1,144,8],[144,9,144,11],[144,12,144,14],[145,1,145,8],[145,9,145,11],[145,12,145,14],[142,1,142,8],[142,9,142,11],[142,12,142,14],[143,1,143,8],[143,9,143,11],[143,12,143,14],[140,1,140,8],[140,9,140,11],[140,12,140,14],[141,1,141,8],[141,9,141,11],[141,12,141,14],[138,1,138,8],[138,9,138,11],[138,12,138,14],[139,1,139,8],[139,9,139,11],[139,12,139,14],[136,1,136,8],[136,9,136,11],[136,12,136,14],[137,1,137,8],[137,9,137,11],[137,12,137,14],[134,1,134,8],[134,9,134,11],[134,12,134,14],[135,1,135,8],[135,9,135,11],[135,12,135,14],[132,1,132,8],[132,9,132,11],[132,12,132,14],[133,1,133,8],[133,9,133,11],[133,12,133,14],[130,1,130,8],[130,9,130,11],[130,12,130,14],[131,1,131,8],[131,9,131,11],[131,12,131,14],[128,1,128,8],[128,9,128,11],[128,12,128,14],[129,1,129,8],[129,9,129,11],[129,12,129,14],[126,1,126,8],[126,9,126,11],[126,12,126,14],[127,1,127,8],[127,9,127,11],[127,12,127,14],[124,1,124,8],[124,9,124,11],[124,12,124,14],[125,1,125,8],[125,9,125,11],[125,12,125,14],[122,1,122,8],[122,9,122,11],[122,12,122,14],[123,1,123,8],[123,9,123,11],[123,12,123,14],[120,1,120,8],[120,9,120,11],[120,12,120,14],[121,1,121,8],[121,9,121,11],[121,12,121,14],[118,1,118,8],[118,9,118,11],[118,12,118,14],[119,1,119,8],[119,9,119,11],[119,12,119,14],[116,1,116,8],[116,9,116,11],[116,12,116,14],[117,1,117,8],[117,9,117,11],[117,12,117,14],[114,1,114,8],[114,9,114,11],[114,12,114,14],[115,1,115,8],[115,9,115,11],[115,12,115,14],[112,1,112,8],[112,9,112,11],[112,12,112,14],[113,1,113,8],[113,9,113,11],[113,12,113,14],[110,1,110,8],[110,9,110,11],[110,12,110,14],[111,1,111,8],[111,9,111,11],[111,12,111,14],[108,1,108,8],[108,9,108,11],[108,12,108,14],[109,1,109,8],[109,9,109,11],[109,12,109,14],[106,1,106,8],[106,9,106,11],[106,12,106,14],[107,1,107,8],[107,9,107,11],[107,12,107,14],[104,1,104,8],[104,9,104,11],[104,12,104,14],[105,1,105,8],[105,9,105,11],[105,12,105,14],[102,1,102,8],[102,9,102,11],[102,12,102,14],[103,1,103,8],[103,9,103,11],[103,12,103,14],[100,1,100,8],[100,9,100,11],[100,12,100,14],[101,1,101,8],[101,9,101,11],[101,12,101,14],[98,1,98,8],[98,9,98,11],[98,12,98,14],[99,1,99,8],[99,9,99,11],[99,12,99,14],[96,1,96,8],[96,9,96,11],[96,12,96,14],[97,1,97,8],[97,9,97,11],[97,12,97,14],[94,1,94,8],[94,9,94,11],[94,12,94,14],[95,1,95,8],[95,9,95,11],[95,12,95,14],[92,1,92,8],[92,9,92,11],[92,12,92,14],[93,1,93,8],[93,9,93,11],[93,12,93,14],[90,1,90,8],[90,9,90,11],[90,12,90,14],[91,1,91,8],[91,9,91,11],[91,12,91,14],[88,1,88,8],[88,9,88,11],[88,12,88,14],[89,1,89,8],[89,9,89,11],[89,12,89,14],[86,1,86,8],[86,9,86,11],[86,12,86,14],[87,1,87,8],[87,9,87,11],[87,12,87,14],[84,1,84,8],[84,9,84,11],[84,12,84,14],[85,1,85,8],[85,9,85,11],[85,12,85,14],[82,12,82,14],[83,1,83,8],[83,9,83,11],[83,12,83,14],[176,1,176,8],[176,9,176,11],[176,12,176,14],[173,1,173,8],[173,9,173,11],[173,12,173,14],[174,1,174,8],[174,9,174,11],[174,12,174,14],[175,1,175,8],[175,9,175,11],[175,12,175,14],[180,1,180,8],[180,9,180,11],[180,12,180,14],[177,1,177,8],[177,9,177,11],[177,12,177,14],[178,1,178,8],[178,9,178,11],[178,12,178,14],[179,1,179,8],[179,9,179,11],[179,12,179,14],[184,1,184,8],[184,9,184,11],[184,12,184,14],[181,1,181,8],[181,9,181,11],[181,12,181,14],[182,1,182,8],[182,9,182,11],[182,12,182,14],[183,1,183,8],[183,9,183,11],[183,12,183,14],[172,1,172,8],[172,9,172,11],[172,12,172,14],[169,1,169,8],[169,9,169,11],[169,12,169,14],[170,1,170,8],[170,9,170,11],[170,12,170,14],[171,1,171,8],[171,9,171,11],[171,12,171,14],[167,1,167,8],[167,9,167,11],[167,12,167,14],[168,1,168,8],[168,9,168,11],[168,12,168,14],[165,1,165,8],[165,9,165,11],[165,12,165,14],[166,1,166,8],[166,9,166,11],[166,12,166,14],[77,1,77,8],[78,1,78,8],[78,9,78,11],[78,12,78,14],[79,1,79,8],[79,9,79,11],[79,12,79,14],[82,1,82,8],[82,9,82,11],[80,1,80,8],[80,9,80,11],[80,12,80,14],[81,1,81,8],[81,9,81,11],[81,12,81,14],[74,1,74,8],[74,9,74,11],[74,12,74,14],[75,1,75,8],[75,9,75,11],[75,12,75,14],[76,1,76,8],[76,9,76,11],[76,12,76,14],[43,2,43,14],[46,2,46,14],[47,2,47,14],[48,2,48,14],[50,2,50,14],[67,1,67,8],[64,9,64,11],[65,9,65,11],[66,9,66,11],[63,12,63,14],[64,1,64,8],[65,1,65,8],[66,1,66,8],[53,2,53,6],[53,9,53,14],[72,12,72,14],[186,1,186,8],[187,1,187,8],[68,1,68,8],[68,9,68,11],[68,12,68,14],[69,1,69,8],[69,9,69,11],[69,12,69,14],[186,12,186,14],[187,12,187,14],[72,1,72,8],[70,1,70,8],[70,9,70,11],[70,12,70,14],[71,1,71,8],[71,9,71,11],[71,12,71,14],[73,1,73,8],[73,9,73,11],[73,12,73,14],[164,1,164,8],[164,9,164,11],[164,12,164,14],[188,1,188,8],[185,1,185,8],[185,9,185,11],[185,12,185,14],[61,1,61,14],[62,1,62,8],[62,9,62,11],[62,12,62,14],[63,1,63,8],[188,12,188,14],[63,9,63,11],[186,9,186,11],[187,9,187,11],[188,9,188,11],[67,12,67,14],[64,12,64,14],[65,12,65,14],[66,12,66,14],[77,9,77,11],[77,12,77,14],[67,9,67,11],[155,9,155,11],[155,12,155,14],[72,9,72,11],[196,13,196,14],[194,3,194,12],[194,13,194,14],[200,1,200,2],[200,3,200,12],[200,13,200,14],[201,3,201,12],[199,3,199,12],[198,3,198,12],[197,3,197,12],[196,3,196,12],[195,3,195,12],[201,13,201,14],[199,13,199,14],[198,13,198,14],[197,13,197,14],[195,13,195,14],[40,1,40,4],[40,5,40,8],[194,1,194,2],[201,1,201,2],[199,1,199,2],[198,1,198,2],[197,1,197,2],[196,1,196,2],[195,1,195,2],[193,1,193,14],[49,2,49,14],[42,2,42,14],[44,1,45,1],[44,2,44,3],[44,4,44,5],[44,6,44,8],[44,9,44,11],[44,12,44,14],[45,2,45,3],[45,4,45,5],[45,6,45,8],[45,9,45,11],[45,12,45,14],[189,1,189,14]]}
[]
[null,{"$f":"Utilitaire!E8","v":"Plan d'action 2013-2020 sur les changements climatiques"}]
[null,{"$f":"\"Action \" & Accueil!D58","v":"Action en cours"}]
[null,{"$f":"Accueil!D55","v":"20.1"},{"$f":"Accueil!E55","v":"Conversion et efficacité énergétique dans les bâtiments commerciaux et institutionnels (Écoperformance)"}]
[null,"Ministère porteur :",null,{"$f":"Accueil!$D$65","v":"MERN (SITE)"}]
[null,"Description"]
[]
[]
[]
[]
[]
[]
[]
[]
[null,"Évaluation des effets de la COVID-19 sur la mise en œuvre de l'action"]
[null,"Résultats attendus : "]
[null,"Échéancier : "]
[null,"Sommes engagées \n(projets en cours) :"]
[null,"Autres : "]
[]
[]
[]
[]
[]
[]
[]
[]
[]
[]
[]
[]
[]
[]
[]
[]
[]
[]
[]
[]
[]
[null,"Informations en date du :",null,null,null,"2022-03-31"]
[null,"Informations générales"]
[null,"Description de l'action: ","ÉcoPerformance est un programme d'aide financière pour des projets d'efficacité énergétique et de conversion. Il vise à réduire les émissions de gaz à effet de serre (GES) et la consommation énergétique des bâtiments commerciaux et institutionnels par le financement de projets ou de mesures liés à la consommation d'énergie.\nUne des finalités du programme ÉcoPerformance est l'appui financier qui entraîne l'implantation de mesures d'efficacité énergétique dans les bâtiments commerciaux et institutionnels. Le Programme soutient également le recours à l'hydroélectricité et aux énergies émergentes dans les nouveaux bâtiments ainsi que la conversion de systèmes de chauffage fonctionnant aux combustibles fossiles vers ces formes d'énergie. Les énergies émergentes, sources d'énergie renouvelable peu ou pas utilisées sur le marché québécois, sont par exemple : l'énergie solaire, éolienne, hydrolienne, marémotrice, la géothermie, l'aérothermie, l'hydrogène, la bioénergie, etc.\n"]
[null,"Objectif de l'action:","Le Programme se divise en deux volets : le volet Analyse et le volet Implantation.\nLe volet Analyse a pour objectif d'identifier et de quantifier les mesures potentielles d'économies de combustible fossile et de réductions d'émissions de GES ainsi que les coûts pour les instaurer. Il permet également l'implantation d'un système de gestion de l'énergie. L'objectif de celui-ci est de soutenir financièrement les organisations souhaitant mettre en place un système de gestion de l'énergie afin d'améliorer leur efficacité énergétique et de réduire leurs émissions de GES.\nLe volet Implantation a pour objectif de soutenir financièrement des projets permettant de réduire ultimement les émissions de GES, soit des projets d'efficacité énergétique, de réduction des émissions de GES ou de conversion à des sources d'énergie émergentes ou à l'hydroélectricité (à l'exception des projets de conversion à la biomasse forestière résiduelle qui sont couverts par un autre programme).\n"]
[null,"Bénéficiaires : ","Entreprises (grandes entreprises)",null,"Entreprises (petites ou moyennes entreprises)",null,"Établissements de recherche",null,null,"Municipalités et organismes municipaux",null,null,"Organismes à but non lucratif"]
[null,null,"Autres (précisez) : "]
[null,"Critères d'admissibilité : ","Un projet admissible doit d'abord permettre une réduction quantifiable des émissions de GES et peut contenir plusieurs mesures. \n\nFormulaire de demande signé par le participant, plan de projet et plan de surveillance signés par un ingénieur sont les documents minimaux requis pour présenter une demande.\n\nLes demandes sont analysées, en fonction de leurs dates de dépôt, par un chargé de programme pour ensuite être soumises à l'approbation des autorités de TEQ."]
[null,"Processus de suivi de l'action :","L'action est suivie de manière continuelle. Le budget est suivi hebdomadairement, par l'émission d'un suivi budgétaire hebdomadaire. Ce suivi compare les engagements dans SAGIR, avec les budgets prévus, ainsi que les données fournies par la base de données de suivi du programme ÉcoPerformance.\n\nLe suivi de la mise en œuvre des projets est fait en continu par les chargés de programme. La mise en fonction des projets est le moment à partir duquel les déclarations de réductions des émissions de gaz à effet de serre sont comptabilisées. Les réductions sont comptabilisées pour la période d'engagement des participants, tant que les projets sont maintenus.\n\nUne reddition de comptes est faite au ministère de l'Environnement et de la Lutte contre les changements climatiques (MELCC) sur la base de deux rapports annuels."]
[null,"Résultats et co-bénéfices attendus :","Les résultats directs attendus sont l'économie d'énergie, la réduction des émissions de GES, des investissements importants dans les secteurs commercial et institutionnel, la création d'emplois et une amélioration soutenue de la performance des secteurs commercial et institutionnel au Québec.\nDe façon générale, en efficacité énergétique, il y a la création de quatorze emplois par million de dollars investis\nLes autres avantages ou co-bénéfices attendus de l'action sont de faire appel à des sources d'énergie émergentes ou l'hydroélectricité, de permettre de faire des choix d'équipements plus performants lors de nouveaux projets. Également, l'action permet de transformer le marché et de dynamiser les interventions dans le secteur commercial et institutionnel. Plusieurs analyses permettront aux organisations de se conscientiser sur leur consommation énergétique et de prendre action pour améliorer leur performance."]
[null,"Résultats et co-bénéfices obtenus dans la dernière année :"]
[null,"Résultats et co-bénéfices obtenus depuis le lancement de l'action :","En date du 31 mars 2022, 126 analyses et 478 projets d'implantation ont été acceptés par le ministre, pour une réduction annuelle potentielle de 126,5 kt de CO2, nécessitant des investissements de 283,5 M$ grâce à des aides financières de 87,7 M$ pour un coût moyen de l'aide financière de 33,80 $/t sur la durée de vie des équipements (20,5 ans). Ces investissements entraîneraient la création de 3 969 emplois."]
[]
[null,"Classification"]
[null,"Finalité :","Réduction des émissions de gaz à effet de serre",null,null,null,null,"Moyen :",null,"Réalisation (programmes et subventions favorisant l'exécution de solutions établies)"]
[]
[]
[]
[]
[]
[]
[]
[null,"Mise en œuvre "]
[null,"Étapes (depuis le début de l'action)",null,null,null,null,null,null,null,"Échéancier",null,null,"État d'avancement"]
[1,"Élaboration du programme",null,null,null,null,null,null,null,null,null,null,"Complétée"]
[2,"Approbation du Conseil du trésor",null,null,null,null,null,null,null,"2013-10-23",null,null,"Complétée"]
[3,"Lancement du Programme ",null,null,null,null,null,null,null,"2013-10-28",null,null,"Complétée"]
[4,"Signature de l'entente administrative avec le MDDELCC ",null,null,null,null,null,null,null,"2014-03-14",null,null,"Complétée"]
[5,"Mise en suspens du Programme ",null,null,null,null,null,null,null,"2014-09-01",null,null,"Complétée"]
[6,"Le MERN présente ses programmes à la Commission sur la révision permanente des programmes",null,null,null,null,null,null,null,"2014-11-01",null,null,"Complétée"]
[null,"Mise à jour économique allouant 85 M$ de plus à la priorité",null,null,null,null,null,null,null,"2014-12-01",null,null,"Complétée"]
[8,"Ouverture du programme à de nouvelles demandes d'aide financière",null,null,null,null,null,null,null,"2015-10-01",null,null,"Complétée"]
[9,"Enveloppe budgétaire d'engagement pour 20.1 est atteint pour la période 2013-2017",null,null,null,null,null,null,null,"2016-06-01",null,null,"Complétée"]
[null,"Approbation des cibles des Annexes III par le MDDELCC",null,null,null,null,null,null,null,"2016-12-01",null,null,"Complétée"]
[null,"Sanction du projet de loi no 106, concernant la création de TEQ",null,null,null,null,null,null,null,"2016-12-01",null,null,"Complétée"]
[null,"Le programme est sous la responsabilité de TEQ",null,null,null,null,null,null,null,"2017-04-01",null,null,"Complétée"]
[null,"Le cadre normatif a été modifié et approuvé par le Conseil d'administration de TEQ",null,null,null,null,null,null,null,"2018-01-31",null,null,"Complétée"]
[null,"Le gouvernement fédéral annonce une contribution de 138,28 M$ au programme ÉcoPerformance. De cette somme, un montant de 34,4 M$ est alloué à l'action 20.1 et vise les commerces et institutions.",null,null,null,null,null,null,null,"2017-12-07",null,null,"En cours"]
[null,"Le cadre normatif a été modifié et approuvé par le Conseil d'administration de TEQ ",null,null,null,null,null,null,null,"2018-01-31",null,null,"Complétée"]
[null,"Obtention de financement additionnel de 27,7 M$ dans le Budget 2019-2020 du Gouvernement du Québec ",null,null,null,null,null,null,null,"2019-03-27",null,null,"Complétée"]
[null,"Révision et adoption du cadre normatif révisé par le conseil d'administration de TEQ",null,null,null,null,null,null,null,"2019-06-01",null,null,"Complétée"]
[null,"Entrée en vigueur de la Loi visant principalement la gouvernance efficace de la lutte contre les changements climatiques et à favoriser l'électrification",null,null,null,null,null,null,null,"2020-11-01",null,null,"Complétée"]
[]
[]
[]
[]
[]
[]
[]
[]
[]
[]
[]
[]
[]
[]
[]
[]
[]
[]
[]
[]
[]
[]
[]
[]
[]
[]
[]
[]
[]
[]
[]
[]
[]
[]
[]
[]
[]
[]
[]
[]
[]
[]
[]
[]
[]
[]
[]
[]
[]
[]
[]
[]
[]
[]
[]
[]
[]
[]
[]
[]
[]
[]
[]
[]
[]
[]
[]
[]
[]
[]
[]
[]
[]
[]
[]
[]
[]
[]
[]
[]
[]
[]
[]
[]
[]
[]
[]
[]
[]
[]
[]
[]
[]
[]
[]
[]
[]
[]
[]
[]
[]
[]
[]
[]
[]
[]
[]
[]
[null,"Ajouter une ligne"]
[]
[]
[]
[null,"Plans, stratégies ou politiques incluant la mise en œuvre de cette action"]
[null,"Abréviation",null,"Nom complet",null,null,null,null,null,null,null,null,null,"Numéro de mesure"]
[null,"FEFEC 2018-2023",null,"Fonds du Leadership pour une économie à faibles émissions en carbone du gouvernement du Canada"]
[null,"PACC 2013-2020",null,"Plan d'action 2013-2020 sur les changements climatiques",null,null,null,null,null,null,null,null,null,"20,1"]
[null,"Plan directeur",null,"Plan directeur en transition, innovation et efficacité énergétiques 2018-2023",null,null,null,null,null,null,null,null,null,"64, 67.2, 141"]

{"sheet":"Détail des projets","index":3,"n_rows":664,"n_cols":28,"rows_kept":664,"cut":false,"hidden":false,"merged":[[22,10,23,10],[663,1,663,4],[14,1,14,4],[21,1,21,6],[22,2,23,2],[22,5,23,5],[661,1,661,4],[22,4,23,4],[22,1,23,1],[22,3,23,3],[660,1,660,9],[22,6,23,6],[22,7,23,7],[662,1,662,4],[22,9,23,9],[22,8,23,8],[22,27,23,27],[22,11,23,11],[22,26,23,26],[21,14,21,25],[22,13,23,13],[22,12,23,12],[18,3,18,5],[18,6,18,8],[1,1,1,6],[1,8,1,10],[1,25,1,27],[2,8,5,27],[1,22,1,24],[3,2,3,6],[2,1,2,2],[5,1,5,6],[4,2,4,6]]}
[]
[null,{"$f":"Utilitaire!E8","v":"Plan d'action 2013-2020 sur les changements climatiques"}]
[null,{"$f":"\"Action \" & Accueil!D58","v":"Action en cours"}]
[null,{"$f":"Accueil!D55","v":"20.1"},{"$f":"Accueil!E55","v":"Conversion et efficacité énergétique dans les bâtiments commerciaux et institutionnels (Écoperformance)"}]
[null,"Ministère porteur :",{"$f":"Accueil!$D$65","v":"MERN (SITE)"}]
[null,"Détails et prévisions des dépenses par projet"]
[]
[]
[]
[]
[]
[]
[]
[]
[]
[]
[]
[]
[null,null,null,"Informations en date du :",null,null,"2022-03-31"]
[]
[]
[null,"DÉTAILS DES PROJETS AUTORISÉS",null,null,null,null,null,null,null,null,null,null,null,null,"MONTANTS PROVENANT DU FECC ($)",null,null,null,null,null,null,null,null,null,null,null,{"$f":"MONTH(#REF!)","v":{"$error":"#REF!"}}]
["No","Nom du projet","Nom du requérant ou du bénéficiaire","Volet ou thématique","Catégorie","Nombre de projets","Région administrative","Municipalité","Statut","Classification du projet","Montant engagé ($)","Date de l'engagement","Date du dernier versement","Budget total du projet ($)","2013-2014","2014-2015","2015-2016","2016-2017","2017-2018","2018-2019","2019-2020","2020-2021","2021-2022","2022-2023","2023-2024","2024-2025","MONTANT DES DÉPENSES RÉELLES ($)","TOTAL DES DÉPENSES RÉELLES ET PRÉVUES ($)"]
[null,null,null,null,null,null,null,null,null,null,"(convention signée, contrat, lettre de confirmation du ministre ou de son représentant ou lettre d'octroi)",null,null,null,"Réel","Réel","Réel","Réel","Réel","Réel","Réel","Réel","Réel","Prévu","Prévu","Prévu"]
[1,"Implantation de diverses mesures d'efficacité énergétique au Collège Servite (D-686).","Collège Servite","Implantation","Bâtiment",1,"05-Estrie","Stanstead-Est","TE","SU",87905.46,"2014-02-21","2014-04-01",300163,null,87905.46,null,null,null,null,null,null,null,null,null,null,{"$f":"SUM(O25:W25)","v":87905.46},{"$f":"SUM(O25:Z25)","v":87905.46}]
[2,"Ville de Montréal lot 12","Ville de Montréal","Analyse","Bâtiment",1,"06-Montréal","Montréal","TE","SU",45000,"2014-02-21","2015-03-19",78277.89,null,39138.94,null,null,null,null,null,null,null,null,null,null,{"$f":"SUM(O26:W26)","v":39138.94},{"$f":"SUM(O26:Z26)","v":39138.94}]
[3,"Système de récupération d'énergie des gaz de combustion","CCUM, s.e.c.","Implantation","Bâtiment",1,"06-Montréal","Montréal","TE","SU",1207275.48,"2014-05-23","2015-04-01",2405313,null,301818.87,905456.61,null,null,null,null,null,null,null,null,null,{"$f":"SUM(O27:W27)","v":1207275.48},{"$f":"SUM(O27:Z27)","v":1207275.48}]
[4,"Récupération des gaz de combustion par refroidissement mécanique","CCUM, s.e.c.","Analyse","Bâtiment",1,"06-Montréal","Montréal","TE","SU",5500,"2018-06-19T09:28:13","2019-05-09",22000,null,null,null,null,null,2750,2750,null,null,null,null,null,{"$f":"SUM(O28:W28)","v":5500},{"$f":"SUM(O28:Z28)","v":5500}]
[5,"Metro Vaudreuil-Dorion","Métro Richelieu inc.","Implantation","Bâtiment",1,"16-Montérégie","Vaudreuil-Dorion","TE","SU",81291.199999999997,"2014-06-09","2015-03-30",85832,null,52123.71,null,null,null,null,null,null,null,null,null,null,52123.71,52123.71]
[6,"Étude énergétique de système de production de vapeur et des systèmes thermiques de l'établissement","CSSS de Memphrémagog","Analyse","Bâtiment",1,"05-Estrie","Magog","TE","SU",10000,"2014-06-05","2014-12-04",22500,null,10000,null,null,null,null,null,null,null,null,null,null,10000,10000]
[7,"Super C Canon (Saint-Canut)","Métro Richelieu inc.","Implantation","Bâtiment",1,"15-Laurentides","Mirabel","TE","SU",47643.26,"2014-07-02","2014-04-01",130603,null,47643.26,null,null,null,null,null,null,null,null,null,null,47643.26,47643.26]
[8,"Changement des chaudières au 2055 Saint-Mathieu à Montréal","Entreprise Agostino inc.","Analyse","Bâtiment",1,"06-Montréal","Montréal","TE","SU",9250,"2014-07-07","2014-10-16",18500,null,9250,null,null,null,null,null,null,null,null,null,null,9250,9250]
[9,"Changement des chaudières à l'immeuble 2055 Saint-Mathieu","Entreprise Agostino inc.","Implantation","Bâtiment",1,"06-Montréal","Montréal","TE","SU",247068.74,"2016-03-23","2016-04-01",490000,null,null,null,247068.74,null,null,null,null,null,null,null,null,247068.74,247068.74]
[10,"Analyse énergétique à l'École des Prés-Verts","Centre de services scolaire des Hautes-Rivières","Analyse","Bâtiment",1,"16-Montérégie","Saint-Jean-sur-Richelieu","TE","SU",6150,"2014-07-09","2014-09-23",12300,null,6150,null,null,null,null,null,null,null,null,null,null,6150,6150]
[11,"Analyse énergétique à l'École Aux-Quatre-Vents","Centre de services scolaire des Hautes-Rivières","Analyse","Bâtiment",1,"16-Montérégie","Saint-Jean-sur-Richelieu","TE","SU",5950,"2014-07-09","2014-09-23",11900,null,5950,null,null,null,null,null,null,null,null,null,null,5950,5950]
[12,"Modernisation de la chaufferie","Centre de services scolaire de Saint-Hyacinthe","Analyse","Bâtiment",1,"16-Montérégie","Saint-Marcel-de-Richelieu","TE","SU",2500,"2014-07-09","2014-10-02",5000,null,2500,null,null,null,null,null,null,null,null,null,null,2500,2500]
[13,"École Savio - Conversion du mazout vers l'électricité","Centre de services scolaire des Appalaches","Implantation","Bâtiment",1,"05-Estrie","Stratford","TE","SU",33831.56,"2014-07-18","2014-04-01",94721,null,33831.56,null,null,null,null,null,null,null,null,null,null,33831.56,33831.56]
[14,"École Marguerite-Bourgeoys - Étude de faisabilité détaillée pour l'implantation de mesures d'efficacité énergétique","Centre de services scolaire des Hautes-Rivières","Analyse","Bâtiment",1,"16-Montérégie","Saint-Jean-sur-Richelieu","TE","SU",4750,"2014-07-18","2014-11-28",14144.73,null,4447.87,null,null,null,null,null,null,null,null,null,null,4447.87,4447.87]
[15,"Remplacement du système de réfrigération et récupération de chaleur","Ville de Sherbrooke","Implantation","Bâtiment",1,"05-Estrie","Sherbrooke","TE","SU",0,"2019-07-24T16:05:14","2019-04-01",207341,null,null,null,null,null,null,null,null,null,null,null,null,0,0]
[16,"Conversion des équipements à l'électricité et installation des équipements requis","Pourvoirie Mirage inc.","Implantation","Bâtiment",1,"08-Abitibi-Témiscamingue","Poularies","TE","SU",1051941.06,"2015-10-02","2017-05-08",1945000,null,null,262985.26,525970.52,262985.28000000003,null,null,null,null,null,null,null,1051941.06,1051941.06]
[17,"Centre St-Edmond - Étude de faisabilité détaillée pour l'implantation de mesures d'efficacité énergétique","Centre de services scolaire des Hautes-Rivières","Analyse","Bâtiment",1,"16-Montérégie","Saint-Jean-sur-Richelieu","TE","SU",5100,"2014-07-07","2014-12-05",285900,null,5034.54,null,null,null,null,null,null,null,null,null,null,5034.54,5034.54]
[18,"Édifice Wellington-Eddy - Étude visant à identifier des mesures d'efficacité énergétique possibles et à évaluer leur faisabilité technique et économique","8697841 Canada inc.","Analyse","Bâtiment",1,"07-Outaouais","Gatineau","TE","SU",6650,"2014-07-02","2015-02-24",13300,null,6650,null,null,null,null,null,null,null,null,null,null,6650,6650]
[19,"Édifice Wellington-Eddy -  Implantation de mesures d'efficacité énergétique","8697841 Canada inc.","Implantation","Bâtiment",1,"07-Outaouais","Gatineau","TE","SU",227209.59,"2015-06-09","2015-05-05",975000,null,null,227209.59,null,null,null,null,null,null,null,null,null,227209.59,{"$f":"SUM(O43:Z43)","v":227209.59}]
[20,"Hôpital de Notre-Dame-du-Lac","Centre de santé et de services sociaux de Témiscouata","Analyse","Bâtiment",1,"01-Bas-Saint-Laurent","Témiscouata-sur-le-Lac","TE","SU",25000,"2014-07-09","2015-03-30",69164,null,25000,null,null,null,null,null,null,null,null,null,null,25000,{"$f":"SUM(O44:Z44)","v":25000}]
[21,"Projet d'implantation de mesures d'efficacité énergétique","Centre intégré de santé et de services sociaux du Bas-Saint-Laurent","Implantation","Bâtiment",1,"01-Bas-Saint-Laurent","Témiscouata-sur-le-Lac","TE","SU",48869.14,"2016-06-20","2018-04-01",1881734,null,null,null,12217.28,12217.28,24434.58,null,null,null,null,null,null,48869.14,{"$f":"SUM(O45:Z45)","v":48869.14}]
[22,"Conversion des équipements à l'électricité et installation des équipements requis","Pourvoirie Domaine Lounan","Implantation","Bâtiment",1,"15-Laurentides","Mont-Saint-Michel","TE","SU",323369.56068262499,"2015-09-18","2017-03-06",523839,null,null,161684.78,122340.13,null,null,null,null,null,null,null,null,284024.91000000003,{"$f":"SUM(O46:Z46)","v":284024.91000000003}]
[23,"Remplacement d'une chaudière mazout léger par une chaudière électrique.","Corporation du service de recherche et d'expertise en transformation des produits forestiers de l'Est du Québec (SEREX)","Implantation","Bâtiment",1,"01-Bas-Saint-Laurent","Amqui","TE","SU",17001.89,"2014-07-08","2014-04-01",23150,null,16761.89,null,null,null,null,null,null,null,null,null,null,16761.89,{"$f":"SUM(O47:Z47)","v":16761.89}]
[24,"Agrandissement École Saint-Laurent","Centre de service scolaire Marguerite -Bourgeoys","Implantation","Bâtiment",1,"06-Montréal","Montréal","TE","SU",48664.54,"2014-07-02","2016-03-31",132380,null,36498.42,-1662,null,null,null,null,null,null,null,null,null,34836.42,{"$f":"SUM(O48:Z48)","v":34836.42}]
[25,"Pavillons C1 et C2 - Implantation de mesures en efficacité énergétique","Université de Sherbrooke","Implantation","Bâtiment",1,"05-Estrie","Sherbrooke","TE","SU",360615.44,"2015-02-18","2016-05-30",663696,null,270461.58,null,-10097.17,null,null,null,null,null,null,null,null,260364.41,{"$f":"SUM(O49:Z49)","v":260364.41}]
[26,"Projet d'efficacité énergétique et intégration d'une boucle géothermique - Pavillon C3","Université de Sherbrooke","Implantation","Bâtiment",1,"05-Estrie","Sherbrooke","TE","SU",176272.48,"2018-04-27T14:30:33","2018-04-01",440000,null,null,null,null,null,176272.48,null,null,null,null,null,null,176272.48,{"$f":"SUM(O50:Z50)","v":176272.48}]
[27,"Conversion des équipements à l'électricité","9147-4882 Québec inc. (Auberge du 31)","Implantation","Bâtiment",1,"02-Saguenay--Lac-Saint-Jean","Saguenay","TE","SU",265421.65625,"2015-09-18","2015-04-01",517769,null,null,225653.05,null,null,null,null,null,null,null,null,null,225653.05,{"$f":"SUM(O51:Z51)","v":225653.05}]
[28,"Projet d'efficacité énergétique - Centre d'hébergement de Gracefield","Centre de santé et de services sociaux de la Vallée-de-la-Gatineau","Implantation","Bâtiment",1,"07-Outaouais","Gracefield","TE","SU",149393.17000000001,"2014-07-09","2015-04-01",595602,null,37348.29,112044.88,null,null,null,null,null,null,null,null,null,{"$f":"SUM(O52:W52)","v":149393.17000000001},{"$f":"SUM(O52:Z52)","v":149393.17000000001}]
[29,"Analyse des mesures d'économies d'énergie","Cégep du Vieux Montréal","Analyse","Bâtiment",1,"06-Montréal","Montréal","TE","SU",25000,"2014-09-16","2015-03-24",115052,null,25000,null,null,null,null,null,null,null,null,null,null,{"$f":"SUM(O53:W53)","v":25000},{"$f":"SUM(O53:Z53)","v":25000}]
[30,"Implantation de mesures d'efficacité énergétique au Cégep du Vieux Montréal","Cégep du Vieux Montréal","Implantation","Bâtiment",1,"06-Montréal","Montréal","TE","SU",535986.36,"2016-07-25","2018-04-01",1305984,null,null,null,133996.59,267993.18,133996.59,null,null,null,null,null,null,{"$f":"SUM(O54:W54)","v":535986.36},{"$f":"SUM(O54:Z54)","v":535986.36}]
[31,"Analyse des mesures d'économies d'énergie à l’hôpital Saint-François d’Assise","CHU de Québec","Analyse","Bâtiment",1,"03-Capitale-Nationale","Québec","TE","SU",25000,"2014-07-15","2015-02-25",259889,null,25000,null,null,null,null,null,null,null,null,null,null,{"$f":"SUM(O55:W55)","v":25000},{"$f":"SUM(O55:Z55)","v":25000}]
[32,"Projet d'implantation de mesures d'efficacité énergétique à l'Hôpital Saint-François d'Assise","CHU de Québec - Université Laval","Implantation","Bâtiment",1,"03-Capitale-Nationale","Québec","TE","SU",2032576.27,"2016-01-11","2018-04-01",5417543,null,null,508144.07,508144.07,508144.07,508144.06,null,null,null,null,null,null,{"$f":"SUM(O56:W56)","v":2032576.27},{"$f":"SUM(O56:Z56)","v":2032576.27}]
[33,"Analyse énergétique chez CFP Brome - Boucherie","Centre de services scolaire du Val-des-Cerfs","Analyse","Bâtiment",1,"05-Estrie","Cowansville","TE","SU",5006,"2014-07-14","2015-03-30",10012,null,5006,null,null,null,null,null,null,null,null,null,null,{"$f":"SUM(O57:W57)","v":5006},{"$f":"SUM(O57:Z57)","v":5006}]
[34,"Projet d'efficacité énergétique et de modernisation des équipements électro-mécaniques","Propriétés DCV s.e.c.","Analyse","Bâtiment",1,"06-Montréal","Montréal","TE","SU",24600,"2014-07-29","2014-11-12",50000,null,24600,null,null,null,null,null,null,null,null,null,null,{"$f":"SUM(O58:W58)","v":24600},{"$f":"SUM(O58:Z58)","v":24600}]
[35,"Centre Saint-Charles - Récupération chaleur sur système ammoniac","Ville de Montréal","Implantation","Bâtiment",1,"06-Montréal","Montréal","TE","SU",192885.25,"2014-12-10","2015-04-01",456521,null,48221.31,-25615.599999999999,null,null,null,null,null,null,null,null,null,{"$f":"SUM(O59:W59)","v":22605.71},{"$f":"SUM(O59:Z59)","v":22605.71}]
[36,"Réfrigération CO2 avec récupération de chaleur - No 88076 - IGA Saint-Antoine","Sobeys Capital Incorporée","Implantation","Bâtiment",1,"15-Laurentides","Saint-Jérôme","TE","SU",0,"2014-12-03","2014-04-01",45000,null,null,null,null,null,null,null,null,null,null,null,null,{"$f":"SUM(O60:W60)","v":0},{"$f":"SUM(O60:Z60)","v":0}]
[37,"Supermarché Marquis l'Assomption - Réfrigération CO2 et récupération de chaleur","Supermarché Marquis l'Assomption inc.","Implantation","Bâtiment",1,"14-Lanaudière","L'Assomption","TE","SU",159877.36632,"2014-12-10","2015-04-01",185417,null,79938.687919999997,20948.45536,null,null,null,null,null,null,null,null,null,{"$f":"SUM(O61:W61)","v":100887.14327999999},{"$f":"SUM(O61:Z61)","v":100887.14327999999}]
[38,"Projet d’efficacité énergétique à l'Hôtel-Dieu de Roberval","CSSS Domaine-du-Roy","Implantation","Bâtiment",1,"02-Saguenay--Lac-Saint-Jean","Roberval","TE","SU",1513883.57,"2015-01-14","2015-04-01",6669947,null,756941.78,756941.79,null,null,null,null,null,null,null,null,null,{"$f":"SUM(O62:W62)","v":1513883.57},{"$f":"SUM(O62:Z62)","v":1513883.57}]
[39,"Conversion du système de chauffage à la biénergie.","Ville de Montréal","Implantation","Bâtiment",1,"06-Montréal","Montréal","TE","SU",26972.99,"2016-10-27","2018-04-01",58443,null,null,null,6743.25,13486.5,6743.24,null,null,null,null,null,null,{"$f":"SUM(O63:W63)","v":26972.989999999998},{"$f":"SUM(O63:Z63)","v":26972.989999999998}]
[40,"Conversion du système de chauffage au gaz naturel vers l'aérothermie","Collège Sainte-Anne","Implantation","Bâtiment",1,"06-Montréal","Montréal","TE","SU",458179,"2014-11-12","2014-04-01",855700,null,458179,null,null,null,null,null,null,null,null,null,null,{"$f":"SUM(O64:W64)","v":458179},{"$f":"SUM(O64:Z64)","v":458179}]
[41,"Construction d'une ligne électrique","Pourvoirie du Lac Beauregard","Implantation","Bâtiment",1,"15-Laurentides","Mont-Laurier","TE","SU",256696.38,"2015-09-23","2017-05-23",562193,null,null,192522.3,null,35621.339999999997,null,null,null,null,null,null,null,{"$f":"SUM(O65:W65)","v":228143.63999999998},{"$f":"SUM(O65:Z65)","v":228143.63999999998}]
[42,"Rénovation et mise aux normes de l'aréna Roberto-Luongo","Ville de Montréal","Implantation","Bâtiment",1,"06-Montréal","Montréal","TE","SU",159808.34,"2015-02-24","2015-04-01",355113,null,null,147171.99,null,null,null,null,null,null,null,null,null,{"$f":"SUM(O66:W66)","v":147171.99},{"$f":"SUM(O66:Z66)","v":147171.99}]
[43,"No 360 - IGA Longueuil - Réfrigération CO2 avec récupération de chaleur","Sobeys Capital Incorporée","Implantation","Bâtiment",1,"16-Montérégie","Longueuil","TE","SU",0,"2014-12-10","2014-04-01",75000,null,null,null,null,null,null,null,null,null,null,null,null,{"$f":"SUM(O67:W67)","v":0},{"$f":"SUM(O67:Z67)","v":0}]
[44,"Projet d'efficacité énergétique - Pavillon des Sciences","Collège d'enseignement général et professionel de Trois-Rivières","Implantation","Bâtiment",1,"04-Mauricie","Trois-Rivières","TE","SU",611075.68999999994,"2015-03-11","2015-04-01",1733512,null,305537.84999999998,305537.84000000003,null,null,null,null,null,null,null,null,null,{"$f":"SUM(O68:W68)","v":611075.68999999994},{"$f":"SUM(O68:Z68)","v":611075.68999999994}]
[45,"Réfrigération au CO2 avec récupération de chaleur- No 08033 IGA Sainte-Thérèse (Daigle)","Sobeys Capital Incorporée","Implantation","Bâtiment",1,"15-Laurentides","Sainte-Thérèse","TE","SU",0,"2014-12-10","2016-03-29",56250,null,null,null,null,null,null,null,null,null,null,null,null,{"$f":"SUM(O69:W69)","v":0},{"$f":"SUM(O69:Z69)","v":0}]
[46,"Analyse de mesures d'efficacité énergétique","Soltron Realty LP","Analyse","Bâtiment",1,"06-Montréal","Montréal","TE","SU",19000,"2014-09-16","2014-12-08",38000,null,19000,null,null,null,null,null,null,null,null,null,null,{"$f":"SUM(O70:W70)","v":19000},{"$f":"SUM(O70:Z70)","v":19000}]
[47,"Réfrigération au CO2 avec récupération de chaleur - No 8724 - IGA  Ayer's Cliff","Sobeys Capital Incorporée","Implantation","Bâtiment",1,"05-Estrie","Stanstead-Est","TE","SU",0,"2014-12-09","2015-04-01",37500,null,null,null,null,null,null,null,null,null,null,null,null,{"$f":"SUM(O71:W71)","v":0},{"$f":"SUM(O71:Z71)","v":0}]
[48,"Réfrigération CO2 avec récupération de chaleur - No 0444  IGA Saint-Romuald","Sobeys Capital Incorporée","Implantation","Bâtiment",1,"12-Chaudière-Appalaches","Lévis","TE","SU",0,"2014-12-10","2016-03-29",56250,null,null,null,null,null,null,null,null,null,null,null,null,{"$f":"SUM(O72:W72)","v":0},{"$f":"SUM(O72:Z72)","v":0}]
[49,"Réfrigération au CO2 avec récupération de chaleur","Sobeys Capital Incorporée","Implantation","Bâtiment",1,"06-Montréal","Montréal","TE","SU",20677.763639299999,"2015-02-05","2016-03-24",58560,null,15508.321977400001,5169.4416619000003,null,null,null,null,null,null,null,null,null,{"$f":"SUM(O73:W73)","v":20677.763639299999},{"$f":"SUM(O73:Z73)","v":20677.763639299999}]
[50,"Réfrigération CO2 avec récupération de chaleur - No 8187 -  IGA Sainte-Julie","Sobeys Capital Incorporée","Implantation","Bâtiment",1,"16-Montérégie","Sainte-Julie","TE","SU",0,"2014-12-01","2014-04-01",26250,null,null,null,null,null,null,null,null,null,null,null,null,{"$f":"SUM(O74:W74)","v":0},{"$f":"SUM(O74:Z74)","v":0}]
[51,"Projet d'efficacité énergétique - Hôpital de Maniwaki","CSSS Vallée-de-la-Gatineau","Implantation","Bâtiment",1,"07-Outaouais","Maniwaki","TE","SU",465421.59,"2014-12-10","2015-04-01",2384418,null,349066.19,116355.4,null,null,null,null,null,null,null,null,null,{"$f":"SUM(O75:W75)","v":465421.58999999997},{"$f":"SUM(O75:Z75)","v":465421.58999999997}]
[52,"Réfrigération CO2 avec récupération de chaleur (89035)","Sobeys Capital Incorporée","Implantation","Bâtiment",1,"08-Abitibi-Témiscamingue","Témiscaming","TE","SU",0,"2014-12-10","2014-04-01",37500,null,null,null,null,null,null,null,null,null,null,null,null,{"$f":"SUM(O76:W76)","v":0},{"$f":"SUM(O76:Z76)","v":0}]
[53,"Étude spécifique - Nouveau système de ventilation et de récupération d'énergie","Ville de Saint-Jean-sur-Richelieu","Analyse","Bâtiment",1,"16-Montérégie","Saint-Jean-sur-Richelieu","TE","SU",7200,"2015-01-08","2015-03-16",58871.26,null,6435.63,null,null,null,null,null,null,null,null,null,null,{"$f":"SUM(O77:W77)","v":6435.63},{"$f":"SUM(O77:Z77)","v":6435.63}]
[54,"Analyse de mesures d'efficacité énergétique","Centre de services scolaire des Hautes-Rivières","Analyse","Bâtiment",1,"16-Montérégie","Lacolle","TE","SU",6600,"2014-12-22","2015-03-26",77894,null,5447,null,null,null,null,null,null,null,null,null,null,{"$f":"SUM(O78:W78)","v":5447},{"$f":"SUM(O78:Z78)","v":5447}]
[55,"Projet d'efficacité énergétique de l'agrandissement de l'Hôpital du Haut-Richelieu–Rouville","Centre intégré de santé et de services sociaux de la Montérégie-Centre","Implantation","Bâtiment",1,"16-Montérégie","Saint-Jean-sur-Richelieu","TE","SU",371038.83,"2014-09-24","2018-05-17",1096611,null,92759.71,92759.71,null,null,84630.67,null,null,null,null,null,null,{"$f":"SUM(O79:W79)","v":270150.09000000003},{"$f":"SUM(O79:Z79)","v":270150.09000000003}]
[56,"Étude d'efficacité énergétique pour 17 bâtiments","Commission scolaire English-Montréal","Analyse","Bâtiment",1,"06-Montréal","Montréal","TE","SU",149396.5,"2015-02-24","2015-03-31",343537,null,149396.5,null,null,null,null,null,null,null,null,null,null,{"$f":"SUM(O80:W80)","v":149396.5},{"$f":"SUM(O80:Z80)","v":149396.5}]
[57,"Projet d'efficacité énergétique au nouvel hôtel Holiday Inn à Vaudreuil","Les Constructions Robin inc.","Implantation","Bâtiment",1,"16-Montérégie","Vaudreuil-Dorion","TE","SU",33523.230000000003,"2015-01-08","2015-04-01",502219,null,8380.81,24703.46,null,null,null,null,null,null,null,null,null,{"$f":"SUM(O81:W81)","v":33084.269999999997},{"$f":"SUM(O81:Z81)","v":33084.269999999997}]
[58,"Récupération de chaleur de la buanderie et installation d'un mur solaire","Concept Éco-Plein-Air Le Baluchon inc.","Implantation","Bâtiment",1,"04-Mauricie","Saint-Paulin","TE","SU",18508.377087199999,"2015-01-14","2018-08-07",102145,null,null,null,4627.0961295999996,9254.1922591999992,4627.0886983999999,null,null,null,null,null,null,{"$f":"SUM(O82:W82)","v":18508.377087199999},{"$f":"SUM(O82:Z82)","v":18508.377087199999}]
[59,"Récupération de chaleur sur système réfrigération et efficacité énergétique","Ville de Montréal","Implantation","Bâtiment",1,"06-Montréal","Montréal","TE","SU",140141.29999999999,"2016-02-10","2015-04-01",444684,null,null,140141.29999999999,null,null,null,null,null,null,null,null,null,{"$f":"SUM(O83:W83)","v":140141.29999999999},{"$f":"SUM(O83:Z83)","v":140141.29999999999}]
[60,"Étude de faisabilité - Efficacité énergétique dans une buanderie industrielle","Buanderie Laser inc.","Analyse","Bâtiment",1,"06-Montréal","Montréal","TE","SU",7500,"2014-12-16","2015-03-12",15000,null,7500,null,null,null,null,null,null,null,null,null,null,{"$f":"SUM(O84:W84)","v":7500},{"$f":"SUM(O84:Z84)","v":7500}]
[61,"Optimisation de la chaufferie du bâtiment Gregor House","Groupe Accueil International ltée","Implantation","Bâtiment",1,"06-Montréal","Montréal","TE","SU",144315.71,"2015-03-20","2015-04-01",382000,null,36078.927499999998,108236.78,null,null,null,null,null,null,null,null,null,{"$f":"SUM(O85:W85)","v":144315.70749999999},{"$f":"SUM(O85:Z85)","v":144315.70749999999}]
[62,"Remplacement des chaudières au mazout léger par des systèmes électriques zonés","La fabrique de la paroisse de Saint-Charles-de-Grondines","Implantation","Bâtiment",1,"03-Capitale-Nationale","Deschambault-Grondines","TE","SU",59713.2,"2015-02-05","2014-04-01",85973,null,59713.2,null,null,null,null,null,null,null,null,null,null,{"$f":"SUM(O86:W86)","v":59713.2},{"$f":"SUM(O86:Z86)","v":59713.2}]
[63,"Gestion efficace de l'ensemble de la consommation d’énergie et de l’appel de puissance électrique","Le Syndicat des copropriétaires du Laurier de l'Île Paton","Implantation","Bâtiment",1,"13-Laval","Laval","TE","SU",86022.58,"2015-10-29","2015-04-01",123622,null,null,86022.58,null,null,null,null,null,null,null,null,null,{"$f":"SUM(O87:W87)","v":86022.58},{"$f":"SUM(O87:Z87)","v":86022.58}]
[64,"Réfrigération à l'ammoniac avec récupération de chaleur","Complexe sportif scientifique et éducatif Montcalm inc.","Implantation","Bâtiment",1,"14-Lanaudière","Saint-Roch-de-l'Achigan","TE","SU",284234.28000000003,"2016-01-12","2015-04-01",733455,null,null,284234.28000000003,null,null,null,null,null,null,null,null,null,{"$f":"SUM(O88:W88)","v":284234.28000000003},{"$f":"SUM(O88:Z88)","v":284234.28000000003}]
[65,"Réfrigération CO2 avec récupération de chaleur - Phase 1","SportPlex de l'Énergie inc.","Implantation","Bâtiment",1,"16-Montérégie","Varennes","TE","SU",305657.95331920002,"2016-04-28","2016-04-01",615317,null,null,null,305657.95331920002,null,null,null,null,null,null,null,null,{"$f":"SUM(O89:W89)","v":305657.95331920002},{"$f":"SUM(O89:Z89)","v":305657.95331920002}]
[66,"Projet hydroélectrique de 400 kW sur la rivière Brooch","Rébec inc.","Implantation","Bâtiment",1,"09-Côte-Nord","Sept-Îles","TE","SU",1316860.1669999999,"2015-02-18","2020-04-01",2642759,null,null,313538.14,null,313538.14,null,null,689783.88699999999,null,null,null,null,{"$f":"SUM(O90:W90)","v":1316860.1669999999},{"$f":"SUM(O90:Z90)","v":1316860.1669999999}]
[67,"D654J – Projet en efficacité énergétique au Centre d'hébergement de Sainte-Claire","Centre intégré de santé et de services sociaux de Chaudière-Appalaches","Implantation","Bâtiment",1,"12-Chaudière-Appalaches","Sainte-Claire","TE","SU",46321.47,"2015-10-26","2015-04-01",66821,null,null,36314.949999999997,null,null,null,null,null,null,null,null,null,{"$f":"SUM(O91:W91)","v":36314.949999999997},{"$f":"SUM(O91:Z91)","v":36314.949999999997}]
[68,"Réfrigération CO2 avec récupération de chaleur - #8240 - IGA Marché St-Canut","Marché St-Canut inc.","Implantation","Bâtiment",1,"15-Laurentides","Mirabel","TE","SU",0,"2015-06-09","2016-03-24",75000,null,null,null,null,null,null,null,null,null,null,null,null,{"$f":"SUM(O92:W92)","v":0},{"$f":"SUM(O92:Z92)","v":0}]
[69,"Projet d'efficacité énergétique - Centre d'hébergement des Quatre-Temps","Centre intégré universitaire de santé et services sociaux de l'Est-de-l'iÎe-de-Montréal (CIUSSS de l'Est-de-l'Île-de-Montréal )","Implantation","Bâtiment",1,"06-Montréal","Montréal","TE","SU",79372.69,"2016-02-24","2016-04-01",209739,null,null,null,79372.69,null,null,null,null,null,null,null,null,{"$f":"SUM(O93:W93)","v":79372.69},{"$f":"SUM(O93:Z93)","v":79372.69}]
[70,"Habitation 340 Plamondon - Projet d'efficacité énergétique","Office municipal d'habitation de Montréal","Implantation","Bâtiment",1,"06-Montréal","Montréal","TE","SU",232561.02,"2015-12-10","2016-04-01",683107,null,null,58140.25,174420.77,null,null,null,null,null,null,null,null,{"$f":"SUM(O94:W94)","v":232561.02},{"$f":"SUM(O94:Z94)","v":232561.02}]
[71,"Habitation 533 André-Grasset - Projet d'efficacité énergétique","Office municipal d'habitation de Montréal","Implantation","Bâtiment",1,"06-Montréal","Montréal","TE","SU",269302.03999999998,"2016-03-10","2016-04-01",412235,null,null,null,269302.03999999998,null,null,null,null,null,null,null,null,{"$f":"SUM(O95:W95)","v":269302.03999999998},{"$f":"SUM(O95:Z95)","v":269302.03999999998}]
[72,"Étude d'efficacité énergétique visant la récupération de chaleur des refroidisseurs et la géothermie","Aéroport de Québec inc.","Analyse","Bâtiment",1,"03-Capitale-Nationale","Québec","TE","SU",12463.5,"2015-03-09","2015-12-09",24902.880000000001,null,null,12451.44,null,null,null,null,null,null,null,null,null,{"$f":"SUM(O96:W96)","v":12451.44},{"$f":"SUM(O96:Z96)","v":12451.44}]
[73,"Réfrigération au CO2 avec récupération de chaleur","Métro Richelieu inc.","Implantation","Bâtiment",1,"16-Montérégie","La Prairie","TE","SU",22694.2284564,"2015-03-18","2016-04-01",94854,null,5673.5583260000003,5673.5583260000003,11347.1118044,null,null,null,null,null,null,null,null,{"$f":"SUM(O97:W97)","v":22694.2284564},{"$f":"SUM(O97:Z97)","v":22694.2284564}]
[74,"D654O - Hôtel-Dieu de Lévis - Projet d'efficacité énergétique","Centre intégré de santé et de services sociaux de Chaudière-Appalaches","Implantation","Bâtiment",1,"12-Chaudière-Appalaches","Lévis","TE","SU",1418066.2,"2015-11-11","2016-04-01",6266275,null,null,709033.1,709033.1,null,null,null,null,null,null,null,null,{"$f":"SUM(O98:W98)","v":1418066.2},{"$f":"SUM(O98:Z98)","v":1418066.2}]
[75,"Projet efficacité énergétique - D635A - Hôpital Anna-Laberge","Centre intégré de santé et de services sociaux (CISSS) de la Montérégie-Ouest","Implantation","Bâtiment",1,"16-Montérégie","Châteauguay","TE","SU",677420.07000000007,"2015-10-07","2016-04-01",2653517,null,null,338710.04,338710.03,null,null,null,null,null,null,null,null,{"$f":"SUM(O99:W99)","v":677420.07000000007},{"$f":"SUM(O99:Z99)","v":677420.07000000007}]
[76,"UQAC - Récupération des hottes des laboratoires","Université du Québec à Chicoutimi","Implantation","Bâtiment",1,"02-Saguenay--Lac-Saint-Jean","Saguenay","TE","SU",85171.94,"2015-02-18","2015-04-01",116904,null,63878.96,12001.73,null,null,null,null,null,null,null,null,null,{"$f":"SUM(O100:W100)","v":75880.69},{"$f":"SUM(O100:Z100)","v":75880.69}]
[77,"Université du Québec à Chicoutimi – Installation de nouvelles chaudières au gaz naturel au Pavillon principal","Université du Québec à Chicoutimi","Implantation","Bâtiment",1,"02-Saguenay--Lac-Saint-Jean","Saguenay","TE","SU",169462.17,"2018-10-04T14:14:43","2019-10-23",554981,null,null,null,null,null,null,169462.17,null,null,null,null,null,{"$f":"SUM(O101:W101)","v":169462.17},{"$f":"SUM(O101:Z101)","v":169462.17}]
[78,"D654A – Projet en efficacité énergétique au Centre d'hébergement de soins de longue durée Saint-Sylvestre","Centre intégré de santé et de services sociaux de Chaudière-Appalaches","Implantation","Bâtiment",1,"12-Chaudière-Appalaches","Saint-Sylvestre","TE","SU",13926.87,"2015-10-26","2015-04-01",36536,null,null,13926.87,null,null,null,null,null,null,null,null,null,{"$f":"SUM(O102:W102)","v":13926.87},{"$f":"SUM(O102:Z102)","v":13926.87}]
[79,"Projet efficacité énergétique - D635D - Centre d'hébergement de Saint-Rémi","Centre intégré de santé et de services sociaux (CISSS) de la Montérégie-Ouest","Implantation","Bâtiment",1,"16-Montérégie","Saint-Constant","TE","SU",14107.42,"2015-11-02","2015-04-01",47284,null,null,14107.42,null,null,null,null,null,null,null,null,null,{"$f":"SUM(O103:W103)","v":14107.42},{"$f":"SUM(O103:Z103)","v":14107.42}]
[80,"Projet efficacité énergétique - D635B - Centre d’hébergement de Châteauguay","Centre intégré de santé et de services sociaux (CISSS) de la Montérégie-Ouest","Implantation","Bâtiment",1,"16-Montérégie","Châteauguay","TE","SU",342834.39,"2015-11-11","2016-04-01",585100,null,null,171417.2,171417.19,null,null,null,null,null,null,null,null,{"$f":"SUM(O104:W104)","v":342834.39},{"$f":"SUM(O104:Z104)","v":342834.39}]
[81,"Projet efficacité énergétique - D635C - Centre d’hébergement de La Prairie","Centre intégré de santé et de services sociaux (CISSS) de la Montérégie-Ouest","Implantation","Bâtiment",1,"16-Montérégie","La Prairie","TE","SU",107558.68,"2015-11-11","2015-04-01",197389,null,null,107558.68,null,null,null,null,null,null,null,null,null,{"$f":"SUM(O105:W105)","v":107558.68},{"$f":"SUM(O105:Z105)","v":107558.68}]
[82,"Intégration d'un système de gestion énergétique à l'égard d'une conversion partielle de source d'énergie","Syndicat de la copropriété Club Marin III","Implantation","Bâtiment",1,"06-Montréal","Montréal","TE","SU",95627.14,"2015-10-29","2015-04-01",160285,null,null,95627.14,null,null,null,null,null,null,null,null,null,{"$f":"SUM(O106:W106)","v":95627.14},{"$f":"SUM(O106:Z106)","v":95627.14}]
[83,"Modernisation énergétique - 9600 Meilleur","4196236 Canada inc.","Analyse","Bâtiment",1,"06-Montréal","Montréal","TE","SU",10000,"2015-05-14","2015-11-09",20000,null,null,10000,null,null,null,null,null,null,null,null,null,{"$f":"SUM(O107:W107)","v":10000},{"$f":"SUM(O107:Z107)","v":10000}]
[84,"Modernisation énergétique au 6300, avenue du Parc","6300 avenue du Parc inc.","Analyse","Bâtiment",1,"06-Montréal","Montréal","TE","SU",6000,"2015-01-07","2015-06-18",12000,null,null,5500,null,null,null,null,null,null,null,null,null,{"$f":"SUM(O108:W108)","v":5500},{"$f":"SUM(O108:Z108)","v":5500}]
[85,"Centre jeunesse de Montréal édifice DSM - Projet d'économie d'énergie","Centre intégré universitaire de santé et de services sociaux du Centre-Sud-de-l’Île-de-Montréal","Implantation","Bâtiment",1,"06-Montréal","Montréal","TE","SU",63164.54,"2016-04-27","2016-04-01",1424807,null,null,null,63164.54,null,null,null,null,null,null,null,null,{"$f":"SUM(O109:W109)","v":63164.54},{"$f":"SUM(O109:Z109)","v":63164.54}]
[86,"Centre jeunesse de Montréal siège social - Projet d'économie d'énergie","Centre intégré universitaire de santé et de services sociaux du Centre-Sud-de-l’Île-de-Montréal","Implantation","Bâtiment",1,"06-Montréal","Montréal","TE","SU",60870.47,"2016-04-27","2016-04-01",228191,null,null,null,60870.47,null,null,null,null,null,null,null,null,{"$f":"SUM(O110:W110)","v":60870.47},{"$f":"SUM(O110:Z110)","v":60870.47}]
[87,"Centre jeunesse de Montréal Cité des Prairies - Projet d'économie d'énergie","Centre intégré universitaire de santé et de services sociaux du Centre-Sud-de-l’Île-de-Montréal","Implantation","Bâtiment",1,"06-Montréal","Montréal","TE","SU",44807.07,"2016-04-12","2016-04-01",150294,null,null,null,44807.07,null,null,null,null,null,null,null,null,{"$f":"SUM(O111:W111)","v":44807.07},{"$f":"SUM(O111:Z111)","v":44807.07}]
[88,"Centre jeunesse de Montréal édifice Rose-Virginie Pelletier - Projet d'économie d'énergie","Centre intégré universitaire de santé et de services sociaux du Centre-Sud-de-l’Île-de-Montréal","Implantation","Bâtiment",1,"06-Montréal","Montréal","TE","SU",58205.68,"2016-04-27","2016-04-01",268962,null,null,null,58205.68,null,null,null,null,null,null,null,null,{"$f":"SUM(O112:W112)","v":58205.68},{"$f":"SUM(O112:Z112)","v":58205.68}]
[89,"Centre jeunesse de Montréal édifice Décarie - Projet d'économie d'énergie","Centre intégré universitaire de santé et de services sociaux du Centre-Sud-de-l’Île-de-Montréal","Implantation","Bâtiment",1,"06-Montréal","Montréal","TE","SU",48914.81,"2016-04-12","2016-04-01",234379,null,null,null,48914.81,null,null,null,null,null,null,null,null,{"$f":"SUM(O113:W113)","v":48914.81},{"$f":"SUM(O113:Z113)","v":48914.81}]
[90,"Centre jeunesse de Montréal Mont Saint-Antoine - Projet d'économie d'énergie","Centre intégré universitaire de santé et de services sociaux du Centre-Sud-de-l’Île-de-Montréal","Implantation","Bâtiment",1,"06-Montréal","Montréal","TE","SU",94353.18,"2016-04-27","2016-04-01",1050286,null,null,null,94353.18,null,null,null,null,null,null,null,null,{"$f":"SUM(O114:W114)","v":94353.18},{"$f":"SUM(O114:Z114)","v":94353.18}]
[91,"Optimisation du système de réfrigération de l'aréna","Ville de Chambly","Implantation","Bâtiment",1,"16-Montérégie","Chambly","TE","SU",63353.464600500003,"2016-09-01","2019-04-01",163321,null,null,null,15838.367448999999,null,null,42825.545332499998,null,null,null,null,null,{"$f":"SUM(O115:W115)","v":58663.912781499996},{"$f":"SUM(O115:Z115)","v":58663.912781499996}]
[92,"Remplacement des chaudières au mazout léger par des systèmes électriques zonés","La Fabrique de la paroisse de Saint-Eustache","Implantation","Bâtiment",1,"15-Laurentides","Saint-Eustache","TE","SU",126341.25,"2016-02-10","2016-04-01",189477,null,null,null,125607.75,null,null,null,null,null,null,null,null,{"$f":"SUM(O116:W116)","v":125607.75},{"$f":"SUM(O116:Z116)","v":125607.75}]
[93,"Remplacement des chaudières au mazout léger par des systèmes électriques zonés","La Fabrique de la paroisse de Saint-André de La Sarre","Implantation","Bâtiment",1,"08-Abitibi-Témiscamingue","La Sarre","TE","SU",122475,"2016-03-16","2016-04-01",150943,null,null,null,101086.35,null,null,null,null,null,null,null,null,{"$f":"SUM(O117:W117)","v":101086.35},{"$f":"SUM(O117:Z117)","v":101086.35}]
[94,"Analyse pour l'ajout de chauffage et de climatisation pour l'ensemble du pavillon sportif du collège de Maisonneuve","Collège de Maisonneuve","Analyse","Bâtiment",1,"06-Montréal","Montréal","TE","SU",25000,"2016-01-27","2017-02-23",951844,null,null,null,25000,null,null,null,null,null,null,null,null,{"$f":"SUM(O118:W118)","v":25000},{"$f":"SUM(O118:Z118)","v":25000}]
[95,"Implantation de mesures en efficacité énergétique en mode ESE","CIUSSS Saguenay-Lac-Saint-Jean","Implantation","Bâtiment",1,"02-Saguenay--Lac-Saint-Jean","Saguenay","TE","SU",1810843.57,"2016-12-19","2018-04-01",5284554,null,null,null,452710.89,452710.89,905421.79,null,null,null,null,null,null,{"$f":"SUM(O119:W119)","v":1810843.57},{"$f":"SUM(O119:Z119)","v":1810843.57}]
[96,"Remplacement des chaudières au mazout léger par des systèmes électriques zonés","La Fabrique de la paroisse Coeur-Immaculé-de-Marie","Implantation","Bâtiment",1,"05-Estrie","Wotton","TE","SU",78339.28,"2016-02-24","2016-04-01",135632,null,null,null,78339.28,null,null,null,null,null,null,null,null,{"$f":"SUM(O120:W120)","v":78339.28},{"$f":"SUM(O120:Z120)","v":78339.28}]
[97,"Récupération de chaleur sur système de réfrigération","Métro Richelieu inc.","Implantation","Bâtiment",1,"12-Chaudière-Appalaches","Saint-Georges","TE","SU",10072.76,"2017-07-21T10:54:52","2018-04-01",57541,null,null,null,null,null,null,null,null,null,null,null,null,{"$f":"SUM(O121:W121)","v":0},{"$f":"SUM(O121:Z121)","v":0}]
[98,"Conversion partielle du système de chauffage au mazout léger par l'ajout d'une chaudière électrique","La Fabrique de la Paroisse de Sainte-Thérèse-d'Avila","Implantation","Bâtiment",1,"02-Saguenay--Lac-Saint-Jean","Dolbeau-Mistassini","TE","SU",23853,"2016-02-18","2016-04-01",37565,null,null,17889.75,5963.25,null,null,null,null,null,null,null,null,{"$f":"SUM(O122:W122)","v":23853},{"$f":"SUM(O122:Z122)","v":23853}]
[99,"Réfrigération CO2 avec récupération de chaleur (08547)","Sobeys Capital Incorporée","Implantation","Bâtiment",1,"06-Montréal","Montréal","TE","SU",0,"2016-07-29","2016-04-01",56250,null,null,null,null,null,null,null,null,null,null,null,null,{"$f":"SUM(O123:W123)","v":0},{"$f":"SUM(O123:Z123)","v":0}]
[100,"Analyse d'efficacité énergétique dans le but de réduire les gaz à effets de serre","Centre de services scolaire des Hautes-Rivières","Analyse","Bâtiment",1,"16-Montérégie","Saint-Blaise-sur-Richelieu","TE","SU",4250,"2015-12-07","2016-03-15",8500,null,null,4250,null,null,null,null,null,null,null,null,null,{"$f":"SUM(O124:W124)","v":4250},{"$f":"SUM(O124:Z124)","v":4250}]
[101,"Optimisation de la récupération de biogaz","Régie de Gestion des Matières Résiduelles de la Mauricie","Analyse","Bâtiment",1,"04-Mauricie","Saint-Étienne-des-Grès","TE","SU",9980,"2015-12-21","2016-04-27",19960,null,null,4990,4990,null,null,null,null,null,null,null,null,{"$f":"SUM(O125:W125)","v":9980},{"$f":"SUM(O125:Z125)","v":9980}]
[102,"Conversion du système de chauffage au mazout vers l'électricité","La Fabrique de la paroisse de Notre-Dame-de-Bonsecours","Implantation","Bâtiment",1,"07-Outaouais","Montebello","TE","SU",71583,"2016-01-12","2016-11-28",119969,null,null,35791.5,34940.58,null,null,null,null,null,null,null,null,{"$f":"SUM(O126:W126)","v":70732.08},{"$f":"SUM(O126:Z126)","v":70732.08}]
[103,"Projet d’optimisation de la chaufferie au foyer de Havre-Saint-Pierre","CISSS de la Côte-Nord","Implantation","Bâtiment",1,"09-Côte-Nord","Havre-Saint-Pierre","TE","SU",101016.12,"2016-04-27","2018-11-05",209802,null,null,null,50508.06,25254.03,25254.03,null,null,null,null,null,null,{"$f":"SUM(O127:W127)","v":101016.12},{"$f":"SUM(O127:Z127)","v":101016.12}]
[104,"Remplacement d'une chaudière mazout léger par une chaudière électrique","Fabrique de la paroisse de Notre-Dame-de-Lourdes","Implantation","Bâtiment",1,"01-Bas-Saint-Laurent","Mont-Joli","TE","SU",15817.91,"2015-12-14","2018-04-26",30226,null,null,11863.44,null,null,3954.47,null,null,null,null,null,null,{"$f":"SUM(O128:W128)","v":15817.91},{"$f":"SUM(O128:Z128)","v":15817.91}]
[105,"Réfrigération CO2 avec récupération de chaleur (88086)","Sobeys Capital Incorporée","Implantation","Bâtiment",1,"07-Outaouais","Cantley","TE","SU",0,"2016-10-18","2018-08-22",56250,null,null,null,null,null,null,null,null,null,null,null,null,{"$f":"SUM(O129:W129)","v":0},{"$f":"SUM(O129:Z129)","v":0}]
[106,"Conversion du mazout vers des thermopompes électriques","ÉnerProx inc.","Implantation","Bâtiment",1,"17-Centre-du-Québec","Victoriaville","TE","SU",22514.42,"2015-12-04","2018-04-01",41596,null,null,5628.6,null,null,16885.82,null,null,null,null,null,null,{"$f":"SUM(O130:W130)","v":22514.42},{"$f":"SUM(O130:Z130)","v":22514.42}]
[107,"Aréna Henri-Desjardins - Étude en efficacité énergétique","Ville de Baie-Comeau","Analyse","Bâtiment",1,"09-Côte-Nord","Baie-Comeau","TE","SU",9750,"2016-01-14","2016-07-14",19500,null,null,null,9750,null,null,null,null,null,null,null,null,{"$f":"SUM(O131:W131)","v":9750},{"$f":"SUM(O131:Z131)","v":9750}]
[108,"C5464-TRIV Implantation du produit écoAZUR","Le Trois-Rivières (2014) inc.","Implantation","Bâtiment",1,"04-Mauricie","Trois-Rivières","TE","SU",34648.21,"2016-06-09","2016-04-01",62200,null,null,null,34648.21,null,null,null,null,null,null,null,null,{"$f":"SUM(O132:W132)","v":34648.21},{"$f":"SUM(O132:Z132)","v":34648.21}]
[109,"C5465-CAPT Implantation du produit écoAZUR","Le Bouvier inc.","Implantation","Bâtiment",1,"03-Capitale-Nationale","Québec","TE","SU",34648.21,"2016-06-09","2016-04-01",62200,null,null,null,34648.21,null,null,null,null,null,null,null,null,{"$f":"SUM(O133:W133)","v":34648.21},{"$f":"SUM(O133:Z133)","v":34648.21}]
[110,"C5466-CMAD Implantation du produit écoAZUR","Restaurant CAP (2014) inc.","Implantation","Bâtiment",1,"04-Mauricie","Trois-Rivières","TE","SU",34648.21,"2016-06-09","2016-04-01",62200,null,null,null,34648.21,null,null,null,null,null,null,null,null,{"$f":"SUM(O134:W134)","v":34648.21},{"$f":"SUM(O134:Z134)","v":34648.21}]
[111,"C5467-CHLB Implantation du produit écoAZUR","Restaurant Le CHLB inc.","Implantation","Bâtiment",1,"03-Capitale-Nationale","Québec","TE","SU",34648.21,"2016-06-09","2016-04-01",62200,null,null,null,34648.21,null,null,null,null,null,null,null,null,{"$f":"SUM(O135:W135)","v":34648.21},{"$f":"SUM(O135:Z135)","v":34648.21}]
[112,"C5468-CHNY Implantation du produit écoAZUR","Restaurant Le CHNY inc.","Implantation","Bâtiment",1,"12-Chaudière-Appalaches","Lévis","TE","SU",34648.21,"2016-06-09","2016-04-01",62200,null,null,null,34648.21,null,null,null,null,null,null,null,null,{"$f":"SUM(O136:W136)","v":34648.21},{"$f":"SUM(O136:Z136)","v":34648.21}]
[113,"C5469-DNCA Implantation du produit écoAZUR","Restaurant Donnacona (2014) inc.","Implantation","Bâtiment",1,"03-Capitale-Nationale","Donnacona","TE","SU",34648.21,"2016-06-09","2016-04-01",62200,null,null,null,34648.21,null,null,null,null,null,null,null,null,{"$f":"SUM(O137:W137)","v":34648.21},{"$f":"SUM(O137:Z137)","v":34648.21}]
[114,"C5470-DRUM Implantation du produit écoAZUR","Le Drummondvillois (2014) inc.","Implantation","Bâtiment",1,"17-Centre-du-Québec","Drummondville","TE","SU",34648.21,"2016-06-09","2016-04-01",62200,null,null,null,32947.51,null,null,null,null,null,null,null,null,{"$f":"SUM(O138:W138)","v":32947.51},{"$f":"SUM(O138:Z138)","v":32947.51}]
[115,"C5471-DUBG Implantation du produit écoAZUR","Martin Brie inc.","Implantation","Bâtiment",1,"03-Capitale-Nationale","Québec","TE","SU",34648.21,"2016-06-09","2016-04-01",62200,null,null,null,34648.21,null,null,null,null,null,null,null,null,{"$f":"SUM(O139:W139)","v":34648.21},{"$f":"SUM(O139:Z139)","v":34648.21}]
[116,"C5472-FLYS Implantation du produit écoAZUR","Le Flys inc.","Implantation","Bâtiment",1,"03-Capitale-Nationale","Québec","TE","SU",34648.21,"2016-06-09","2016-04-01",62200,null,null,null,34648.21,null,null,null,null,null,null,null,null,{"$f":"SUM(O140:W140)","v":34648.21},{"$f":"SUM(O140:Z140)","v":34648.21}]
[117,"C5473-LZON Implantation du produit écoAZUR","Restaurant Alauzon (2014) inc.","Implantation","Bâtiment",1,"12-Chaudière-Appalaches","Lévis","TE","SU",34648.21,"2016-06-09","2016-04-01",62200,null,null,null,34648.21,null,null,null,null,null,null,null,null,{"$f":"SUM(O141:W141)","v":34648.21},{"$f":"SUM(O141:Z141)","v":34648.21}]
[118,"C5474-NCHT Implantation du produit écoAZUR","Restaurant Neufchâtel inc.","Implantation","Bâtiment",1,"03-Capitale-Nationale","Québec","TE","SU",34648.21,"2016-06-09","2016-04-01",62200,null,null,null,34648.21,null,null,null,null,null,null,null,null,{"$f":"SUM(O142:W142)","v":34648.21},{"$f":"SUM(O142:Z142)","v":34648.21}]
[119,"C5475-STMA Implantation du produit écoAZUR","Le STMA (2014) inc.","Implantation","Bâtiment",1,"12-Chaudière-Appalaches","Sainte-Marie","TE","SU",34648.21,"2016-06-09","2016-04-01",62200,null,null,null,34648.21,null,null,null,null,null,null,null,null,{"$f":"SUM(O143:W143)","v":34648.21},{"$f":"SUM(O143:Z143)","v":34648.21}]
[120,"Analyse de récupération d'énergie au Centre sportif Les 2 Glaces","Ville de Candiac","Analyse","Bâtiment",1,"16-Montérégie","Candiac","TE","SU",4100,"2016-02-02","2016-11-08",9443,null,null,null,4100,null,null,null,null,null,null,null,null,{"$f":"SUM(O144:W144)","v":4100},{"$f":"SUM(O144:Z144)","v":4100}]
[121,"Projet d'économie d'énergie Capial BLF","Capital BLF inc.","Implantation","Bâtiment",1,"03-Capitale-Nationale","Québec","TE","SU",104678.06,"2018-03-16T15:40:48","2018-04-01",214869,null,null,null,null,null,104678.06,null,null,null,null,null,null,{"$f":"SUM(O145:W145)","v":104678.06},{"$f":"SUM(O145:Z145)","v":104678.06}]
[122,"Mise à niveau de l'aréna Francis-Bouillon","Ville de Montréal","Implantation","Bâtiment",1,"06-Montréal","Montréal","TE","SU",137551.91,"2017-05-26","2018-04-01",399272,null,null,null,null,103163.94,8711.4599999999991,null,null,null,null,null,null,{"$f":"SUM(O146:W146)","v":111875.4},{"$f":"SUM(O146:Z146)","v":111875.4}]
[123,"Projet d’efficacité énergétique - Hôpital Sainte-Anne-de-Beaupré","CIUSSS de la Capitale-Nationale","Implantation","Bâtiment",1,"03-Capitale-Nationale","Beaupré","TE","SU",754631.19,"2016-09-14","2018-04-01",2200225,null,null,null,377315.6,188657.8,188657.79,null,null,null,null,null,null,{"$f":"SUM(O147:W147)","v":754631.19},{"$f":"SUM(O147:Z147)","v":754631.19}]
[124,"Réfrigération CO2 avec récupération de chaleur (000259)","Sobeys Capital Incorporée","Implantation","Bâtiment",1,"06-Montréal","Montréal","TE","SU",0,"2016-12-13","2018-04-12",56250,null,null,null,null,null,null,null,null,null,null,null,null,{"$f":"SUM(O148:W148)","v":0},{"$f":"SUM(O148:Z148)","v":0}]
[125,"Étude de faisabilité - Efficacité énergétique dans un supermarché","L'Inter Marché","Analyse","Bâtiment",1,"06-Montréal","Montréal","TE","SU",2500,"2016-01-15","2016-03-14",5000,null,null,2500,null,null,null,null,null,null,null,null,null,{"$f":"SUM(O149:W149)","v":2500},{"$f":"SUM(O149:Z149)","v":2500}]
[126,"Rallongement de ligne électrique pour le relais routier","Société de développement de la Baie-James","Analyse","Bâtiment",1,"10-Nord-du-Québec","Matagami","TE","SU",25350,"2016-02-10","2016-04-01",31650,null,null,12675,3150,null,null,null,null,null,null,null,null,{"$f":"SUM(O150:W150)","v":15825},{"$f":"SUM(O150:Z150)","v":15825}]
[127,"Conversion partielle du système de chauffage au mazout à un système de chauffage biénergie à l’électricité, zoné, et au mazout","Municipalité du Canton de Saint-Camille","Implantation","Bâtiment",1,"05-Estrie","Saint-Camille","TE","SU",38775.08,"2016-02-19","2016-04-01",55800,null,null,null,38775.08,null,null,null,null,null,null,null,null,{"$f":"SUM(O151:W151)","v":38775.08},{"$f":"SUM(O151:Z151)","v":38775.08}]
[128,"Centre Hébergement Alphonse Bonenfant Projet d'efficacité énergétique","CIUSSS de la Capitale-Nationale","Implantation","Bâtiment",1,"03-Capitale-Nationale","Saint-Pierre-de-l'Île-d'Orléans","TE","SU",42132.020000000004,"2016-06-20","2018-04-01",78909,null,null,null,10533,21066,10533.02,null,null,null,null,null,null,{"$f":"SUM(O152:W152)","v":42132.020000000004},{"$f":"SUM(O152:Z152)","v":42132.020000000004}]
[129,"Conversion du système de chauffage au mazout léger vers un système électrique - École Jacques Rocheleau","Centre de services scolaire des Patriotes","Implantation","Bâtiment",1,"16-Montérégie","Saint-Basile-le-Grand","TE","SU",138365.16,"2016-07-25","2019-03-14",234240,null,null,null,34591.29,null,-22996.01,null,null,null,null,null,null,{"$f":"SUM(O153:W153)","v":11595.280000000002},{"$f":"SUM(O153:Z153)","v":11595.280000000002}]
[130,"Projet d'efficacité énergétique-École L'Arpège","Centre de services scolaire des Patriotes","Implantation","Bâtiment",1,"16-Montérégie","Sainte-Julie","TE","SU",9489.5300000000007,"2016-06-29","2018-04-01",38666,null,null,null,2372.38,4744.76,2372.39,null,null,null,null,null,null,{"$f":"SUM(O154:W154)","v":9489.5300000000007},{"$f":"SUM(O154:Z154)","v":9489.5300000000007}]
[131,"Conversion du système de chauffage au mazout léger vers un système électrique - École Le Rucher","Centre de services scolaire des Patriotes","Implantation","Bâtiment",1,"16-Montérégie","Sainte-Julie","TE","SU",63110.74,"2016-07-29","2018-04-01",302115,null,null,null,15777.68,null,47333.06,null,null,null,null,null,null,{"$f":"SUM(O155:W155)","v":63110.74},{"$f":"SUM(O155:Z155)","v":63110.74}]
[132,"Conversion du système de chauffage au mazout léger vers un système électrique - École de l'Odyssée","Centre de services scolaire des Patriotes","Implantation","Bâtiment",1,"16-Montérégie","Saint-Amable","TE","SU",39250.730000000003,"2016-06-27","2018-04-01",169043,null,null,null,9812.68,null,29438.05,null,null,null,null,null,null,{"$f":"SUM(O156:W156)","v":39250.729999999996},{"$f":"SUM(O156:Z156)","v":39250.729999999996}]
[133,"Conversion du système de chauffage au mazout léger vers un système électrique - École Au-Fil-de-l'Eau (pavillon Desrochers)","Centre de services scolaire des Patriotes","Implantation","Bâtiment",1,"16-Montérégie","Mont-Saint-Hilaire","TE","SU",37770.230000000003,"2016-06-27","2018-04-01",83817,null,null,null,9442.56,18885.12,9442.5499999999993,null,null,null,null,null,null,{"$f":"SUM(O157:W157)","v":37770.229999999996},{"$f":"SUM(O157:Z157)","v":37770.229999999996}]
[134,"Conversion du système de chauffage au mazout léger vers un système électrique - École Louis-Hippolyte-Lafontaine","Centre de services scolaire des Patriotes","Implantation","Bâtiment",1,"16-Montérégie","Boucherville","TE","SU",117454.54,"2016-08-01","2018-04-01",169606,null,null,null,29363.64,null,88090.9,null,null,null,null,null,null,{"$f":"SUM(O158:W158)","v":117454.54},{"$f":"SUM(O158:Z158)","v":117454.54}]
[135,"Conversion du système de chauffage au mazout léger vers un système électrique - École Ludger-Duvernay","Centre de services scolaire des Patriotes","Implantation","Bâtiment",1,"16-Montérégie","Verchères","TE","SU",102577.82,"2016-07-29","2018-04-01",172095,null,null,null,25644.46,51288.92,25644.44,null,null,null,null,null,null,{"$f":"SUM(O159:W159)","v":102577.82},{"$f":"SUM(O159:Z159)","v":102577.82}]
[136,"Projet d'efficacité énergétique - École secondaire Mont-Bruno","Centre de services scolaire des Patriotes","Implantation","Bâtiment",1,"16-Montérégie","Saint-Bruno-de-Montarville","TE","SU",98594.086500000005,"2016-08-16","2020-04-01",434804,null,null,null,23474.78,null,null,null,75119.306500000006,null,null,null,null,{"$f":"SUM(O160:W160)","v":98594.086500000005},{"$f":"SUM(O160:Z160)","v":98594.086500000005}]
[137,"Conversion partielle du système de chauffage au mazout léger vers un système électrique - École De la Broquerie","Centre de services scolaire des Patriotes","Implantation","Bâtiment",1,"16-Montérégie","Boucherville","TE","SU",93502.090000000011,"2016-08-16","2018-04-01",151290,null,null,null,23375.52,null,70126.570000000007,null,null,null,null,null,null,{"$f":"SUM(O161:W161)","v":93502.090000000011},{"$f":"SUM(O161:Z161)","v":93502.090000000011}]
[138,"Conversion du système de chauffage au mazout léger vers un système électrique - École Notre-Dame 1","Centre de services scolaire des Patriotes","Implantation","Bâtiment",1,"16-Montérégie","Otterburn Park","TE","SU",115632.81,"2016-08-16","2018-04-01",221495,null,null,null,28908.2,57816.4,28908.21,null,null,null,null,null,null,{"$f":"SUM(O162:W162)","v":115632.81},{"$f":"SUM(O162:Z162)","v":115632.81}]
[139,"Conversion du système de chauffage au mazout léger vers un système électrique - École Notre-Dame 2","Centre de services scolaire des Patriotes","Implantation","Bâtiment",1,"16-Montérégie","Otterburn Park","TE","SU",104711.75,"2016-08-16","2018-04-01",191313,null,null,null,26177.94,52355.88,26177.93,null,null,null,null,null,null,{"$f":"SUM(O163:W163)","v":104711.75},{"$f":"SUM(O163:Z163)","v":104711.75}]
[140,"Conversion du système de chauffage au mazout léger vers un système électrique - École de l'Envolée","Centre de services scolaire des Patriotes","Implantation","Bâtiment",1,"16-Montérégie","Saint-Amable","TE","SU",102099.68,"2016-08-16","2018-04-01",168826,null,null,null,25524.92,null,76574.759999999995,null,null,null,null,null,null,{"$f":"SUM(O164:W164)","v":102099.68},{"$f":"SUM(O164:Z164)","v":102099.68}]
[141,"Projet d'efficacité énergétique - École Ozias-Leduc","Centre de services scolaire des Patriotes","Implantation","Bâtiment",1,"16-Montérégie","Mont-Saint-Hilaire","TE","SU",77861.87,"2016-08-16","2018-04-01",142047,null,null,null,19465.47,38930.94,19465.46,null,null,null,null,null,null,{"$f":"SUM(O165:W165)","v":77861.87},{"$f":"SUM(O165:Z165)","v":77861.87}]
[142,"Conversion du système de chauffage au mazout léger vers un système électrique - École Père-Marquette","Centre de services scolaire des Patriotes","Implantation","Bâtiment",1,"16-Montérégie","Boucherville","TE","SU",197590.61,"2016-08-16","2018-04-01",506455,null,null,null,49397.65,null,108622.22,null,null,null,null,null,null,{"$f":"SUM(O166:W166)","v":158019.87},{"$f":"SUM(O166:Z166)","v":158019.87}]
[143,"Projet d'efficacité énergétique - École De Mortagne","Centre de services scolaire des Patriotes","Implantation","Bâtiment",1,"16-Montérégie","Boucherville","TE","SU",694013.58,"2016-08-16","2018-04-01",1040482,null,null,null,173503.4,null,510830.93,null,null,null,null,null,null,{"$f":"SUM(O167:W167)","v":684334.33},{"$f":"SUM(O167:Z167)","v":684334.33}]
[144,"Projet d'efficacité énergétique - École secondaire Polybel","Centre de services scolaire des Patriotes","Implantation","Bâtiment",1,"16-Montérégie","Beloeil","TE","SU",419693.84,"2016-08-16","2018-04-01",627640,null,null,null,104923.46,104923.46,126596.67,null,null,null,null,null,null,{"$f":"SUM(O168:W168)","v":336443.59},{"$f":"SUM(O168:Z168)","v":336443.59}]
[145,"Conversion du système de chauffage au mazout léger vers un système électrique - École des Trois-Temps","Centre de services scolaire des Patriotes","Implantation","Bâtiment",1,"16-Montérégie","Saint-Marc-sur-Richelieu","TE","SU",105646.2,"2016-08-16","2018-04-01",201500,null,null,null,26411.55,52823.1,26411.55,null,null,null,null,null,null,{"$f":"SUM(O169:W169)","v":105646.2},{"$f":"SUM(O169:Z169)","v":105646.2}]
[146,"Conversion du système de chauffage au mazout léger vers un système électrique - École de Salaberry","Centre de services scolaire des Patriotes","Implantation","Bâtiment",1,"16-Montérégie","Chambly","TE","SU",171239.54,"2016-08-16","2019-05-21",263135,null,null,null,42809.88,85619.76,null,-11130.07,null,null,null,null,null,{"$f":"SUM(O170:W170)","v":117299.56999999998},{"$f":"SUM(O170:Z170)","v":117299.56999999998}]
[147,"Conversion du système de chauffage au mazout léger vers un système électrique - École Du Carrousel","Centre de services scolaire des Patriotes","Implantation","Bâtiment",1,"16-Montérégie","Varennes","TE","SU",120656.56,"2016-08-16","2019-03-14",244299,null,null,null,30164.14,null,-10744.29,null,null,null,null,null,null,{"$f":"SUM(O171:W171)","v":19419.849999999999},{"$f":"SUM(O171:Z171)","v":19419.849999999999}]
[148,"Conversion du système de chauffage au mazout léger vers un système électrique - École St-Charles","Centre de services scolaire des Patriotes","Implantation","Bâtiment",1,"16-Montérégie","Saint-Charles-sur-Richelieu","TE","SU",42810.58,"2016-08-16","2018-04-01",93944,null,null,null,10702.64,null,32107.94,null,null,null,null,null,null,{"$f":"SUM(O172:W172)","v":42810.58},{"$f":"SUM(O172:Z172)","v":42810.58}]
[149,"Projet d’efficacité énergétique - Le Pavillon Saint-Basile de l’école Jacques Rocheleau","Centre de services scolaire des Patriotes","Implantation","Bâtiment",1,"16-Montérégie","Saint-Basile-le-Grand","TE","SU",65421.98,"2016-08-16","2019-03-14",200678,null,null,null,16355.5,null,-7435.55,null,null,null,null,null,null,{"$f":"SUM(O173:W173)","v":8919.9500000000007},{"$f":"SUM(O173:Z173)","v":8919.9500000000007}]
[150,"Conversion du système de chauffage au mazout léger vers un système électrique - École du Parchemin","Centre de services scolaire des Patriotes","Implantation","Bâtiment",1,"16-Montérégie","Carignan","TE","SU",61798.820000000007,"2016-08-16","2018-04-01",152641,null,null,null,15449.7,30899.4,15449.72,null,null,null,null,null,null,{"$f":"SUM(O174:W174)","v":61798.820000000007},{"$f":"SUM(O174:Z174)","v":61798.820000000007}]
[151,"Conversion du système de chauffage au mazout léger vers un système électrique - École François-Williams","Centre de services scolaire des Patriotes","Implantation","Bâtiment",1,"16-Montérégie","Saint-Amable","TE","SU",98089.11,"2016-08-16","2018-04-01",170186,null,null,null,24522.28,49044.56,24522.27,null,null,null,null,null,null,{"$f":"SUM(O175:W175)","v":98089.11},{"$f":"SUM(O175:Z175)","v":98089.11}]
[152,"Conversion du système de chauffage au mazout léger vers un système électrique - École Georges-Étienne-Cartier","Centre de services scolaire des Patriotes","Implantation","Bâtiment",1,"16-Montérégie","Saint-Antoine-sur-Richelieu","TE","SU",76192.61,"2016-08-16","2018-04-01",156086,null,null,null,19048.150000000001,null,57144.46,null,null,null,null,null,null,{"$f":"SUM(O176:W176)","v":76192.61},{"$f":"SUM(O176:Z176)","v":76192.61}]
[153,"Projet d'efficacité énergétique - École d'éducation internationale","Centre de services scolaire des Patriotes","Implantation","Bâtiment",1,"16-Montérégie","McMasterville","TE","SU",210125.64,"2016-08-16","2019-04-01",408998,null,null,null,52531.41,null,null,150010.26999999999,null,null,null,null,null,{"$f":"SUM(O177:W177)","v":202541.68},{"$f":"SUM(O177:Z177)","v":202541.68}]
[154,"Remplacement des chaudières au mazout léger par des systèmes électriques zonés","Fabrique Saint-André-Avellin","Implantation","Bâtiment",1,"07-Outaouais","Saint-André-Avellin","TE","SU",84386.84,"2016-02-24","2017-11-27",117447,null,null,null,63290.13,21096.71,null,null,null,null,null,null,null,{"$f":"SUM(O178:W178)","v":84386.84},{"$f":"SUM(O178:Z178)","v":84386.84}]
[155,"Réfrigération CO2 avec récupération de chaleur (88734)","Sobeys Capital Incorporée","Implantation","Bâtiment",1,"03-Capitale-Nationale","Québec","TE","SU",0,"2016-10-18","2016-04-01",56250,null,null,null,null,null,null,null,null,null,null,null,null,{"$f":"SUM(O179:W179)","v":0},{"$f":"SUM(O179:Z179)","v":0}]
[156,"Efficacité énergétique au 1212, rue Des Pins","Timbercreek Asset Management inc.","Implantation","Bâtiment",1,"06-Montréal","Montréal","TE","SU",505431.41000000003,"2016-10-25","2017-04-01",1050000,null,null,null,252715.7,252715.71,null,null,null,null,null,null,null,{"$f":"SUM(O180:W180)","v":505431.41000000003},{"$f":"SUM(O180:Z180)","v":505431.41000000003}]
[157,"Projet d’efficacité énergétique du CSSS Source Nord","CIUSSS de la Capitale-Nationale","Implantation","Bâtiment",1,"03-Capitale-Nationale","Québec","TE","SU",329179.82,"2017-01-13","2018-04-01",675546,null,null,null,82294.960000000006,164589.92000000001,82294.94,null,null,null,null,null,null,{"$f":"SUM(O181:W181)","v":329179.82},{"$f":"SUM(O181:Z181)","v":329179.82}]
[158,"Projet d’efficacité énergétique – Hôpital Chauveau","CIUSSS de la Capitale-Nationale","Implantation","Bâtiment",1,"03-Capitale-Nationale","Québec","TE","SU",108631.53,"2016-10-17","2018-04-01",247228,null,null,null,27157.88,42315.76,39157.89,null,null,null,null,null,null,{"$f":"SUM(O182:W182)","v":108631.53},{"$f":"SUM(O182:Z182)","v":108631.53}]
[159,"Projet d'efficacité énergétique - Manoir Manrese","9307-1306 Québec inc.","Implantation","Bâtiment",1,"03-Capitale-Nationale","Québec","TE","SU",64604.84,"2016-03-23","2016-04-01",136226,null,null,null,64604.84,null,null,null,null,null,null,null,null,{"$f":"SUM(O183:W183)","v":64604.84},{"$f":"SUM(O183:Z183)","v":64604.84}]
[160,"C5525-STJC Implantation du produit écoAZUR","Le STJC inc.","Implantation","Bâtiment",1,"12-Chaudière-Appalaches","Lévis","TE","SU",24517.7,"2016-06-09","2018-11-05",44000,null,null,null,null,18388.259999999998,6129.44,null,null,null,null,null,null,{"$f":"SUM(O184:W184)","v":24517.699999999997},{"$f":"SUM(O184:Z184)","v":24517.699999999997}]
[161,"C5527-SHER Implantation du produit écoAZUR","Restaurant Normandin (2014) inc.","Implantation","Bâtiment",1,"05-Estrie","Sherbrooke","TE","SU",34648.21,"2016-06-09","2016-04-01",62200,null,null,null,34648.21,null,null,null,null,null,null,null,null,{"$f":"SUM(O185:W185)","v":34648.21},{"$f":"SUM(O185:Z185)","v":34648.21}]
[162,"C5528-SJPJ Implantation du produit écoAZUR","Le Port-Jolien (2014) inc.","Implantation","Bâtiment",1,"12-Chaudière-Appalaches","Saint-Jean-Port-Joli","TE","SU",40069.85,"2016-06-09","2016-04-01",67000,null,null,null,40069.85,null,null,null,null,null,null,null,null,{"$f":"SUM(O186:W186)","v":40069.85},{"$f":"SUM(O186:Z186)","v":40069.85}]
[163,"C5533-ROCHE Implantation du produit écoAZUR","Restaurant La rochette (2014) inc.","Implantation","Bâtiment",1,"03-Capitale-Nationale","Québec","TE","SU",37736.92,"2016-06-09","2016-04-01",67000,null,null,null,37736.92,null,null,null,null,null,null,null,null,{"$f":"SUM(O187:W187)","v":37736.92},{"$f":"SUM(O187:Z187)","v":37736.92}]
[164,"C5534-LVIS Implantation du produit écoAZUR","Restaurant Lévisien inc.","Implantation","Bâtiment",1,"12-Chaudière-Appalaches","Lévis","TE","SU",40069.85,"2016-06-09","2016-04-01",67000,null,null,null,40069.85,null,null,null,null,null,null,null,null,{"$f":"SUM(O188:W188)","v":40069.85},{"$f":"SUM(O188:Z188)","v":40069.85}]
[165,"C5535-MONY Implantation du produit écoAZUR","Restaurant Montmagny (2014) inc.","Implantation","Bâtiment",1,"12-Chaudière-Appalaches","Montmagny","TE","SU",40069.85,"2016-06-09","2016-04-01",67000,null,null,null,38034.81,null,null,null,null,null,null,null,null,{"$f":"SUM(O189:W189)","v":38034.81},{"$f":"SUM(O189:Z189)","v":38034.81}]
[166,"C5543-HRIV Implantation du produit écoAZUR","Restaurant Henri IV (2014) inc.","Implantation","Bâtiment",1,"03-Capitale-Nationale","Québec","TE","SU",11676,"2016-06-09","2018-11-05",35000,null,null,null,null,8757,2919,null,null,null,null,null,null,{"$f":"SUM(O190:W190)","v":11676},{"$f":"SUM(O190:Z190)","v":11676}]
[167,"C5542-DVAL Implantation du produit écoAZUR","Restaurant Normandin Ste-Foy (2014) inc.","Implantation","Bâtiment",1,"03-Capitale-Nationale","Québec","TE","SU",9775,"2016-06-09","2018-11-05",22000,null,null,null,null,7331.25,2443.75,null,null,null,null,null,null,{"$f":"SUM(O191:W191)","v":9775},{"$f":"SUM(O191:Z191)","v":9775}]
[168,"C5529-RIKI Implantation du produit écoAZUR","Le Rimouskais (2014) inc.","Implantation","Bâtiment",1,"01-Bas-Saint-Laurent","Rimouski","TE","SU",40069.85,"2016-06-09","2018-11-05",67000,null,null,null,null,30052.38,10017.469999999999,null,null,null,null,null,null,{"$f":"SUM(O192:W192)","v":40069.85},{"$f":"SUM(O192:Z192)","v":40069.85}]
[169,"C5524-STGO Implantation du produit écoAZUR","Restaurant St-Georges (2014) inc.","Implantation","Bâtiment",1,"12-Chaudière-Appalaches","Saint-Georges","TE","SU",34648.21,"2016-06-09","2018-04-01",62200,null,null,null,null,25986.15,8662.06,null,null,null,null,null,null,{"$f":"SUM(O193:W193)","v":34648.21},{"$f":"SUM(O193:Z193)","v":34648.21}]
[170,"C5526-CITÉ Implantation du produit écoAZUR","Restaurant Normandin (2014) inc.","Implantation","Bâtiment",1,"03-Capitale-Nationale","Québec","TE","SU",34648.21,"2016-06-09","2016-04-01",62200,null,null,null,34648.21,null,null,null,null,null,null,null,null,{"$f":"SUM(O194:W194)","v":34648.21},{"$f":"SUM(O194:Z194)","v":34648.21}]
[171,"C5530-RVLOU Implantation du produit écoAZUR","Le Riveloup (2014) inc.","Implantation","Bâtiment",1,"01-Bas-Saint-Laurent","Rivière-du-Loup","TE","SU",40069.85,"2016-06-09","2016-04-01",67000,null,null,null,39515,null,null,null,null,null,null,null,null,{"$f":"SUM(O195:W195)","v":39515},{"$f":"SUM(O195:Z195)","v":39515}]
[172,"C5531-STJU Implantation du produit écoAZUR","Restaurant le STJU inc.","Implantation","Bâtiment",1,"16-Montérégie","Sainte-Julie","TE","SU",34648.21,"2016-06-09","2016-04-01",62200,null,null,null,34648.21,null,null,null,null,null,null,null,null,{"$f":"SUM(O196:W196)","v":34648.21},{"$f":"SUM(O196:Z196)","v":34648.21}]
[173,"C5532-STCA Implantation du produit écoAZUR","Restaurant BF (2014) inc.","Implantation","Bâtiment",1,"03-Capitale-Nationale","Québec","TE","SU",40069.85,"2016-06-09","2016-04-01",67000,null,null,null,40069.85,null,null,null,null,null,null,null,null,{"$f":"SUM(O197:W197)","v":40069.85},{"$f":"SUM(O197:Z197)","v":40069.85}]
[174,"C5541-VBEL Implantation du produit écoAZUR","Restaurant VB (2014) inc.","Implantation","Bâtiment",1,"03-Capitale-Nationale","Québec","TE","SU",11676,"2016-06-09","2016-04-01",49800,null,null,null,11676,null,null,null,null,null,null,null,null,{"$f":"SUM(O198:W198)","v":11676},{"$f":"SUM(O198:Z198)","v":11676}]
[175,"C5539-GRBY Implantation du produit écoAZUR","Restaurant Normandin (2014) inc.","Implantation","Bâtiment",1,"05-Estrie","Granby","TE","SU",24010.13,"2016-06-09","2018-10-19",45800,null,null,null,null,18007.59,6002.54,null,null,null,null,null,null,{"$f":"SUM(O199:W199)","v":24010.13},{"$f":"SUM(O199:Z199)","v":24010.13}]
[176,"C5538-DCHB Implantation du produit écoAZUR","Restaurant Deschambault (2014) inc.","Implantation","Bâtiment",1,"03-Capitale-Nationale","Deschambault-Grondines","TE","SU",40069.85,"2016-06-09","2016-04-01",67000,null,null,null,40069.85,null,null,null,null,null,null,null,null,{"$f":"SUM(O200:W200)","v":40069.85},{"$f":"SUM(O200:Z200)","v":40069.85}]
[177,"C5537-STAN Implantation du produit écoAZUR","Le St-Anselme inc.","Implantation","Bâtiment",1,"12-Chaudière-Appalaches","Saint-Anselme","TE","SU",40069.85,"2016-06-09","2016-04-01",67000,null,null,null,40069.85,null,null,null,null,null,null,null,null,{"$f":"SUM(O201:W201)","v":40069.85},{"$f":"SUM(O201:Z201)","v":40069.85}]
[178,"C5536-MOJO Implantation du produit écoAZUR","Restaurant le Mont-Jolien inc.","Implantation","Bâtiment",1,"01-Bas-Saint-Laurent","Mont-Joli","TE","SU",40069.85,"2016-06-09","2016-04-01",67000,null,null,null,40069.85,null,null,null,null,null,null,null,null,{"$f":"SUM(O202:W202)","v":40069.85},{"$f":"SUM(O202:Z202)","v":40069.85}]
[179,"C5544-ORSV Implantation du produit écoAZUR","Restaurant BDJ (2014) inc.","Implantation","Bâtiment",1,"03-Capitale-Nationale","Québec","TE","SU",9775,"2016-06-09","2018-04-01",22000,null,null,null,null,7331.25,2443.75,null,null,null,null,null,null,{"$f":"SUM(O203:W203)","v":9775},{"$f":"SUM(O203:Z203)","v":9775}]
[180,"C5545-JGAU Implantation du produit écoAZUR","Le Gauvinois (2014) inc.","Implantation","Bâtiment",1,"03-Capitale-Nationale","Québec","TE","SU",9775,"2016-06-09","2018-11-05",22000,null,null,null,null,7331.25,2443.75,null,null,null,null,null,null,{"$f":"SUM(O204:W204)","v":9775},{"$f":"SUM(O204:Z204)","v":9775}]
[181,"C5546-BSTA Implantation du produit écoAZUR","Le Beauport Ste-Anne (2014) inc.","Implantation","Bâtiment",1,"03-Capitale-Nationale","Québec","TE","SU",9775,"2016-06-09","2018-04-01",22000,null,null,null,null,7331.25,2443.75,null,null,null,null,null,null,{"$f":"SUM(O205:W205)","v":9775},{"$f":"SUM(O205:Z205)","v":9775}]
[182,"C5547-TRIO Implantation du produit écoAZUR","Restaurant Normandin (2014) inc.","Implantation","Bâtiment",1,"04-Mauricie","Trois-Rivières","TE","SU",34648.21,"2016-06-09","2016-04-01",62200,null,null,null,34648.21,null,null,null,null,null,null,null,null,{"$f":"SUM(O206:W206)","v":34648.21},{"$f":"SUM(O206:Z206)","v":34648.21}]
[183,"Ajout de chauffage électrique radiant","Alimentation Sébastien Blackburn inc.","Implantation","Bâtiment",1,"02-Saguenay--Lac-Saint-Jean","Saguenay","TE","SU",23776.14,"2016-03-14","2016-04-01",36228,null,null,null,23776.14,null,null,null,null,null,null,null,null,{"$f":"SUM(O207:W207)","v":23776.14},{"$f":"SUM(O207:Z207)","v":23776.14}]
[184,"C5540-STHY Implantation du produit écoAZUR","Restaurant Normandin (2014) inc.","Implantation","Bâtiment",1,"16-Montérégie","Saint-Hyacinthe","TE","SU",24010.13,"2016-06-09","2018-04-01",45800,null,null,null,null,18007.59,6002.54,null,null,null,null,null,null,{"$f":"SUM(O208:W208)","v":24010.13},{"$f":"SUM(O208:Z208)","v":24010.13}]
[185,"Récupération chaleur résiduelle centrale thermique","Centre Intégré Santé Service Sociaux des Îles","Implantation","Bâtiment",1,"11-Gaspésie--Îles-de-la-Madeleine","Les Îles-de-la-Madeleine","TE","SU",1944282.88,"2017-03-22","2018-04-01",4106949,null,null,null,null,972141.44,972141.44,null,null,null,null,null,null,{"$f":"SUM(O209:W209)","v":1944282.88},{"$f":"SUM(O209:Z209)","v":1944282.88}]
[186,"Réfrigération CO2 avec récupération de chaleur (8182)","Sobeys Capital Incorporée","Implantation","Bâtiment",1,"02-Saguenay--Lac-Saint-Jean","Normandin","TE","SU",0,"2016-10-18","2016-04-01",37500,null,null,null,null,null,null,null,null,null,null,null,null,{"$f":"SUM(O210:W210)","v":0},{"$f":"SUM(O210:Z210)","v":0}]
[187,"Agrandissement du 655, Pierre-Bertrand","Groleau Développement immobilier inc.","Analyse","Bâtiment",1,"03-Capitale-Nationale","Québec","TE","SU",5900,"2016-11-03","2017-12-07",13637.5,null,null,null,2950,2950,null,null,null,null,null,null,null,{"$f":"SUM(O211:W211)","v":5900},{"$f":"SUM(O211:Z211)","v":5900}]
[188,"Agrandissement du 655, Pierre-Bertrand","Groleau Développement immobilier inc.","Implantation","Bâtiment",1,"03-Capitale-Nationale","Québec","TE","SU",79546.87,"2018-09-13T13:33:49","2019-08-15",465000,null,null,null,null,null,39773.440000000002,39773.43,null,null,null,null,null,{"$f":"SUM(O212:W212)","v":79546.87},{"$f":"SUM(O212:Z212)","v":79546.87}]
[189,"Chaufferie de l'école du Parchemin","Centre de services scolaire des Hauts-Cantons","Implantation","Bâtiment",1,"05-Estrie","East Angus","TE","SU",28339.8,"2017-03-31","2018-03-21",88780,null,null,null,null,28339.8,null,null,null,null,null,null,null,{"$f":"SUM(O213:W213)","v":28339.8},{"$f":"SUM(O213:Z213)","v":28339.8}]
[190,"Analyse pour définir des projets d'efficacité énergétique portant sur 19 bâtiments","Centre de services scolaire Central Québec","Analyse","Bâtiment",1,"03-Capitale-Nationale","Québec","TE","SU",58720,"2016-11-30","2016-04-01",117440.3,null,null,null,58720,null,null,null,null,null,null,null,null,{"$f":"SUM(O214:W214)","v":58720},{"$f":"SUM(O214:Z214)","v":58720}]
[191,"Hôpital d'Amos - Projet d'efficacité énergétique","Centre intégré de santé et de services sociaux de l'Abitibi-Témiscamingue","Implantation","Bâtiment",1,"08-Abitibi-Témiscamingue","Amos","TE","SU",217837.82,"2016-10-05","2020-02-26",492022,null,null,null,54459.46,54459.46,null,108918.9,null,null,null,null,null,{"$f":"SUM(O215:W215)","v":217837.82},{"$f":"SUM(O215:Z215)","v":217837.82}]
[192,"CLSC d'Amos - Projet d'efficacité énergétique","Centre intégré de santé et de services sociaux de l'Abitibi-Témiscamingue","Implantation","Bâtiment",1,"08-Abitibi-Témiscamingue","Amos","TE","SU",169983.47,"2016-09-21","2020-02-28",314650,null,null,null,42495.87,42495.87,null,84991.73,null,null,null,null,null,{"$f":"SUM(O216:W216)","v":169983.47},{"$f":"SUM(O216:Z216)","v":169983.47}]
[193,"BRIO St-Pamphile","G. Bourgault Service inc.","Implantation","Bâtiment",1,"12-Chaudière-Appalaches","Saint-Pamphile","TE","SU",79249.84,"2017-11-08T08:56:20","2018-04-01",142855,null,null,null,null,39624.92,19812.46,null,null,null,null,null,null,{"$f":"SUM(O217:W217)","v":59437.38},{"$f":"SUM(O217:Z217)","v":59437.38}]
[194,"Réfrigération CO2 avec récupération de chaleur","Sobeys Capital Incorporée","Implantation","Bâtiment",1,"08-Abitibi-Témiscamingue","Rouyn-Noranda","TE","SU",0,"2016-10-18","2016-04-01",56250,null,null,null,null,null,null,null,null,null,null,null,null,{"$f":"SUM(O218:W218)","v":0},{"$f":"SUM(O218:Z218)","v":0}]
[195,"Réfrigération CO2 avec récupération de chaleur (89056)","Sobeys Capital Incorporée","Implantation","Bâtiment",1,"04-Mauricie","Trois-Rivières","TE","SU",0,"2016-10-18","2018-12-20",56250,null,null,null,null,null,null,null,null,null,null,null,null,{"$f":"SUM(O219:W219)","v":0},{"$f":"SUM(O219:Z219)","v":0}]
[196,"Réfrigération CO2 avec récupération de chaleur (8341)","Sobeys Capital Incorporée","Implantation","Bâtiment",1,"16-Montérégie","Saint-Bruno-de-Montarville","TE","SU",0,"2016-10-18","2018-12-21",56250,null,null,null,null,null,null,null,null,null,null,null,null,{"$f":"SUM(O220:W220)","v":0},{"$f":"SUM(O220:Z220)","v":0}]
[197,"Réfrigération CO2 avec récupération de chaleur (8085)","Sobeys Capital Incorporée","Implantation","Bâtiment",1,"07-Outaouais","Chelsea","TE","SU",0,"2016-10-18","2019-04-01",37500,null,null,null,null,null,null,null,null,null,null,null,null,{"$f":"SUM(O221:W221)","v":0},{"$f":"SUM(O221:Z221)","v":0}]
[198,"Réfrigération CO2 avec récupération de chaleur (8296)","Sobeys Capital Incorporée","Implantation","Bâtiment",1,"14-Lanaudière","Saint-Lin--Laurentides","TE","SU",0,"2016-11-15","2018-04-01",37500,null,null,null,null,null,null,null,null,null,null,null,null,{"$f":"SUM(O222:W222)","v":0},{"$f":"SUM(O222:Z222)","v":0}]
[199,"Réfrigération CO2 avec récupération de chaleur (8046)","Sobeys Capital Incorporée","Implantation","Bâtiment",1,"05-Estrie","Coaticook","TE","SU",0,"2016-11-15","2018-04-01",37500,null,null,null,null,null,null,null,null,null,null,null,null,{"$f":"SUM(O223:W223)","v":0},{"$f":"SUM(O223:Z223)","v":0}]
[200,"Audit énergétique de l'aréna McConnell de l'Université McGill","L'Institution royale pour l'avancement des sciences - Université McGill","Analyse","Bâtiment",1,"06-Montréal","Montréal","TE","SU",9500,"2016-11-09","2018-03-27",21182,null,null,null,4570,4930,null,null,null,null,null,null,null,{"$f":"SUM(O224:W224)","v":9500},{"$f":"SUM(O224:Z224)","v":9500}]
[201,"Projet d’efficacité énergétique – D709C – Centre d’hébergement Andrée-Perreault","Centre intégré de santé et de services sociaux de la Montérégie-Est (CISSS)","Implantation","Bâtiment",1,"16-Montérégie","Saint-Hyacinthe","TE","SU",86225.71,"2016-11-30","2018-04-01",161032,null,null,null,null,21556.43,64669.279999999999,null,null,null,null,null,null,{"$f":"SUM(O225:W225)","v":86225.709999999992},{"$f":"SUM(O225:Z225)","v":86225.709999999992}]
[202,"Projet d’efficacité énergétique – D709A – Centre d’hébergement de l’Hôtel-Dieu","Centre intégré de santé et de services sociaux de la Montérégie-Est (CISSS)","Implantation","Bâtiment",1,"16-Montérégie","Saint-Hyacinthe","TE","SU",834771.09,"2017-01-13","2020-03-31",2928430,null,null,null,208692.77,null,208692.77,417385.55,null,null,null,null,null,{"$f":"SUM(O226:W226)","v":834771.09},{"$f":"SUM(O226:Z226)","v":834771.09}]
[203,"Centrale d'air de la pharmacie d'oncologie","CIUSSS de l'Est-de-l'île-de-Montréal","Implantation","Bâtiment",1,"06-Montréal","Montréal","TE","SU",98055.51,"2017-09-20T14:40:02","2020-12-10",695190,null,null,null,null,null,null,null,98055.51,null,null,null,null,{"$f":"SUM(O227:W227)","v":98055.51},{"$f":"SUM(O227:Z227)","v":98055.51}]
[204,"Rénovation majeure et agrandissement de la caserne 71","Ville de Montréal","Implantation","Bâtiment",1,"06-Montréal","Montréal","TE","SU",45950.62,"2016-10-14","2019-12-02",353000,null,null,null,11487.66,11487.66,null,22975.3,null,null,null,null,null,{"$f":"SUM(O228:W228)","v":45950.619999999995},{"$f":"SUM(O228:Z228)","v":45950.619999999995}]
[205,"Projet d’efficacité énergétique – D709E – Centre d’hébergement Marguerite-Adam","Centre intégré de santé et de services sociaux de la Montérégie-Est (CISSS)","Implantation","Bâtiment",1,"16-Montérégie","Beloeil","TE","SU",2784.54,"2016-11-11","2018-04-01",14514,null,null,null,null,696.14,2088.4,null,null,null,null,null,null,{"$f":"SUM(O229:W229)","v":2784.54},{"$f":"SUM(O229:Z229)","v":2784.54}]
[206,"Projet d’efficacité énergétique – D709D – Centre d’hébergement Montarville","Centre intégré de santé et de services sociaux de la Montérégie-Est (CISSS)","Implantation","Bâtiment",1,"16-Montérégie","Saint-Bruno-de-Montarville","TE","SU",43669.36,"2016-12-08","2018-04-01",192421,null,null,null,null,10917.34,32752.02,null,null,null,null,null,null,{"$f":"SUM(O230:W230)","v":43669.36},{"$f":"SUM(O230:Z230)","v":43669.36}]
[207,"Projet d’efficacité énergétique – D709B – Centre d’hébergement MRC d’Acton","Centre intégré de santé et de services sociaux de la Montérégie-Est (CISSS)","Implantation","Bâtiment",1,"16-Montérégie","Acton Vale","TE","SU",30017.040000000001,"2016-11-11","2018-04-01",124207,null,null,null,null,7504.26,22512.78,null,null,null,null,null,null,{"$f":"SUM(O231:W231)","v":30017.040000000001},{"$f":"SUM(O231:Z231)","v":30017.040000000001}]
[208,"Camp à haute efficacité énergétique","Les Entreprises forestières N.T. inc.","Implantation","Bâtiment",1,"02-Saguenay--Lac-Saint-Jean","Dolbeau-Mistassini","TE","SU",177647.04,"2017-02-23","2018-04-01",401520,null,null,null,null,133235.28,44411.76,null,null,null,null,null,null,{"$f":"SUM(O232:W232)","v":177647.04},{"$f":"SUM(O232:Z232)","v":177647.04}]
[209,"Projet d'efficacité énergétique au Centre de formation professionnelle St-Eustache","Centre de services scolaire de la Seigneurie-des-Mille-Îles","Implantation","Bâtiment",1,"15-Laurentides","Saint-Eustache","TE","SU",356460.58350000001,"2017-03-31","2018-04-01",853627,null,null,null,null,84871.57,254614.7,null,16974.3135,null,null,null,null,{"$f":"SUM(O233:W233)","v":356460.58350000001},{"$f":"SUM(O233:Z233)","v":356460.58350000001}]
[210,"Efficacité énergétique école Jardin des patriotes (CSSMI)","Centre de services scolaire de la Seigneurie-des-Mille-Îles","Implantation","Bâtiment",1,"15-Laurentides","Saint-Eustache","TE","SU",156764.68,"2017-03-14","2017-04-01",349610,null,null,null,null,156764.68,null,null,null,null,null,null,null,{"$f":"SUM(O234:W234)","v":156764.68},{"$f":"SUM(O234:Z234)","v":156764.68}]
[211,"Étude énergétique comparative – SIMONS des Galeries de la Capitale","La Maison Simons inc.","Analyse","Bâtiment",1,"03-Capitale-Nationale","Québec","TE","SU",8600,"2016-11-02","2017-04-03",17200,null,null,null,4300,4300,null,null,null,null,null,null,null,{"$f":"SUM(O235:W235)","v":8600},{"$f":"SUM(O235:Z235)","v":8600}]
[212,"Rénovation du SIMONS Galeries de la Capitale","La Maison Simons inc.","Implantation","Bâtiment",1,"03-Capitale-Nationale","Québec","TE","SU",118511.13,"2017-06-22T08:48:07","2018-04-01",411050,null,null,null,null,59255.56,59255.57,null,null,null,null,null,null,{"$f":"SUM(O236:W236)","v":118511.13},{"$f":"SUM(O236:Z236)","v":118511.13}]
[213,"Analyse écoénergétique portant sur des bâtiments de la Commission scolaire de la Riveraine","Centre de services scolaire de la Riveraine","Analyse","Bâtiment",1,"17-Centre-du-Québec","Saint-Léonard-d'Aston","TE","SU",63459.88,"2017-02-23","2017-09-01",3033058,null,null,null,31729.94,31729.94,null,null,null,null,null,null,null,{"$f":"SUM(O237:W237)","v":63459.88},{"$f":"SUM(O237:Z237)","v":63459.88}]
[214,"Étude énergétique comparative – Agrandissement de l'école primaire Laurentide","Centre de service scolaire Marguerite -Bourgeoys","Analyse","Bâtiment",1,"06-Montréal","Montréal","TE","SU",9100,"2016-11-08","2018-04-12",18200,null,null,null,null,null,9100,null,null,null,null,null,null,{"$f":"SUM(O238:W238)","v":9100},{"$f":"SUM(O238:Z238)","v":9100}]
[215,"Agrandissement de l'école primaire Laurentide - Projet d'efficacité énergétique","Centre de service scolaire Marguerite -Bourgeoys","Implantation","Bâtiment",1,"06-Montréal","Montréal","TE","SU",28742.584500000001,"2018-03-29T13:37:31","2018-04-01",97700,null,null,null,null,null,27373.89,null,1368.6945000000001,null,null,null,null,{"$f":"SUM(O239:W239)","v":28742.584500000001},{"$f":"SUM(O239:Z239)","v":28742.584500000001}]
[216,"Projet d'efficacité énergétique au Restaurant ThaiZone/BurgerKing à Bromont","Projet Bromont ADR","Implantation","Bâtiment",1,"05-Estrie","Bromont","TE","SU",49538.559999999998,"2017-07-11T09:00:10","2019-03-13",117200,null,null,null,null,37153.919999999998,12384.64,null,null,null,null,null,null,{"$f":"SUM(O240:W240)","v":49538.559999999998},{"$f":"SUM(O240:Z240)","v":49538.559999999998}]
[217,"Projet d'économie d'énergie au 330 rue St-Vallier","325 St-Vallier inc.","Implantation","Bâtiment",1,"03-Capitale-Nationale","Québec","TE","SU",173496,"2017-07-26T09:44:43","2017-04-01",347606,null,null,null,null,173496,null,null,null,null,null,null,null,{"$f":"SUM(O241:W241)","v":173496},{"$f":"SUM(O241:Z241)","v":173496}]
[218,"Conversion électrique","Centre de services scolaire des Affluents","Implantation","Bâtiment",1,"14-Lanaudière","L'Épiphanie","TE","SU",195439.66,"2016-11-30","2018-09-03",295717,null,null,null,null,146579.76,48859.9,null,null,null,null,null,null,{"$f":"SUM(O242:W242)","v":195439.66},{"$f":"SUM(O242:Z242)","v":195439.66}]
[219,"Projet d'économie d'énergie à Plaza Cote-des-Neiges","Gestion Plaza Côtes des Neiges","Implantation","Bâtiment",1,"06-Montréal","Montréal","TE","SU",606911.36,"2017-09-20T12:57:45","2018-04-01",971345,null,null,null,null,303455.68,303455.68,null,null,null,null,null,null,{"$f":"SUM(O243:W243)","v":606911.36},{"$f":"SUM(O243:Z243)","v":606911.36}]
[220,"Amélioration d'efficacité énergétique","Centre de services scolaire de Montréal","Implantation","Bâtiment",1,"06-Montréal","Montréal","TE","SU",124471.27350000001,"2017-09-27T13:37:24","2019-04-01",937852,null,null,null,null,29636.02,29636.02,59272.03,5927.2034999999996,null,null,null,null,{"$f":"SUM(O244:W244)","v":124471.27350000001},{"$f":"SUM(O244:Z244)","v":124471.27350000001}]
[221,"Analyse énergétique des systèmes électromécaniques de La Maison du Père","La Maison du Père","Analyse","Bâtiment",1,"06-Montréal","Montréal","TE","SU",5000,"2017-03-31","2017-10-13",10000,null,null,null,null,5000,null,null,null,null,null,null,null,{"$f":"SUM(O245:W245)","v":5000},{"$f":"SUM(O245:Z245)","v":5000}]
[222,"Conversion VAV de systèmes de ventilation","Centre de services scolaire de Montréal","Implantation","Bâtiment",1,"06-Montréal","Montréal","TE","SU",143117.68799999999,"2017-10-11T17:06:14","2018-04-01",1096614,null,null,null,null,68151.28,68151.28,null,6815.1279999999997,null,null,null,null,{"$f":"SUM(O246:W246)","v":143117.68799999999},{"$f":"SUM(O246:Z246)","v":143117.68799999999}]
[223,"Implantation d'un système d'automatisation","Centre de services scolaire de Montréal","Implantation","Bâtiment",1,"06-Montréal","Montréal","TE","SU",153672.90750000003,"2017-10-11T16:55:59","2019-04-01",944402,null,null,null,null,36588.79,36588.79,73177.570000000007,7317.7574999999997,null,null,null,null,{"$f":"SUM(O247:W247)","v":153672.90750000003},{"$f":"SUM(O247:Z247)","v":153672.90750000003}]
[224,"Remplacement des chaudières et modernisation de la chaufferie","Centre de services scolaire de Montréal","Implantation","Bâtiment",1,"06-Montréal","Montréal","TE","SU",141319.83600000001,"2017-10-11T16:46:39","2018-04-01",1257570,null,null,null,null,67295.16,67295.16,null,6729.5159999999996,null,null,null,null,{"$f":"SUM(O248:W248)","v":141319.83600000001},{"$f":"SUM(O248:Z248)","v":141319.83600000001}]
[225,"Construction du pavillon d'accueil du Parc de la Rivière-des-Mille-Îles","Ville de Laval","Analyse","Bâtiment",1,"13-Laval","Laval","TE","SU",2550,"2017-06-01","2018-03-07",10100,null,null,null,null,2550,null,null,null,null,null,null,null,{"$f":"SUM(O249:W249)","v":2550},{"$f":"SUM(O249:Z249)","v":2550}]
[226,"Construction du pavillon d'accueil du parc de la rivière des milles-iles","Ville de Laval","Implantation","Bâtiment",1,"13-Laval","Laval","TE","SU",77316.708000000013,"2017-07-26T13:54:26","2018-04-01",411404,null,null,null,null,18408.740000000002,55226.22,null,3681.748,null,null,null,null,{"$f":"SUM(O250:W250)","v":77316.708000000013},{"$f":"SUM(O250:Z250)","v":77316.708000000013}]
[227,"Implantation de mesures en efficacité énergétique et certification LEED","Société en commandite Gestion Tour de la Bourse","Implantation","Bâtiment",1,"06-Montréal","Montréal","TE","SU",708914.07000000007,"2017-01-13","2018-04-01",3060087,null,null,null,177228.52,177228.52,354457.03,null,null,null,null,null,null,{"$f":"SUM(O251:W251)","v":708914.07000000007},{"$f":"SUM(O251:Z251)","v":708914.07000000007}]
[228,"Analyse de mesures éconergétiques pour l'édifice Québecor","Québecor inc.","Analyse","Bâtiment",1,"06-Montréal","Montréal","TE","SU",20566,"2016-12-08","2017-03-15",41132,null,null,null,20566,null,null,null,null,null,null,null,null,{"$f":"SUM(O252:W252)","v":20566},{"$f":"SUM(O252:Z252)","v":20566}]
[229,"Implantation de projet d'efficacité énergétique","Québecor inc.","Implantation","Bâtiment",1,"06-Montréal","Montréal","TE","SU",301091.59500000003,"2017-11-20T15:53:17","2018-04-01",791083,null,null,null,null,null,286753.90000000002,null,14337.695,null,null,null,null,{"$f":"SUM(O253:W253)","v":301091.59500000003},{"$f":"SUM(O253:Z253)","v":301091.59500000003}]
[230,"Complexe des sciences - Site Outremont","Université de Montréal","Implantation","Bâtiment",1,"06-Montréal","Montréal","TE","SU",1333829.4794999999,"2017-03-24","2021-05-27",4603307,null,null,null,null,null,635156.9,null,63515.6895,635156.89,null,null,null,{"$f":"SUM(O254:W254)","v":1333829.4794999999},{"$f":"SUM(O254:Z254)","v":1333829.4794999999}]
[231,"Projet d'économie d'énergie au Collège Champagneur","Collège Champagneur","Implantation","Bâtiment",1,"14-Lanaudière","Rawdon","TE","SU",88952.36,"2017-07-19T14:23:36","2018-11-26",145000,null,null,null,null,66714.27,22238.09,null,null,null,null,null,null,{"$f":"SUM(O255:W255)","v":88952.36},{"$f":"SUM(O255:Z255)","v":88952.36}]
[232,"Construction d’une ligne électrique à haute tension","La Seigneurie du Triton","Implantation","Bâtiment",1,"04-Mauricie","Lac-Édouard","TE","SU",194452.44,"2017-06-01","2019-03-18",499058,null,null,null,null,145839.32999999999,48613.11,null,null,null,null,null,null,{"$f":"SUM(O256:W256)","v":194452.44},{"$f":"SUM(O256:Z256)","v":194452.44}]
[233,"Réfrigération CO2 avec récupération de chaleur - Super C - Baie St-Paul","Métro Richelieu inc.","Implantation","Bâtiment",1,"03-Capitale-Nationale","Baie-Saint-Paul","TE","SU",0,"2018-02-02T13:32:03","2018-04-01",55334,null,null,null,null,null,null,null,null,null,null,null,null,{"$f":"SUM(O257:W257)","v":0},{"$f":"SUM(O257:Z257)","v":0}]
[234,"Réfrigération CO2 avec récupération de chaleur - Metro Drummondville","Métro Richelieu inc.","Implantation","Bâtiment",1,"17-Centre-du-Québec","Drummondville","TE","SU",0,"2019-02-11T13:30:10","2019-08-22",48735,null,null,null,null,null,null,null,null,null,null,null,null,{"$f":"SUM(O258:W258)","v":0},{"$f":"SUM(O258:Z258)","v":0}]
[235,"Remplacement du système de réfrigération et amélioration de l’efficacité énergétique du complexe","Complexe sportif Kirkland","Implantation","Bâtiment",1,"06-Montréal","Kirkland","TE","SU",82366.805917499994,"2017-05-29","2018-10-25",190568,null,null,null,null,60801.948183599998,21564.8577339,null,null,null,null,null,null,{"$f":"SUM(O259:W259)","v":82366.805917499994},{"$f":"SUM(O259:Z259)","v":82366.805917499994}]
[236,"Réfrigération CO2 avec récupération de chaleur (8188)","Sobeys Capital Incorporée","Implantation","Bâtiment",1,"03-Capitale-Nationale","Québec","TE","SU",0,"2017-06-14","2019-02-08",56250,null,null,null,null,null,null,null,null,null,null,null,null,{"$f":"SUM(O260:W260)","v":0},{"$f":"SUM(O260:Z260)","v":0}]
[237,"Réfrigération CO2 avec récupération de chaleur (08092)","Sobeys Capital Incorporée","Implantation","Bâtiment",1,"05-Estrie","Cowansville","TE","SU",0,"2017-06-16T15:39:32","2019-05-24",56250,null,null,null,null,null,null,null,null,null,null,null,null,{"$f":"SUM(O261:W261)","v":0},{"$f":"SUM(O261:Z261)","v":0}]
[238,"Réfrigération CO2 avec récupération de chaleur (134)","Sobeys Capital Incorporée","Implantation","Bâtiment",1,"03-Capitale-Nationale","Baie-Saint-Paul","TE","SU",0,"2017-07-03T11:31:28","2018-11-07",56250,null,null,null,null,null,null,null,null,null,null,null,null,{"$f":"SUM(O262:W262)","v":0},{"$f":"SUM(O262:Z262)","v":0}]
[239,"Rénovation et agrandissement de la bibliothèque de Pierrefonds","Ville de Montréal","Implantation","Bâtiment",1,"06-Montréal","Montréal","TE","SU",63986.15,"2017-03-21","2021-05-27",149500,null,null,null,null,15996.54,null,null,3199.3074999999999,19327.040110000002,null,null,null,{"$f":"SUM(O263:W263)","v":38522.887610000005},{"$f":"SUM(O263:Z263)","v":38522.887610000005}]
[240,"Analyse énergétique Le Château Montebello","Le Château Montebello","Analyse","Bâtiment",1,"07-Outaouais","Montebello","TE","SU",18367.5,"2017-02-07","2016-04-01",42500,null,null,null,9183.75,null,null,null,null,null,null,null,null,{"$f":"SUM(O264:W264)","v":9183.75},{"$f":"SUM(O264:Z264)","v":9183.75}]
[241,"Construction d'un centre communautaire à Sainte-Dorothée","Ville de Laval","Analyse","Bâtiment",1,"13-Laval","Laval","TE","SU",2550,"2017-06-14T09:10:42","2017-11-06",5900,null,null,null,null,2550,null,null,null,null,null,null,null,{"$f":"SUM(O265:W265)","v":2550},{"$f":"SUM(O265:Z265)","v":2550}]
[242,"Modification du système de ventilation UTA-01","Frontenac Hotel LP","Implantation","Bâtiment",1,"03-Capitale-Nationale","Québec","TE","SU",32959.550000000003,"2016-10-24","2018-04-01",150946,null,null,null,8239.89,null,22538.080000000002,null,null,1647.9775,null,null,null,{"$f":"SUM(O266:W266)","v":32425.947500000002},{"$f":"SUM(O266:Z266)","v":32425.947500000002}]
[243,"Système de réfrigération CO2 avec récupération de chaleur - Super C Saint-Hyacinthe","Métro Richelieu inc.","Implantation","Bâtiment",1,"16-Montérégie","Saint-Hyacinthe","TE","SU",0,"2019-01-08T10:21:31","2018-04-01",55990,null,null,null,null,null,null,null,null,null,null,null,null,{"$f":"SUM(O267:W267)","v":0},{"$f":"SUM(O267:Z267)","v":0}]
[244,"Projet d'efficacité d'énergétique au local de la pharmacie Proxim de St-Jérôme","Innovo Pharma inc.","Implantation","Bâtiment",1,"15-Laurentides","Saint-Jérôme","TE","SU",53681.120000000003,"2017-03-24","2018-04-01",94300,null,null,null,null,40260.839999999997,13420.28,null,null,null,null,null,null,{"$f":"SUM(O268:W268)","v":53681.119999999995},{"$f":"SUM(O268:Z268)","v":53681.119999999995}]
[245,"Projet d'efficacité énergétique au restaurant Harvey's","9264-0101 Québec inc.","Implantation","Bâtiment",1,"16-Montérégie","Saint-Jean-sur-Richelieu","TE","SU",59041,"2017-07-04T11:11:12","2019-02-25",96000,null,null,null,null,44280.75,14205.89,null,null,null,null,null,null,{"$f":"SUM(O269:W269)","v":58486.64},{"$f":"SUM(O269:Z269)","v":58486.64}]
[246,"Réfrigération CO2 avec récupération de chaleur (88029)","Sobeys Capital Incorporée","Implantation","Bâtiment",1,"16-Montérégie","Carignan","TE","SU",0,"2017-06-14T11:57:12","2018-12-21",56250,null,null,null,null,null,null,null,null,null,null,null,null,{"$f":"SUM(O270:W270)","v":0},{"$f":"SUM(O270:Z270)","v":0}]
[247,"Réfrigération CO2 avec récupération de chaleur (8340)","Sobeys Capital Incorporée","Implantation","Bâtiment",1,"04-Mauricie","Shawinigan","TE","SU",0,"2017-06-14","2019-02-08",37500,null,null,null,null,null,null,null,null,null,null,null,null,{"$f":"SUM(O271:W271)","v":0},{"$f":"SUM(O271:Z271)","v":0}]
[248,"Analyse énergétique de l’École aux-Quatre-Vents","Centre de services scolaire des Affluents","Analyse","Bâtiment",1,"14-Lanaudière","Saint-Sulpice","TE","SU",3400,"2017-03-28","2017-09-05",6800,null,null,null,null,3400,null,null,null,null,null,null,null,{"$f":"SUM(O272:W272)","v":3400},{"$f":"SUM(O272:Z272)","v":3400}]
[249,"Analyse énergétique de l'École de la Source","Centre de services scolaire des Affluents","Analyse","Bâtiment",1,"14-Lanaudière","Mascouche","TE","SU",3400,"2017-03-28","2017-09-05",6800,null,null,null,null,3400,null,null,null,null,null,null,null,{"$f":"SUM(O273:W273)","v":3400},{"$f":"SUM(O273:Z273)","v":3400}]
[250,"Analyse énergétique de l'École Primaire Esther-Blondin","Centre de services scolaire des Affluents","Analyse","Bâtiment",1,"14-Lanaudière","Terrebonne","TE","SU",3400,"2017-03-28","2017-09-05",6800,null,null,null,null,3400,null,null,null,null,null,null,null,{"$f":"SUM(O274:W274)","v":3400},{"$f":"SUM(O274:Z274)","v":3400}]
[251,"Analyse énergétique de l’École Jean-De La Fontaine – Édifice Jean-De La Fontaine","Centre de services scolaire des Affluents","Analyse","Bâtiment",1,"14-Lanaudière","Terrebonne","TE","SU",3650,"2017-03-28","2017-09-05",7300,null,null,null,null,3650,null,null,null,null,null,null,null,{"$f":"SUM(O275:W275)","v":3650},{"$f":"SUM(O275:Z275)","v":3650}]
[252,"Analyse énergétique de l'École Mgr-Mongeau","Centre de services scolaire des Affluents","Analyse","Bâtiment",1,"14-Lanaudière","L'Épiphanie","TE","SU",3650,"2017-03-28","2017-09-05",7300,null,null,null,null,3650,null,null,null,null,null,null,null,{"$f":"SUM(O276:W276)","v":3650},{"$f":"SUM(O276:Z276)","v":3650}]
[253,"Analyse énergétique de l'École Jean-De La Fontaine – Édifice Saint-Charles","Centre de services scolaire des Affluents","Analyse","Bâtiment",1,"14-Lanaudière","Terrebonne","TE","SU",3150,"2017-03-28","2017-09-05",6300,null,null,null,null,3150,null,null,null,null,null,null,null,{"$f":"SUM(O277:W277)","v":3150},{"$f":"SUM(O277:Z277)","v":3150}]
[254,"Projet d'efficacité énergétique au Golf Summerlea","CLUB DE GOLF SUMMERLEA S.E.C.","Implantation","Bâtiment",1,"16-Montérégie","Vaudreuil-Dorion","TE","SU",127830.171,"2019-05-27T10:38:18","2019-04-01",670000,null,null,null,null,null,null,121743.02,6087.1509999999998,null,null,null,null,{"$f":"SUM(O278:W278)","v":127830.171},{"$f":"SUM(O278:Z278)","v":127830.171}]
[255,"Projet d'économie d'énergie au 200 Ste-Foy","Édifice 200 Sainte-Foy inc.","Implantation","Bâtiment",1,"03-Capitale-Nationale","Québec","TE","SU",530549.09,"2017-12-08T10:11:14","2017-04-01",844496,null,null,null,null,530549.09,null,null,null,null,null,null,null,{"$f":"SUM(O279:W279)","v":530549.09},{"$f":"SUM(O279:Z279)","v":530549.09}]
[256,"Projet d'économie d'énergie au 4200 Dorchester","Les immeubles Mitelman inc.","Implantation","Bâtiment",1,"06-Montréal","Westmount","TE","SU",98360.61,"2018-03-29T14:00:02","2018-04-01",195500,null,null,null,null,null,98360.61,null,null,null,null,null,null,{"$f":"SUM(O280:W280)","v":98360.61},{"$f":"SUM(O280:Z280)","v":98360.61}]
[257,"Projet d'efficacité énergétique D815 - Institut Philippe-Pinel de Montréal","Institut Philippe-Pinel de Montréal","Implantation","Bâtiment",1,"06-Montréal","Montréal","TE","SU",778271.33,"2018-03-29T09:51:50","2018-04-01",4858171,null,null,null,null,null,778271.33,null,null,null,null,null,null,{"$f":"SUM(O281:W281)","v":778271.33},{"$f":"SUM(O281:Z281)","v":778271.33}]
[258,"Remplacement des unités de ventilation et chauffage du centre de service de la STTR","Société de transport de Trois-Rivières","Implantation","Bâtiment",1,"04-Mauricie","Trois-Rivières","TE","SU",206204.37,"2017-10-11T16:38:52","2018-04-01",578740,null,null,null,null,null,114876.71,null,10310.218500000001,null,null,null,null,{"$f":"SUM(O282:W282)","v":125186.92850000001},{"$f":"SUM(O282:Z282)","v":125186.92850000001}]
[259,"Efficacité énergétique au 2250, rue Guy","2250 Guy inc.","Implantation","Bâtiment",1,"06-Montréal","Montréal","TE","SU",438180.94,"2017-07-19T14:07:46","2017-04-01",798500,null,null,null,null,422131.91,null,null,null,null,null,null,null,{"$f":"SUM(O283:W283)","v":422131.91},{"$f":"SUM(O283:Z283)","v":422131.91}]
[260,"Étude d'efficacité énergétique avec Arbec/Médifice immobilier s.e.n.c.","Arbec - Médifice Immobilier II s.e.n.c.","Analyse","Bâtiment",1,"14-Lanaudière","Terrebonne","TE","SU",15729,"2017-01-13","2018-07-09",31458,null,null,null,7864.5,null,7864.5,null,null,null,null,null,null,{"$f":"SUM(O284:W284)","v":15729},{"$f":"SUM(O284:Z284)","v":15729}]
[261,"Projet d'efficacité énergétique avec Arbec / Médifice immobilier s.e.n.c.","Arbec - Médifice Immobilier II s.e.n.c.","Implantation","Bâtiment",1,"14-Lanaudière","Terrebonne","TE","SU",359574.07500000001,"2017-11-14T14:18:18","2019-04-01",538065,null,null,null,null,null,171225.76,171225.74,17122.575000000001,null,null,null,null,{"$f":"SUM(O285:W285)","v":359574.07500000001},{"$f":"SUM(O285:Z285)","v":359574.07500000001}]
[262,"Mise aux normes de l'Aréna Fleury (5858)","Ville de Montréal","Implantation","Bâtiment",1,"06-Montréal","Montréal","TE","SU",162565.73550000001,"2017-09-20T13:08:37","2021-10-28",483282,null,null,null,null,null,null,null,null,162565.73550000001,null,null,null,{"$f":"SUM(O286:W286)","v":162565.73550000001},{"$f":"SUM(O286:Z286)","v":162565.73550000001}]
[263,"Remplacement du système de chauffage au mazout par des systèmes électriques","Centre de services scolaire des Affluents","Implantation","Bâtiment",1,"14-Lanaudière","Mascouche","TE","SU",133814.95000000001,"2017-07-19T13:56:57","2018-04-01",208019,null,null,null,null,100361.22,33453.730000000003,null,null,null,null,null,null,{"$f":"SUM(O287:W287)","v":133814.95000000001},{"$f":"SUM(O287:Z287)","v":133814.95000000001}]
[264,"Agrandissement Centre de distribution et entrepôt réfrigéré de Michal","Michal inc.","Implantation","Bâtiment",1,"06-Montréal","Montréal","TE","SU",0,"2017-09-13T09:35:05","2018-04-25",13500,null,null,null,null,null,null,null,null,null,null,null,null,{"$f":"SUM(O288:W288)","v":0},{"$f":"SUM(O288:Z288)","v":0}]
[265,"Projet d'économie d'énergie au Carrefour Providence","Carrefour Providence","Implantation","Bâtiment",1,"06-Montréal","Montréal","TE","SU",518774.47,"2019-07-15T10:14:46","2019-04-01",2005790,null,null,null,null,null,null,476125.58,25938.7235,null,null,null,null,{"$f":"SUM(O289:W289)","v":502064.30350000004},{"$f":"SUM(O289:Z289)","v":502064.30350000004}]
[266,"Conversion du système de chauffage au mazout à l'électricité","La Fabrique de la paroisse de Saint-Esprit des Pentes-Côtes","Implantation","Bâtiment",1,"12-Chaudière-Appalaches","Saint-Pierre-de-Broughton","TE","SU",59180.25,"2017-03-24","2018-05-31",107485,null,null,null,null,44385.18,14795.07,null,null,null,null,null,null,{"$f":"SUM(O290:W290)","v":59180.25},{"$f":"SUM(O290:Z290)","v":59180.25}]
[267,"Conversion du chauffage au mazout pour du chauffage radiant électrique","Garage Éric Lavoie","Implantation","Bâtiment",1,"02-Saguenay--Lac-Saint-Jean","Petit-Saguenay","TE","SU",11119.710000000001,"2017-03-24","2018-09-28",16129,null,null,null,null,8339.7900000000009,2779.92,null,null,null,null,null,null,{"$f":"SUM(O291:W291)","v":11119.710000000001},{"$f":"SUM(O291:Z291)","v":11119.710000000001}]
[268,"Analyse énergétique du Collège Jean-de-Brébeuf","La Corporation du Collège Jean-de-Brébeuf","Analyse","Bâtiment",1,"06-Montréal","Montréal","TE","SU",2470,"2017-06-01","2017-09-29",9880,null,null,null,null,2470,null,null,null,null,null,null,null,{"$f":"SUM(O292:W292)","v":2470},{"$f":"SUM(O292:Z292)","v":2470}]
[269,"Économie d'énergie - Carboneutralité","La Corporation du Collège Jean-de-Brébeuf","Analyse","Bâtiment",1,"06-Montréal","Montréal","TE","SU",8526,"2021-03-22T13:37:07","2021-10-11",16240,null,null,null,null,null,null,null,4466,4060,null,null,null,{"$f":"SUM(O293:W293)","v":8526},{"$f":"SUM(O293:Z293)","v":8526}]
[270,"Projet de valorisation de la vapeur de l’incinérateur de la ville de Québec","Ville de Québec","Analyse","Bâtiment",1,"03-Capitale-Nationale","Québec","TE","SU",156081,"2018-05-16T10:15:53","2019-01-28",549224,null,null,null,null,null,156081,null,null,null,null,null,null,{"$f":"SUM(O294:W294)","v":156081},{"$f":"SUM(O294:Z294)","v":156081}]
[271,"Étude écoénergétique type ASHRAE niveau 2","Centre de services scolaire des Chênes","Analyse","Bâtiment",1,"17-Centre-du-Québec","Drummondville","TE","SU",7360,"2017-07-26T15:51:31","2017-10-05",14720,null,null,null,null,7040,null,null,null,null,null,null,null,{"$f":"SUM(O295:W295)","v":7040},{"$f":"SUM(O295:Z295)","v":7040}]
[272,"Récupération de chaleur sur système de réfrigération HFO","Municipalité de Saint-Isidore","Implantation","Bâtiment",1,"12-Chaudière-Appalaches","Saint-Isidore","TE","SU",39898.58,"2019-01-09T10:31:21","2018-04-01",89535,null,null,null,null,null,37829.339999999997,null,1994.9290000000001,null,null,null,null,{"$f":"SUM(O296:W296)","v":39824.269},{"$f":"SUM(O296:Z296)","v":39824.269}]
[273,"Réfrigération CO2 avec récupération de chaleur (88093)","Sobeys Capital Incorporée","Implantation","Bâtiment",1,"06-Montréal","Montréal","TE","SU",0,"2017-12-05T14:53:50","2019-04-01",56250,null,null,null,null,null,null,null,null,null,null,null,null,{"$f":"SUM(O297:W297)","v":0},{"$f":"SUM(O297:Z297)","v":0}]
[274,"Étude d'efficacité énergétique chez Tropiques Nord","Syndicat des copropriétaires de Tropiques Nord1, Montréal, Phase 1","Analyse","Bâtiment",1,"06-Montréal","Montréal","TE","SU",43990,"2017-06-01","2017-10-24",87980,null,null,null,null,43990,null,null,null,null,null,null,null,{"$f":"SUM(O298:W298)","v":43990},{"$f":"SUM(O298:Z298)","v":43990}]
[275,"Projet d'efficacité énergétique chez Tropiques Nord","Syndicat des copropriétaires de Tropiques Nord1, Montréal, Phase 1","Implantation","Bâtiment",1,"06-Montréal","Montréal","TE","SU",455683.87949999998,"2017-12-05T15:45:48","2018-04-01",1671553,null,null,null,null,108550.7,325423.03999999998,null,21710.139500000001,null,null,null,null,{"$f":"SUM(O299:W299)","v":455683.87949999998},{"$f":"SUM(O299:Z299)","v":455683.87949999998}]
[276,"Remplacement de la fournaise au mazout léger par un système électrique zoné","La Fabrique de la paroisse de Sainte-Marguerite d'Youville","Implantation","Bâtiment",1,"17-Centre-du-Québec","Pierreville","TE","SU",23312.69,"2017-08-10T09:29:20","2019-03-31",31265,null,null,null,null,17484.509999999998,5586.3,null,null,null,null,null,null,{"$f":"SUM(O300:W300)","v":23070.809999999998},{"$f":"SUM(O300:Z300)","v":23070.809999999998}]
[277,"Système de réfrigération au CO2 avec récupération de chaleur","Distribution Alimentaire Aubut inc.","Implantation","Bâtiment",1,"13-Laval","Laval","TE","SU",0,"2017-11-22T15:54:52","2018-05-25",28690,null,null,null,null,null,null,null,null,null,null,null,null,{"$f":"SUM(O301:W301)","v":0},{"$f":"SUM(O301:Z301)","v":0}]
[278,"Conversion du système de chauffage central au mazout vers une système électrique par zone","La Fabrique de la paroisse Sainte-Cécile de Cloridorme","Implantation","Bâtiment",1,"11-Gaspésie--Îles-de-la-Madeleine","Cloridorme","TE","SU",87412.5,"2017-11-24T15:02:03","2018-04-01",115014,null,null,null,null,null,86260.28,null,null,null,null,null,null,{"$f":"SUM(O302:W302)","v":86260.28},{"$f":"SUM(O302:Z302)","v":86260.28}]
[279,"Congrégation Notre-Dame","Les Soeurs de la Congrégation de Notre Dame","Implantation","Bâtiment",1,"06-Montréal","Montréal","TE","SU",150150.18899999998,"2018-03-19T13:08:53","2018-04-01",417786,null,null,null,null,null,143000.18,null,7150.009,null,null,null,null,{"$f":"SUM(O303:W303)","v":150150.18899999998},{"$f":"SUM(O303:Z303)","v":150150.18899999998}]
[280,"Implantation d'une système de réfrigération au CO2","Complexe Sportif Saint-Raphaël","Implantation","Bâtiment",1,"06-Montréal","Montréal","TE","SU",0,"2017-12-21T14:06:04","2018-04-06",126000,null,null,null,null,null,null,null,null,null,null,null,null,{"$f":"SUM(O304:W304)","v":0},{"$f":"SUM(O304:Z304)","v":0}]
[281,"Réfrigération CO2 avec récupération de chaleur (075016)","Sobeys Capital Incorporée","Implantation","Bâtiment",1,"06-Montréal","Montréal","TE","SU",0,"2018-02-02T13:57:04","2021-09-02",37500,null,null,null,null,null,null,null,null,null,null,null,null,{"$f":"SUM(O305:W305)","v":0},{"$f":"SUM(O305:Z305)","v":0}]
[282,"Mesures d'efficacité énergétique au nouveau complexe médical","Complexe médical Nord-de-l'Île","Implantation","Bâtiment",1,"06-Montréal","Montréal","TE","SU",64411.09,"2019-06-03T09:01:16","2020-03-25",202000,null,null,null,null,null,null,64411.09,null,null,null,null,null,{"$f":"SUM(O306:W306)","v":64411.09},{"$f":"SUM(O306:Z306)","v":64411.09}]
[283,"Projet d'efficacité énergétique - Les appartements le Saphir I","Groupe immobilier Pertel inc.","Implantation","Bâtiment",1,"06-Montréal","Montréal","TE","SU",198633.92750000002,"2017-07-19T15:39:36","2018-04-01",377352,null,null,null,null,144880.92000000001,44094.28,null,9658.7275000000009,null,null,null,null,{"$f":"SUM(O307:W307)","v":198633.92750000002},{"$f":"SUM(O307:Z307)","v":198633.92750000002}]
[284,"Étude en efficacité énergétique du bâtiment","Hôtel Chicoutimi (1994) enr.","Analyse","Bâtiment",1,"02-Saguenay--Lac-Saint-Jean","Saguenay","TE","SU",8125,"2017-06-14","2018-04-04",16250,null,null,null,null,4062.5,4062.5,null,null,null,null,null,null,{"$f":"SUM(O308:W308)","v":8125},{"$f":"SUM(O308:Z308)","v":8125}]
[285,"Projet d'efficacité énergétique avec Arbec / Médifice immobilier s.e.n.c.","Arbec - Médifice Immobilier II s.e.n.c.","Implantation","Bâtiment",1,"14-Lanaudière","Repentigny","TE","SU",359574.07500000001,"2017-11-14T14:38:47","2019-04-01",538065,null,null,null,null,null,171225.76,171225.74,17122.575000000001,null,null,null,null,{"$f":"SUM(O309:W309)","v":359574.07500000001},{"$f":"SUM(O309:Z309)","v":359574.07500000001}]
[286,"Implantation du produit écoAZUR, confort du chef avec tableau de bord","9244-7770 Québec inc.","Implantation","Bâtiment",1,"02-Saguenay--Lac-Saint-Jean","Saguenay","TE","SU",36669.599999999999,"2018-03-05T13:29:35","2018-11-27",65685,null,null,null,null,27502.2,9167.4,null,null,null,null,null,null,{"$f":"SUM(O310:W310)","v":36669.599999999999},{"$f":"SUM(O310:Z310)","v":36669.599999999999}]
[287,"Mise aux normes de l'aréna René Masson","Ville de Montréal","Implantation","Bâtiment",1,"06-Montréal","Montréal","TE","SU",229486.95,"2019-09-11T14:43:20","2019-04-01",811900,null,null,null,null,null,null,229486.95,null,null,null,null,null,{"$f":"SUM(O311:W311)","v":229486.95},{"$f":"SUM(O311:Z311)","v":229486.95}]
[288,"Optimisation du chauffage de l'eau chaude domestique","Hotellus Montreal Holding inc.","Implantation","Bâtiment",1,"06-Montréal","Montréal","TE","SU",114918.26,"2018-03-27T16:16:23","2019-01-15",724800,null,null,null,null,null,114918.26,null,null,null,null,null,null,{"$f":"SUM(O312:W312)","v":114918.26},{"$f":"SUM(O312:Z312)","v":114918.26}]
[289,"Système de réfrigération au CO2 avec récupération de chaleur","Métro Richelieu inc.","Implantation","Bâtiment",1,"07-Outaouais","Gatineau","TE","SU",0,"2019-04-17T09:19:53","2019-09-19",50989,null,null,null,null,null,null,null,null,null,null,null,null,{"$f":"SUM(O313:W313)","v":0},{"$f":"SUM(O313:Z313)","v":0}]
[290,"Réfection majeure - Garage municipal","Ville de Joliette","Analyse","Bâtiment",1,"14-Lanaudière","Joliette","TE","SU",15203.82,"2017-10-02T09:37:53","2019-05-14",29070,null,null,null,null,null,null,15203.82,null,null,null,null,null,{"$f":"SUM(O314:W314)","v":15203.82},{"$f":"SUM(O314:Z314)","v":15203.82}]
[291,"Agrandissement de l'École Louis-Cyr","Centre de services scolaire des Grandes-Seigneuries","Analyse","Bâtiment",1,"16-Montérégie","Saint-Cyprien-de-Napierville","TE","SU",4975,"2017-09-14T14:07:46","2018-05-07",9950,null,null,null,null,null,4975,null,null,null,null,null,null,{"$f":"SUM(O315:W315)","v":4975},{"$f":"SUM(O315:Z315)","v":4975}]
[292,"Agrandissement de l'École Louis-Cyr","Centre de services scolaire des Grandes-Seigneuries","Implantation","Bâtiment",1,"16-Montérégie","Saint-Cyprien-de-Napierville","TE","SU",71827.391999999993,"2017-12-05T14:43:39","2019-04-01",147000,null,null,null,null,null,17101.759999999998,51305.279999999999,3420.3519999999999,null,null,null,null,{"$f":"SUM(O316:W316)","v":71827.391999999993},{"$f":"SUM(O316:Z316)","v":71827.391999999993}]
[293,"Analyse d'un programme de récupération de chaleur et de réduction des émissions de gaz à effet de serre au Casino de Charlevoix","Casiloc inc.","Analyse","Bâtiment",1,"03-Capitale-Nationale","La Malbaie","TE","SU",17390,"2018-03-19T13:58:07","2018-05-29",27282,null,null,null,null,null,13641,null,null,null,null,null,null,{"$f":"SUM(O317:W317)","v":13641},{"$f":"SUM(O317:Z317)","v":13641}]
[294,"Projet d'efficacité énergétique","7037457 Canada inc.","Implantation","Bâtiment",1,"06-Montréal","Montréal","TE","SU",725028.41249999998,"2019-04-10T14:10:21","2019-04-01",1400000,null,null,null,null,null,null,690503.25,34525.162499999999,null,null,null,null,{"$f":"SUM(O318:W318)","v":725028.41249999998},{"$f":"SUM(O318:Z318)","v":725028.41249999998}]
[295,"Implantation du produit écoAZUR, confort du chef avec tableau de bord","Bistro Ophélia inc.","Implantation","Bâtiment",1,"03-Capitale-Nationale","Québec","TE","SU",18219.47,"2017-11-01T09:39:22","2018-11-27",36307,null,null,null,null,13664.61,4554.8599999999997,null,null,null,null,null,null,{"$f":"SUM(O319:W319)","v":18219.47},{"$f":"SUM(O319:Z319)","v":18219.47}]
[296,"Étude d'efficacité énergétique en prévision du projet Agrandissement du Centre ÉPIC - Phase 2","Institut de Cardiologie de Montréal","Analyse","Bâtiment",1,"06-Montréal","Montréal","TE","SU",9500,"2017-10-02T09:57:35","2018-07-09",20103.39,null,null,null,null,null,9500,null,null,null,null,null,null,{"$f":"SUM(O320:W320)","v":9500},{"$f":"SUM(O320:Z320)","v":9500}]
[297,"Projet d'efficacité énergétique à l'agrandissement du Centre ÉPIC - Phase 2","Institut de Cardiologie de Montréal","Implantation","Bâtiment",1,"06-Montréal","Montréal","TE","SU",158640.05849999998,"2019-10-09T09:43:22","2019-04-01",323220,null,null,null,null,null,null,151085.76999999999,7554.2884999999997,null,null,null,null,{"$f":"SUM(O321:W321)","v":158640.05849999998},{"$f":"SUM(O321:Z321)","v":158640.05849999998}]
[298,"Étude de faisabilité en efficacité énergétique - CSRJQ","Centre de services scolaire du Chemin-du-Roy","Analyse","Bâtiment",1,"04-Mauricie","Trois-Rivières","TE","SU",13300,"2017-12-04T15:04:05","2018-03-13",25757.5,null,null,null,null,12878.75,null,null,null,null,null,null,null,{"$f":"SUM(O322:W322)","v":12878.75},{"$f":"SUM(O322:Z322)","v":12878.75}]
[299,"Réfrigération CO2 avec récupération de chaleur","Métro Richelieu inc.","Implantation","Bâtiment",1,"07-Outaouais","Gatineau","TE","SU",0,"2019-06-03T09:37:46","2019-08-14",57767,null,null,null,null,null,null,null,null,null,null,null,null,{"$f":"SUM(O323:W323)","v":0},{"$f":"SUM(O323:Z323)","v":0}]
[300,"Analyse écoénergétique - Nouvelle construction d’une caserne incendie","Ville de Saint-Joseph-de-Beauce","Analyse","Bâtiment",1,"12-Chaudière-Appalaches","Saint-Joseph-de-Beauce","TE","SU",4000,"2017-10-03T14:24:40","2017-11-27",115000,null,null,null,null,4000,null,null,null,null,null,null,null,{"$f":"SUM(O324:W324)","v":4000},{"$f":"SUM(O324:Z324)","v":4000}]
[301,"Nouveau bâtiment écoénergétique","Développements rue Dowd S.E.C.","Implantation","Bâtiment",1,"06-Montréal","Montréal","TE","SU",346946.22,"2019-02-21T18:03:59","2019-04-01",1028036,null,null,null,null,null,173473.12,173473.1,null,null,null,null,null,{"$f":"SUM(O325:W325)","v":346946.22},{"$f":"SUM(O325:Z325)","v":346946.22}]
[302,"Analyse écoénergétique - École de Sutton","Commission scolaire Eastern Townships","Analyse","Bâtiment",1,"05-Estrie","Lac-Brome","TE","SU",3800,"2017-09-28T16:10:10","2018-04-13",8738.1,null,null,null,null,null,3800,null,null,null,null,null,null,{"$f":"SUM(O326:W326)","v":3800},{"$f":"SUM(O326:Z326)","v":3800}]
[303,"Analyse écoénergétique - École primaire 035 de la CSPO","Centre de services scolaire des Portages-de-l'Outaouais","Analyse","Bâtiment",1,"07-Outaouais","Gatineau","TE","SU",5900,"2018-02-06T14:20:17","2018-09-06",11800,null,null,null,null,null,5900,null,null,null,null,null,null,{"$f":"SUM(O327:W327)","v":5900},{"$f":"SUM(O327:Z327)","v":5900}]
[304,"Projet d'efficacité énergétique à l\"École primaire 035","Centre de services scolaire des Portages-de-l'Outaouais","Implantation","Bâtiment",1,"07-Outaouais","Gatineau","TE","SU",36545.186999999998,"2018-06-11T13:46:39","2021-02-24",416200,null,null,null,null,null,null,null,36545.186999999998,null,null,null,null,{"$f":"SUM(O328:W328)","v":36545.186999999998},{"$f":"SUM(O328:Z328)","v":36545.186999999998}]
[305,"Projet d'économie d'énergie aux Appartements Le Parc","Immoparc Holdings Two Canadian Propreties","Implantation","Bâtiment",1,"06-Montréal","Montréal","TE","SU",754846.47,"2018-03-02T09:57:19","2018-04-01",1184403,null,null,null,null,188711.62,535819.31000000006,null,null,null,null,null,null,{"$f":"SUM(O329:W329)","v":724530.93},{"$f":"SUM(O329:Z329)","v":724530.93}]
[306,"57, Crémazie, Gatineau - Neuf logements","Construction JPL","Analyse","Bâtiment",1,"07-Outaouais","Gatineau","TE","SU",2250,"2018-04-27T13:26:49","2018-12-06",4500,null,null,null,null,null,2250,null,null,null,null,null,null,{"$f":"SUM(O330:W330)","v":2250},{"$f":"SUM(O330:Z330)","v":2250}]
[307,"Implantation du produit ecoAZUR","Boston Pizza Beauport","Implantation","Bâtiment",1,"03-Capitale-Nationale","Québec","TE","SU",27077.7,"2018-03-06T11:14:14","2018-11-27",54130,null,null,null,null,20308.259999999998,6769.44,null,null,null,null,null,null,{"$f":"SUM(O331:W331)","v":27077.699999999997},{"$f":"SUM(O331:Z331)","v":27077.699999999997}]
[308,"Projet d’efficacité énergétique à l'hôtel Le Sheraton de l'Aéroport de Montréal","Hôtel McMillan 555 inc.","Analyse","Bâtiment",1,"06-Montréal","Dorval","TE","SU",25000,"2018-02-05T15:42:44","2019-08-28",165000,null,null,null,null,null,null,25000,null,null,null,null,null,{"$f":"SUM(O332:W332)","v":25000},{"$f":"SUM(O332:Z332)","v":25000}]
[309,"Projet d'efficacité énergétique pour l'hôtel Sheraton Aéroport Montréal","Hôtel McMillan 555 inc.","Implantation","Bâtiment",1,"06-Montréal","Dorval","TE","SU",1166933.355,"2018-04-10T08:37:31","2019-04-01",2764401,null,null,null,null,null,555682.56000000006,555682.54,55568.254999999997,null,null,null,null,{"$f":"SUM(O333:W333)","v":1166933.355},{"$f":"SUM(O333:Z333)","v":1166933.355}]
[310,"Projet d'efficacité énergétique à l'Hôtel Marriott - Chaudières à condensation","4328175 Canada inc.","Implantation","Bâtiment",1,"06-Montréal","Dorval","TE","SU",44047.489499999996,"2019-02-11T09:34:54","2018-04-01",124000,null,null,null,null,null,10487.49,31462.5,2097.4994999999999,null,null,null,null,{"$f":"SUM(O334:W334)","v":44047.489499999996},{"$f":"SUM(O334:Z334)","v":44047.489499999996}]
[311,"Analyse écoénergétique du Séminaire Salésien","Le Séminaire Salésien de Sherbrooke","Analyse","Bâtiment",1,"05-Estrie","Sherbrooke","TE","SU",4480,"2018-03-02T09:45:59","2018-03-23",8960,null,null,null,null,4480,null,null,null,null,null,null,null,{"$f":"SUM(O335:W335)","v":4480},{"$f":"SUM(O335:Z335)","v":4480}]
[312,"Projet d'efficacité énergétique - Maison de la culture","Ville de Saint-Joseph-de-Beauce","Implantation","Bâtiment",1,"12-Chaudière-Appalaches","Saint-Joseph-de-Beauce","TE","SU",12540,"2018-10-15T12:56:21","2018-04-01",43813,null,null,null,null,null,12540,null,null,null,null,null,null,{"$f":"SUM(O336:W336)","v":12540},{"$f":"SUM(O336:Z336)","v":12540}]
[313,"Implantation du produit ecoAZUR","Restaurant Chez Gérard inc.","Implantation","Bâtiment",1,"12-Chaudière-Appalaches","Saint-Georges","TE","SU",11920.57,"2018-03-05T12:58:25","2018-11-27",26255,null,null,null,null,8940.42,2980.15,null,null,null,null,null,null,{"$f":"SUM(O337:W337)","v":11920.57},{"$f":"SUM(O337:Z337)","v":11920.57}]
[314,"Aréna du Collège Bourget - Remplacement du système de réfrigération","Collège Bourget","Implantation","Bâtiment",1,"16-Montérégie","Rigaud","TE","SU",73290,"2019-09-26T08:40:57","2020-02-12",209400,null,null,null,null,null,null,73290,null,null,null,null,null,{"$f":"SUM(O338:W338)","v":73290},{"$f":"SUM(O338:Z338)","v":73290}]
[315,"Projet d'efficacité énergétique et conversion vers l'électricité avec gestion de l'appel de puissance","Collège d'Anjou","Implantation","Bâtiment",1,"06-Montréal","Montréal","TE","SU",158376.68,"2018-07-04T15:30:10","2018-04-01",337631,null,null,null,null,null,158376.68,null,null,null,null,null,null,{"$f":"SUM(O339:W339)","v":158376.68},{"$f":"SUM(O339:Z339)","v":158376.68}]
[316,"Installation d'un système de réfrigération au CO2 au Avril Supermarché Santé","Avril Supermarché Santé","Implantation","Bâtiment",1,"13-Laval","Laval","TE","SU",0,"2019-02-11T13:55:15","2019-03-05",17250,null,null,null,null,null,null,null,null,null,null,null,null,{"$f":"SUM(O340:W340)","v":0},{"$f":"SUM(O340:Z340)","v":0}]
[317,"Réfrigération CO2 avec récupération de chaleur (089130)","Sobeys Capital Incorporée","Implantation","Bâtiment",1,"06-Montréal","Montréal","TE","SU",0,"2019-03-20T16:02:27","2022-03-04",37500,null,null,null,null,null,null,null,null,null,null,null,null,{"$f":"SUM(O341:W341)","v":0},{"$f":"SUM(O341:Z341)","v":0}]
[318,"Réfrigération CO2 avec récupération de chaleur (088077)","Sobeys Capital Incorporée","Implantation","Bâtiment",1,"06-Montréal","Montréal","TE","SU",0,"2019-02-20T13:32:23","2021-09-03",37500,null,null,null,null,null,null,null,null,null,null,null,null,{"$f":"SUM(O342:W342)","v":0},{"$f":"SUM(O342:Z342)","v":0}]
[319,"Réfrigération au CO2 avec récupération de chaleur (08123)","Sobeys Capital Incorporée","Implantation","Bâtiment",1,"14-Lanaudière","Mascouche","TE","SU",0,"2019-05-14T14:29:06","2020-04-01",56250,null,null,null,null,null,null,null,null,null,null,null,null,{"$f":"SUM(O343:W343)","v":0},{"$f":"SUM(O343:Z343)","v":0}]
[320,"Étude de modernisation énergétique","Gestion 333 Chabanel (9315-3252 Québec inc.)","Analyse","Bâtiment",1,"06-Montréal","Montréal","TE","SU",17500,"2018-04-27T13:39:13","2019-06-03",35000,null,null,null,null,null,8750,8750,null,null,null,null,null,{"$f":"SUM(O344:W344)","v":17500},{"$f":"SUM(O344:Z344)","v":17500}]
[321,"Modernisation énergétique -  Canada Goose","Gestion 333 Chabanel (9315-3252 Québec inc.)","Implantation","Bâtiment",1,"06-Montréal","Montréal","TE","SU",276001.88699999999,"2020-05-21T09:01:39","2020-10-23",1007000,null,null,null,null,null,null,null,276001.88699999999,null,null,null,null,{"$f":"SUM(O345:W345)","v":276001.88699999999},{"$f":"SUM(O345:Z345)","v":276001.88699999999}]
[322,"Projet d'efficacité énergétique Collège de Lévis","Collège de Lévis","Implantation","Bâtiment",1,"12-Chaudière-Appalaches","Lévis","TE","SU",342634.56150000001,"2018-04-06T14:36:01","2018-04-01",1056618,null,null,null,null,null,326318.63,null,16315.931500000001,null,null,null,null,{"$f":"SUM(O346:W346)","v":342634.56150000001},{"$f":"SUM(O346:Z346)","v":342634.56150000001}]
[323,"Projet d'efficacité énergétique au 5740, boulevard Cavendish","CAPREIT Apartments Inc.","Implantation","Bâtiment",1,"06-Montréal","Montréal","TE","SU",314432.56,"2018-08-09T14:38:48","2018-04-01",497600,null,null,null,null,null,301526,null,null,null,null,null,null,{"$f":"SUM(O347:W347)","v":301526},{"$f":"SUM(O347:Z347)","v":301526}]
[324,"Projet d'économie d'énergie à la résidence Jardins Le Flandre","Résidences Les Jardins, société en commandite","Implantation","Bâtiment",1,"03-Capitale-Nationale","Québec","TE","SU",60568.15,"2018-06-19T13:12:55","2018-04-01",128627,null,null,null,null,null,60568.15,null,null,null,null,null,null,{"$f":"SUM(O348:W348)","v":60568.15},{"$f":"SUM(O348:Z348)","v":60568.15}]
[325,"Projet d'efficacité énergétique - Burak Édifice Lafontaine","Entreprises Burak inc.","Implantation","Bâtiment",1,"06-Montréal","Montréal","TE","SU",279821.51,"2018-05-30T16:22:10","2018-12-26",622177,null,null,null,null,null,279821.51,null,null,null,null,null,null,{"$f":"SUM(O349:W349)","v":279821.51},{"$f":"SUM(O349:Z349)","v":279821.51}]
[326,"Analyse énergétique du projet de quartier AGORA Village Urbain","10303712 Canada inc.","Analyse","Bâtiment",1,"07-Outaouais","Gatineau","TE","SU",19650,"2018-01-18T15:56:32","2018-03-19",39300,null,null,null,null,19650,null,null,null,null,null,null,null,{"$f":"SUM(O350:W350)","v":19650},{"$f":"SUM(O350:Z350)","v":19650}]
[327,"Analyse énergétique pour la modernisation de la chaufferie","Centre de services Scolaire de la Beauce-Etchemin","Analyse","Bâtiment",1,"12-Chaudière-Appalaches","Saint-Martin","TE","SU",16000,"2018-02-14T08:49:01","2018-04-09",206000,null,null,null,null,null,16000,null,null,null,null,null,null,{"$f":"SUM(O351:W351)","v":16000},{"$f":"SUM(O351:Z351)","v":16000}]
[328,"Réfrigération CO2 avec récupération de chaleur (000110)","Sobeys Capital Incorporée","Implantation","Bâtiment",1,"16-Montérégie","Saint-Jean-sur-Richelieu","TE","SU",0,"2019-03-20T16:21:00","2020-04-01",37500,null,null,null,null,null,null,null,null,null,null,null,null,{"$f":"SUM(O352:W352)","v":0},{"$f":"SUM(O352:Z352)","v":0}]
[329,"Projet d'efficacité énergétique au nouveau CHSLD à Blainville","Arbec - Médifice Immobilier II s.e.n.c.","Implantation","Bâtiment",1,"15-Laurentides","Blainville","TE","SU",382218.17599999998,"2019-04-23T10:03:21","2019-04-01",864326,null,null,null,null,null,null,363915.63,18302.545999999998,null,null,null,null,{"$f":"SUM(O353:W353)","v":382218.17599999998},{"$f":"SUM(O353:Z353)","v":382218.17599999998}]
[330,"Projet d'efficacité énergétique au nouveau CHSLD à Saint-Hubert","Arbec - Médifice Immobilier II s.e.n.c.","Implantation","Bâtiment",1,"16-Montérégie","Longueuil","TE","SU",326192.49600000004,"2019-04-02T14:39:11","2019-04-01",861724,null,null,null,null,null,null,310659.52,15532.976000000001,null,null,null,null,{"$f":"SUM(O354:W354)","v":326192.49600000004},{"$f":"SUM(O354:Z354)","v":326192.49600000004}]
[331,"Système de réfrigération au CO2 avec récupération de chaleur","Avril Supermarché Santé","Implantation","Bâtiment",1,"05-Estrie","Granby","TE","SU",75095.247427599999,"2019-10-29T14:20:25","2019-11-12",153700,null,null,null,null,null,null,75095.247427599999,null,null,null,null,null,{"$f":"SUM(O355:W355)","v":75095.247427599999},{"$f":"SUM(O355:Z355)","v":75095.247427599999}]
[332,"Loews Hôtel Vogue, Économie d'énergie","Loews Hotel Vogue","Analyse","Bâtiment",1,"06-Montréal","Montréal","TE","SU",13005,"2018-06-28T13:53:22","2019-04-08",26010,null,null,null,null,null,null,13005,null,null,null,null,null,{"$f":"SUM(O356:W356)","v":13005},{"$f":"SUM(O356:Z356)","v":13005}]
[333,"Analyse éco-énergétique relative aux systèmes de chauffage et de refroidissement","Centre de services scolaire des Affluents","Analyse","Bâtiment",1,"14-Lanaudière","Repentigny","TE","SU",25000,"2018-07-04T15:44:27","2019-05-06",0,null,null,null,null,null,null,25000,null,null,null,null,null,{"$f":"SUM(O357:W357)","v":25000},{"$f":"SUM(O357:Z357)","v":25000}]
[334,"Remplacement d'un compensateur et d'une hotte pour des équipements à débit variable","Alessa Trattoria inc.","Implantation","Bâtiment",1,"05-Estrie","Magog","TE","SU",21665.731499999998,"2019-02-15T14:12:53","2018-04-01",58750,null,null,null,null,null,20634.03,null,1031.7014999999999,null,null,null,null,{"$f":"SUM(O358:W358)","v":21665.731499999998},{"$f":"SUM(O358:Z358)","v":21665.731499999998}]
[335,"Projet d'efficacité énergétique au nouveau Strom Spa à Québec","Strom Spa Québec inc.","Implantation","Bâtiment",1,"03-Capitale-Nationale","Québec","TE","SU",530406.93000000005,"2018-07-04T10:13:01","2018-04-01",1296620,null,null,null,null,null,530406.93000000005,null,null,null,null,null,null,{"$f":"SUM(O359:W359)","v":530406.93000000005},{"$f":"SUM(O359:Z359)","v":530406.93000000005}]
[336,"Projet d’amélioration énergétique - École Notre-Dame du Rosaire","Centre de services scolaire de l'Or-et-des-Bois","Implantation","Bâtiment",1,"08-Abitibi-Témiscamingue","Val-d'Or","TE","SU",27635.370000000003,"2018-09-17T10:07:07","2019-04-01",44454,null,null,null,null,null,null,26319.4,1315.97,null,null,null,null,{"$f":"SUM(O360:W360)","v":27635.370000000003},{"$f":"SUM(O360:Z360)","v":27635.370000000003}]
[337,"Étude technico-économique pour le remplacement du mazout comme source de chauffage","Centre de services scolaire des Hauts-Cantons","Analyse","Bâtiment",1,"05-Estrie","Saint-Isidore-de-Clifton","TE","SU",3750,"2018-05-16T13:50:19","2018-11-20",7500,null,null,null,null,null,3750,null,null,null,null,null,null,{"$f":"SUM(O361:W361)","v":3750},{"$f":"SUM(O361:Z361)","v":3750}]
[338,"Remplacement du mazout comme source de chauffage par un système électrique","Centre de services scolaire des Hauts-Cantons","Implantation","Bâtiment",1,"05-Estrie","Saint-Isidore-de-Clifton","TE","SU",97762.95,"2019-01-15T17:14:59","2018-04-01",161616,null,null,null,null,null,24440.73,73322.22,null,null,null,null,null,{"$f":"SUM(O362:W362)","v":97762.95},{"$f":"SUM(O362:Z362)","v":97762.95}]
[339,"Projet d’amélioration énergétique - École Saint-Isidore","Centre de services scolaire de l'Or-et-des-Bois","Implantation","Bâtiment",1,"08-Abitibi-Témiscamingue","Val-d'Or","TE","SU",46615.726499999997,"2018-09-17T11:37:00","2019-04-01",85080,null,null,null,null,null,null,44395.93,2219.7964999999999,null,null,null,null,{"$f":"SUM(O363:W363)","v":46615.726499999997},{"$f":"SUM(O363:Z363)","v":46615.726499999997}]
[340,"Projet d’amélioration énergétique - École Sainte-Lucie","Centre de services scolaire de l'Or-et-des-Bois","Implantation","Bâtiment",1,"08-Abitibi-Témiscamingue","Val-d'Or","TE","SU",19038.7575,"2018-09-19T16:04:06","2019-04-01",46085,null,null,null,null,null,null,18132.150000000001,906.60749999999996,null,null,null,null,{"$f":"SUM(O364:W364)","v":19038.7575},{"$f":"SUM(O364:Z364)","v":19038.7575}]
[341,"Projet d'efficacité énergétique - Les Jardins Champfleury","Résidences Les Jardins, société en commandite","Implantation","Bâtiment",1,"03-Capitale-Nationale","Québec","TE","SU",61182.912000000004,"2019-08-23T09:26:45","2019-04-01",115678,null,null,null,null,null,null,58269.440000000002,2913.4720000000002,null,null,null,null,{"$f":"SUM(O365:W365)","v":61182.912000000004},{"$f":"SUM(O365:Z365)","v":61182.912000000004}]
[342,"Projet d'efficacité énergétique au 5000 Buchan","Édifice 5000 Buchan Inc.","Implantation","Bâtiment",1,"03-Capitale-Nationale","Québec","TE","SU",161771.57999999999,"2019-05-27T11:16:01","2019-04-01",238850,null,null,null,null,null,null,130730.24000000001,8088.5789999999997,null,null,null,null,{"$f":"SUM(O366:W366)","v":138818.81900000002},{"$f":"SUM(O366:Z366)","v":138818.81900000002}]
[343,"Analyse éco-énergétique - Site rue Sherbrooke Est","Société d'habitation populaire de l'Est de Montréal","Analyse","Bâtiment",1,"06-Montréal","Montréal","TE","SU",9260,"2019-02-11T08:51:32","2019-10-04",21298,null,null,null,null,null,null,9260,null,null,null,null,null,{"$f":"SUM(O367:W367)","v":9260},{"$f":"SUM(O367:Z367)","v":9260}]
[344,"Remplacement la chaudière au mazout par une chaudière électrique et au mazout de l'église","Municipalité de Sainte-Luce","Implantation","Bâtiment",1,"01-Bas-Saint-Laurent","Sainte-Luce","TE","SU",95217.32,"2019-01-08T14:36:09","2019-04-08",135979,null,null,null,null,null,null,95217.32,null,null,null,null,null,{"$f":"SUM(O368:W368)","v":95217.32},{"$f":"SUM(O368:Z368)","v":95217.32}]
[345,"Récupération de chaleur sur système de réfrigération","Métro Richelieu inc.","Implantation","Bâtiment",1,"06-Montréal","Montréal","TE","SU",27610.69,"2020-04-16T11:09:35","2020-04-01",51803,null,null,null,null,null,null,null,20289.419999999998,1380.5345,null,null,null,{"$f":"SUM(O369:W369)","v":21669.9545},{"$f":"SUM(O369:Z369)","v":21669.9545}]
[346,"Analyse énergétique","Buanderie progrès hygiénique inc.","Analyse","Bâtiment",1,"06-Montréal","Montréal","TE","SU",3275,"2018-03-20T08:42:25","2018-06-29",10347,null,null,null,null,null,3275,null,null,null,null,null,null,{"$f":"SUM(O370:W370)","v":3275},{"$f":"SUM(O370:Z370)","v":3275}]
[347,"Analyse écoénergétique","Best Western Plus Centre-ville Québec","Analyse","Bâtiment",1,"03-Capitale-Nationale","Québec","TE","SU",4450,"2019-02-28T15:57:00","2019-04-19",9797.5,null,null,null,null,null,null,4450,null,null,null,null,null,{"$f":"SUM(O371:W371)","v":4450},{"$f":"SUM(O371:Z371)","v":4450}]
[348,"Modernisation Énergétique - Transport XTL","Immeuble XTL & SL S.E.C.","Implantation","Bâtiment",1,"06-Montréal","Montréal","TE","SU",290965.185,"2018-12-19T10:08:13","2019-04-01",809409,null,null,null,null,null,207832.26,69277.440000000002,13855.485000000001,null,null,null,null,{"$f":"SUM(O372:W372)","v":290965.185},{"$f":"SUM(O372:Z372)","v":290965.185}]
[349,"Efficacité énergétique","Compagnie SB-Montréal 2000 inc.","Implantation","Bâtiment",1,"06-Montréal","Montréal","TE","SU",248725.75,"2019-04-10T09:11:44","2019-04-01",422975,null,null,null,null,null,null,233566.32,12436.2875,null,null,null,null,{"$f":"SUM(O373:W373)","v":246002.60750000001},{"$f":"SUM(O373:Z373)","v":246002.60750000001}]
[350,"Implantation du produit ecoAZUR avec Confort du Chef","La Promenade","Implantation","Bâtiment",1,"09-Côte-Nord","Havre-Saint-Pierre","TE","SU",23127.46,"2019-07-03T09:32:49","2019-12-09",56328,null,null,null,null,null,null,23127.46,null,null,null,null,null,{"$f":"SUM(O374:W374)","v":23127.46},{"$f":"SUM(O374:Z374)","v":23127.46}]
[351,"Implantation du produit ecoAZUR avec Confort du Chef","Les Pétroles Alcasyna (1993) inc.","Implantation","Bâtiment",1,"08-Abitibi-Témiscamingue","Val-d'Or","TE","SU",15210.32,"2019-07-24T09:06:48","2019-12-09",29347,null,null,null,null,null,null,15210.32,null,null,null,null,null,{"$f":"SUM(O375:W375)","v":15210.32},{"$f":"SUM(O375:Z375)","v":15210.32}]
[352,"Étude de modernisation énergétique","9315-3252 Québec inc.(Gestion 433 Chabanel)","Analyse","Bâtiment",1,"06-Montréal","Montréal","TE","SU",17500,"2018-04-09T15:39:07","2020-03-03",0,null,null,null,null,null,8750,8750,null,null,null,null,null,{"$f":"SUM(O376:W376)","v":17500},{"$f":"SUM(O376:Z376)","v":17500}]
[353,"Implantation du produit ecoAZUR - Comptoir Harvey's / St-Hubert Express Matane","Les Rôtisseries St-Hubert ltée","Implantation","Bâtiment",1,"01-Bas-Saint-Laurent","Matane","TE","SU",35122.667999999998,"2019-09-12T14:45:56","2021-02-03",79089,null,null,null,null,null,null,null,35122.667999999998,null,null,null,null,{"$f":"SUM(O377:W377)","v":35122.667999999998},{"$f":"SUM(O377:Z377)","v":35122.667999999998}]
[354,"Efficacité énergétique au 2555, Benny","Corporation de l'édifice St-Régis","Implantation","Bâtiment",1,"06-Montréal","Montréal","TE","SU",253289,"2019-01-18T15:00:41","2018-04-01",448500,null,null,null,null,null,217132.14,null,null,null,null,null,null,{"$f":"SUM(O378:W378)","v":217132.14},{"$f":"SUM(O378:Z378)","v":217132.14}]
[355,"Implantation du produit ecoAZUR avec Confort du Chef","Les Entreprises JM Benjamin inc.","Implantation","Bâtiment",1,"16-Montérégie","Saint-Jean-sur-Richelieu","TE","SU",30280.06,"2019-09-13T09:32:10","2019-12-09",106514,null,null,null,null,null,null,30280.06,null,null,null,null,null,{"$f":"SUM(O379:W379)","v":30280.06},{"$f":"SUM(O379:Z379)","v":30280.06}]
[356,"Modernisation énergétique - 3333 Queen-Mary","9282-5645 Québec inc.","Implantation","Bâtiment",1,"06-Montréal","Montréal","TE","SU",102001.42,"2018-12-11T16:24:12","2018-04-01",173000,null,null,null,null,null,102001.42,null,null,null,null,null,null,{"$f":"SUM(O380:W380)","v":102001.42},{"$f":"SUM(O380:Z380)","v":102001.42}]
[357,"Étude réseau vapeur","Hôpital du Sûroit","Analyse","Bâtiment",1,"16-Montérégie","Salaberry-de-Valleyfield","TE","SU",8765.5,"2018-05-25T10:19:25","2018-11-29",17326.22,null,null,null,null,null,7994.67,null,null,null,null,null,null,{"$f":"SUM(O381:W381)","v":7994.67},{"$f":"SUM(O381:Z381)","v":7994.67}]
[358,"Analyse technique d’efficacité et d’approvisionnement énergétique renouvelable appliquée","9274-5124 Québec inc.","Analyse","Bâtiment",1,"03-Capitale-Nationale","Québec","TE","SU",5365,"2018-04-27T15:37:13","2019-10-29",0,null,null,null,null,null,2682.5,2682.5,null,null,null,null,null,{"$f":"SUM(O382:W382)","v":5365},{"$f":"SUM(O382:Z382)","v":5365}]
[359,"Implantation du produit ecoAZUR","Archibald Blainville","Implantation","Bâtiment",1,"15-Laurentides","Blainville","TE","SU",38547.61,"2019-09-04T09:48:01","2020-03-20",117743,null,null,null,null,null,null,38547.61,null,null,null,null,null,{"$f":"SUM(O383:W383)","v":38547.61},{"$f":"SUM(O383:Z383)","v":38547.61}]
[360,"Implantation du produit ecoAZUR pour le contrôle de la ventilation des hottes de cuisine","CISSS du Bas-Saint-Laurent","Implantation","Bâtiment",1,"01-Bas-Saint-Laurent","Rivière-du-Loup","TE","SU",15215.854499999999,"2020-01-14T08:56:21","2021-02-25",49016,null,null,null,null,null,null,null,15215.854499999999,null,null,null,null,{"$f":"SUM(O384:W384)","v":15215.854499999999},{"$f":"SUM(O384:Z384)","v":15215.854499999999}]
[361,"Réfrigération CO2 avec récupération de chaleur","Métro Richelieu inc.","Implantation","Bâtiment",1,"06-Montréal","Montréal","TE","SU",3882.3357719999999,"2020-01-13T16:01:50","2020-02-10",44764,null,null,null,null,null,null,3882.3357719999999,null,null,null,null,null,{"$f":"SUM(O385:W385)","v":3882.3357719999999},{"$f":"SUM(O385:Z385)","v":3882.3357719999999}]
[362,"Étude en efficacité énergétique","Les Immeubles Perron","Analyse","Bâtiment",1,"02-Saguenay--Lac-Saint-Jean","Saguenay","TE","SU",5300,"2018-05-25T09:10:57","2018-09-10",10600,null,null,null,null,null,5300,null,null,null,null,null,null,{"$f":"SUM(O386:W386)","v":5300},{"$f":"SUM(O386:Z386)","v":5300}]
[363,"Réfrigération CO2 avec récupération de chaleur (089125)","Sobeys Capital Incorporée","Implantation","Bâtiment",1,"06-Montréal","Montréal","TE","SU",0,"2019-08-19T13:56:42","2021-11-03",37500,null,null,null,null,null,null,null,null,null,null,null,null,{"$f":"SUM(O387:W387)","v":0},{"$f":"SUM(O387:Z387)","v":0}]
[364,"Projet d'économie d'énergie au Centre international Providence","Soeurs de la Providence","Implantation","Bâtiment",1,"06-Montréal","Montréal","TE","SU",50197.21,"2019-02-11T13:44:50","2019-04-26",165265,null,null,null,null,null,null,50197.21,null,null,null,null,null,{"$f":"SUM(O388:W388)","v":50197.21},{"$f":"SUM(O388:Z388)","v":50197.21}]
[365,"Projet d'optimisation énergétique Bayside","80 Chemin du Bord-du-Lac inc.","Implantation","Bâtiment",1,"06-Montréal","Pointe-Claire","TE","SU",245009.21,"2019-02-15T14:33:46","2019-04-01",532767,null,null,null,null,null,null,245009.21,null,null,null,null,null,{"$f":"SUM(O389:W389)","v":245009.21},{"$f":"SUM(O389:Z389)","v":245009.21}]
[366,"Implantation du produit ecoAZUR avec Confort du Chef au restaurant La Voie Maltée - Laurier","La Voie Maltée - Laurier","Implantation","Bâtiment",1,"03-Capitale-Nationale","Québec","TE","SU",34416.21,"2019-09-04T09:37:11","2020-02-12",110590,null,null,null,null,null,null,34416.21,null,null,null,null,null,{"$f":"SUM(O390:W390)","v":34416.21},{"$f":"SUM(O390:Z390)","v":34416.21}]
[367,"Économie d'énergie","Holiday Inn (MC) Montréal Centre-ville","Analyse","Bâtiment",1,"06-Montréal","Montréal","TE","SU",9850,"2018-11-14T10:12:38","2018-11-20",22800,null,null,null,null,null,9850,null,null,null,null,null,null,{"$f":"SUM(O391:W391)","v":9850},{"$f":"SUM(O391:Z391)","v":9850}]
[368,"Modernisation de la chaufferie principale","Investissement Woodcrest inc.","Implantation","Bâtiment",1,"06-Montréal","Westmount","TE","SU",44351.79,"2018-09-19T13:08:56","2021-06-17",179500,null,null,null,null,null,null,null,2217.5895,26526.05,null,null,null,{"$f":"SUM(O392:W392)","v":28743.639499999997},{"$f":"SUM(O392:Z392)","v":28743.639499999997}]
[369,"Projet d’efficacité énergétique du CRSSS de la Baie-James","Centre régional de santé et de services sociaux de la Baie-James","Implantation","Bâtiment",1,"10-Nord-du-Québec","Chibougamau","TE","SU",101557.5,"2019-03-21T14:17:14","2019-04-01",151410,null,null,null,null,null,null,98858.17,2699.33,null,null,null,null,{"$f":"SUM(O393:W393)","v":101557.5},{"$f":"SUM(O393:Z393)","v":101557.5}]
[370,"Efficacité énergétique au 65, rue Sherbrooke","Appartements CAPREIT","Implantation","Bâtiment",1,"06-Montréal","Montréal","TE","SU",232500,"2020-03-04T14:37:00","2019-04-01",310000,null,null,null,null,null,null,232500,null,null,null,null,null,{"$f":"SUM(O394:W394)","v":232500},{"$f":"SUM(O394:Z394)","v":232500}]
[371,"Audit énergétique ASHRAE Niv.2 Centre de formation professionnelle Paul-Rousseau","Centre de services scolaire des Chênes","Analyse","Bâtiment",1,"17-Centre-du-Québec","Drummondville","TE","SU",6900,"2018-07-03T16:06:41","2019-06-28",0,null,null,null,null,null,3450,3450,null,null,null,null,null,{"$f":"SUM(O395:W395)","v":6900},{"$f":"SUM(O395:Z395)","v":6900}]
[372,"Agrandissement et réaménagement de l'École Saint-René (Analyse)","Centre de services scolaire des Grandes-Seigneuries","Analyse","Bâtiment",1,"16-Montérégie","Mercier","TE","SU",5625,"2018-08-07T08:58:37","2019-07-15",11750,null,null,null,null,null,null,5625,null,null,null,null,null,{"$f":"SUM(O396:W396)","v":5625},{"$f":"SUM(O396:Z396)","v":5625}]
[373,"Réaménagement de l'École St-Viateur-Clotilde-Raymond, édifice St-Viateur (Analyse)","Centre de services scolaire des Grandes-Seigneuries","Analyse","Bâtiment",1,"16-Montérégie","Saint-Constant","TE","SU",4600,"2018-07-26T14:26:10","2019-07-15",0,null,null,null,null,null,null,4600,null,null,null,null,null,{"$f":"SUM(O397:W397)","v":4600},{"$f":"SUM(O397:Z397)","v":4600}]
[374,"Projet des Cascades - Agrandissement","Domaine des Cascades inc.","Implantation","Bâtiment",1,"16-Montérégie","Sainte-Catherine","TE","SU",124347.9825,"2020-05-01T10:18:12","2020-09-29",324500,null,null,null,null,null,null,null,124347.9825,null,null,null,null,{"$f":"SUM(O398:W398)","v":124347.9825},{"$f":"SUM(O398:Z398)","v":124347.9825}]
[375,"075023 IGA - Ville Mont-Royal -Montréal","Sobeys Capital Incorporée","Implantation","Bâtiment",1,"06-Montréal","Mont-Royal","TE","SU",0,"2019-05-27T10:50:06","2021-06-04",50000,null,null,null,null,null,null,null,null,null,null,null,null,{"$f":"SUM(O399:W399)","v":0},{"$f":"SUM(O399:Z399)","v":0}]
[376,"Étude énergétique pourvoirie Waban-Aki","Pourvoirie Waban-Aki (2008) inc.","Analyse","Bâtiment",1,"04-Mauricie","La Tuque","TE","SU",2000,"2018-08-07T11:55:59","2018-09-05",4000,null,null,null,null,null,2000,null,null,null,null,null,null,{"$f":"SUM(O400:W400)","v":2000},{"$f":"SUM(O400:Z400)","v":2000}]
[377,"Étude de faisabilité - Efficacité énergétique dans un Edifice Multi-Logements","Syndicat des copropriétaires de Manoir Trois","Analyse","Bâtiment",1,"06-Montréal","Montréal","TE","SU",9000,"2018-11-09T09:05:04","2019-01-17",18000,null,null,null,null,null,9000,null,null,null,null,null,null,{"$f":"SUM(O401:W401)","v":9000},{"$f":"SUM(O401:Z401)","v":9000}]
[378,"Agrandissement de l'école Sainte-Marguerite-Bourgeoys","Centre de services scolaire de la Pointe-de-l'Île","Analyse","Bâtiment",1,"06-Montréal","Montréal","TE","SU",6350,"2019-02-08T09:33:14","2018-09-13",13200,null,null,null,null,null,6350,null,null,null,null,null,null,{"$f":"SUM(O402:W402)","v":6350},{"$f":"SUM(O402:Z402)","v":6350}]
[379,"Optimisation de ventilation, récupération de chaleur de ventilation et remplacement du système de chauffage d'eau domestique","Syndicat de la copropriété QB","Implantation","Bâtiment",1,"03-Capitale-Nationale","Québec","TE","SU",740997.36,"2018-12-11T09:28:31","2019-04-01",1131250,null,null,null,null,null,185249.34,449518.56,31558.14,null,null,null,null,{"$f":"SUM(O403:W403)","v":666326.04},{"$f":"SUM(O403:Z403)","v":666326.04}]
[380,"Installation d'un système de hotte variable","Le Renaissance Cowansville, S.E.C.","Implantation","Bâtiment",1,"05-Estrie","Cowansville","TE","SU",10922.9295,"2019-09-10T14:21:18","2019-04-01",60000,null,null,null,null,null,null,10402.790000000001,520.1395,null,null,null,null,{"$f":"SUM(O404:W404)","v":10922.9295},{"$f":"SUM(O404:Z404)","v":10922.9295}]
[381,"Analyse écoénergétique de dix écoles de la Commission scolaire Eastern Townships","Commission scolaire Eastern Townships","Analyse","Bâtiment",1,"05-Estrie","Sherbrooke","TE","SU",48300,"2019-04-02T15:49:51","2019-09-03",96600,null,null,null,null,null,null,48300,null,null,null,null,null,{"$f":"SUM(O405:W405)","v":48300},{"$f":"SUM(O405:Z405)","v":48300}]
[382,"Audit énergétique ASHRAE (Niveau 2) au Centre de formation professionnelle - Mécanique de Véhicules Lourds Routiers","Centre de services scolaire des Chênes","Analyse","Bâtiment",1,"17-Centre-du-Québec","Saint-Germain-de-Grantham","TE","SU",12000,"2018-11-12T09:35:06","2018-11-23",427690,null,null,null,null,null,12000,null,null,null,null,null,null,{"$f":"SUM(O406:W406)","v":12000},{"$f":"SUM(O406:Z406)","v":12000}]
[383,"Réfection du système de chauffage de l'école secondaire Curé-Hébert","Centre de services scolaire du Lac-Saint-Jean","Implantation","Bâtiment",1,"02-Saguenay--Lac-Saint-Jean","Hébertville","TE","SU",133995.09900000002,"2019-07-25T13:10:50","2019-04-01",642372,null,null,null,null,null,null,127614.38,6380.7190000000001,null,null,null,null,{"$f":"SUM(O407:W407)","v":133995.09900000002},{"$f":"SUM(O407:Z407)","v":133995.09900000002}]
[384,"Implantation du produit ecoAZUR avec Confort du Chef - Relais La Sarre","Les Pétroles Alcasyna (1993) inc.","Implantation","Bâtiment",1,"08-Abitibi-Témiscamingue","La Sarre","TE","SU",17462.140500000001,"2019-09-12T10:50:30","2019-04-01",28647,null,null,null,null,null,null,16630.61,831.53049999999996,null,null,null,null,{"$f":"SUM(O408:W408)","v":17462.140500000001},{"$f":"SUM(O408:Z408)","v":17462.140500000001}]
[385,"Analyse de faisabilité pour l'amélioration des systèmes de chauffage, de géothermie et de régulation","Collège de Sainte-Anne-de-la-Pocatière","Analyse","Bâtiment",1,"01-Bas-Saint-Laurent","La Pocatière","TE","SU",10090,"2018-10-02T14:19:44","2020-01-17",18000,null,null,null,null,null,null,9000,null,null,null,null,null,{"$f":"SUM(O409:W409)","v":9000},{"$f":"SUM(O409:Z409)","v":9000}]
[386,"Analyse énergétique pour réduire les consommations de produits pétroliers (diesel, propane)","Pourvoirie Lac Dumoulin","Analyse","Bâtiment",1,"04-Mauricie","La Tuque","TE","SU",2500,"2018-10-02T10:27:21","2018-09-28",5045,null,null,null,null,null,2500,null,null,null,null,null,null,{"$f":"SUM(O410:W410)","v":2500},{"$f":"SUM(O410:Z410)","v":2500}]
[387,"Projet d'efficacité énergétique à La Tour Belvédère","La Tour Belvédère inc.","Implantation","Bâtiment",1,"06-Montréal","Montréal","TE","SU",399255.06599999999,"2019-03-21T11:22:40","2019-04-01",647000,null,null,null,null,null,190121.46,190121.46,19012.146000000001,null,null,null,null,{"$f":"SUM(O411:W411)","v":399255.06599999999},{"$f":"SUM(O411:Z411)","v":399255.06599999999}]
[388,"Métro Beaumont - Ville Mont-Royal","Métro Richelieu inc.","Implantation","Bâtiment",1,"06-Montréal","Mont-Royal","TE","SU",0,"2020-03-04T14:45:32","2020-02-19",47505,null,null,null,null,null,null,null,null,null,null,null,null,{"$f":"SUM(O412:W412)","v":0},{"$f":"SUM(O412:Z412)","v":0}]
[389,"Étude de conversion à l'électricité du chauffage","Ville de Saint-Jean-sur-Richelieu","Analyse","Bâtiment",1,"16-Montérégie","Saint-Jean-sur-Richelieu","TE","SU",10675,"2019-01-09T14:28:42","2019-02-10",24800,null,null,null,null,null,7750,null,null,null,null,null,null,{"$f":"SUM(O413:W413)","v":7750},{"$f":"SUM(O413:Z413)","v":7750}]
[390,"Étude de la consommation énergétique","Syndicat des copropriétaires Le Sieur Lafontaine","Analyse","Bâtiment",1,"06-Montréal","Montréal","TE","SU",3600,"2019-01-09T09:47:07","2018-12-03",4800,null,null,null,null,null,3600,null,null,null,null,null,null,{"$f":"SUM(O414:W414)","v":3600},{"$f":"SUM(O414:Z414)","v":3600}]
[391,"Étude d'efficacité énergétique - Usine d'eau potable","Ville de Joliette","Analyse","Bâtiment",1,"14-Lanaudière","Joliette","TE","SU",3916,"2019-02-11T08:38:12","2019-10-03",7832,null,null,null,null,null,1958,1958,null,null,null,null,null,{"$f":"SUM(O415:W415)","v":3916},{"$f":"SUM(O415:Z415)","v":3916}]
[392,"Étude d'efficacité énergétique - Caserne et poste de police","Ville de Joliette","Analyse","Bâtiment",1,"14-Lanaudière","Joliette","TE","SU",4462.5,"2019-02-08T15:44:45","2019-10-03",8925,null,null,null,null,null,2231.25,2231.25,null,null,null,null,null,{"$f":"SUM(O416:W416)","v":4462.5},{"$f":"SUM(O416:Z416)","v":4462.5}]
[393,"Ajout de thermopompes air-air et remplacement d'une chaudière électrique","La Fabrique de la paroisse de Sainte-Perpétue","Implantation","Bâtiment",1,"12-Chaudière-Appalaches","Sainte-Perpétue","TE","SU",38770.976999999999,"2019-04-03T09:34:25","2019-04-01",88512,null,null,null,null,null,null,36924.74,1846.2370000000001,null,null,null,null,{"$f":"SUM(O417:W417)","v":38770.976999999999},{"$f":"SUM(O417:Z417)","v":38770.976999999999}]
[394,"Géothermie, préchauffage de l'eau domestique et récupération de chaleur.","Bishop's College School","Implantation","Bâtiment",1,"05-Estrie","Sherbrooke","TE","SU",72696.179999999993,"2020-08-24T11:36:06","2020-04-01",147450,null,null,null,null,null,null,null,72696.179999999993,null,null,null,null,{"$f":"SUM(O418:W418)","v":72696.179999999993},{"$f":"SUM(O418:Z418)","v":72696.179999999993}]
[395,"Modernisation énergétique","Hôtels Highland Park inc.","Analyse","Bâtiment",1,"05-Estrie","Sherbrooke","TE","SU",17000,"2019-01-09T14:44:32","2019-07-17",34000,null,null,null,null,null,8500,8500,null,null,null,null,null,{"$f":"SUM(O419:W419)","v":17000},{"$f":"SUM(O419:Z419)","v":17000}]
[396,"Delta Sherbrooke - Modernisation énergétique","Hôtels Highland Park inc.","Implantation","Bâtiment",1,"05-Estrie","Sherbrooke","TE","SU",484474.2525,"2019-12-23T08:46:54","2020-04-01",1395027,null,null,null,null,null,null,null,484474.2525,null,null,null,null,{"$f":"SUM(O420:W420)","v":484474.2525},{"$f":"SUM(O420:Z420)","v":484474.2525}]
[397,"Étude en efficacité énergétique","9383-0438 Québec inc.","Analyse","Bâtiment",1,"02-Saguenay--Lac-Saint-Jean","Saguenay","TE","SU",8000,"2019-04-03T09:47:05","2019-05-03",16000,null,null,null,null,null,null,8000,null,null,null,null,null,{"$f":"SUM(O421:W421)","v":8000},{"$f":"SUM(O421:Z421)","v":8000}]
[398,"Réfrigération CO2 avec récupération de chaleur (000332)","Sobeys Capital Incorporée","Implantation","Bâtiment",1,"16-Montérégie","Saint-Basile-le-Grand","TE","SU",0,"2019-11-19T09:03:16","2020-04-01",56250,null,null,null,null,null,null,null,null,null,null,null,null,{"$f":"SUM(O422:W422)","v":0},{"$f":"SUM(O422:Z422)","v":0}]
[399,"Projet d'économie d'énergie de Manoir Outremont","9307-0985 Québec inc.","Implantation","Bâtiment",1,"06-Montréal","Montréal","TE","SU",246232.7175,"2019-12-23T08:25:53","2019-04-01",418993,null,null,null,null,null,null,234507.35,11725.3675,null,null,null,null,{"$f":"SUM(O423:W423)","v":246232.7175},{"$f":"SUM(O423:Z423)","v":246232.7175}]
[400,"Modernisation énergétique de l’agrandissement du centre de distribution","Dollarama S.E.C.","Implantation","Bâtiment",1,"06-Montréal","Mont-Royal","TE","SU",210620.37149999998,"2019-02-20T13:58:07","2019-04-01",1031210,null,null,null,null,null,null,200590.83,10029.541499999999,null,null,null,null,{"$f":"SUM(O424:W424)","v":210620.37149999998},{"$f":"SUM(O424:Z424)","v":210620.37149999998}]
[401,"Implantation du produit ecoAZUR avec Confort du Chef - Boston Pizza St-Nicolas","Boston Pizza St-Nicolas","Implantation","Bâtiment",1,"12-Chaudière-Appalaches","Lévis","TE","SU",29959.599999999999,"2019-10-17T09:26:11","2020-02-12",52029,null,null,null,null,null,null,29959.599999999999,null,null,null,null,null,{"$f":"SUM(O425:W425)","v":29959.599999999999},{"$f":"SUM(O425:Z425)","v":29959.599999999999}]
[402,"Implantation du produit ecoAZUR avec Confort du Chef - Boston Pizza (Lebourneuf)","Boston Pizza (Lebourneuf)","Implantation","Bâtiment",1,"03-Capitale-Nationale","Québec","TE","SU",29959.599999999999,"2019-10-17T09:15:10","2020-02-12",52029,null,null,null,null,null,null,29959.599999999999,null,null,null,null,null,{"$f":"SUM(O426:W426)","v":29959.599999999999},{"$f":"SUM(O426:Z426)","v":29959.599999999999}]
[403,"Implantation du produit ecoAZUR avec Confort du Chef - Le Cochon Dingue Carrefour Saint-Romuald","Le Groupe Restos Plaisirs inc.","Implantation","Bâtiment",1,"12-Chaudière-Appalaches","Lévis","TE","SU",27589.4745,"2020-01-13T15:04:36","2021-02-03",58276,null,null,null,null,null,null,null,27589.4745,null,null,null,null,{"$f":"SUM(O427:W427)","v":27589.4745},{"$f":"SUM(O427:Z427)","v":27589.4745}]
[404,"Implantation du produit ecoAZUR avec Confort du Chef","9341-7608 Québec inc. / Delta Saguenay","Implantation","Bâtiment",1,"02-Saguenay--Lac-Saint-Jean","Saguenay","TE","SU",99984.633000000002,"2019-08-27T09:16:54","2019-04-01",175000,null,null,null,null,null,null,95223.46,4761.1729999999998,null,null,null,null,{"$f":"SUM(O428:W428)","v":99984.633000000002},{"$f":"SUM(O428:Z428)","v":99984.633000000002}]
[405,"Système de réfrigération au CO2 - Adonis Galerie des Sources","Métro Richelieu inc.","Implantation","Bâtiment",1,"06-Montréal","Dollard-Des Ormeaux","TE","SU",0,"2019-11-06T11:04:40","2019-10-11",61770,null,null,null,null,null,null,null,null,null,null,null,null,{"$f":"SUM(O429:W429)","v":0},{"$f":"SUM(O429:Z429)","v":0}]
[406,"Implantation du produit ÉcoAzur avec Confort du Chef","Manoir du Quartier inc.","Implantation","Bâtiment",1,"12-Chaudière-Appalaches","Saint-Georges","TE","SU",30670.531499999997,"2019-02-11T10:09:28","2019-04-01",77022,null,null,null,null,null,null,29210.03,1460.5015000000001,null,null,null,null,{"$f":"SUM(O430:W430)","v":30670.531499999997},{"$f":"SUM(O430:Z430)","v":30670.531499999997}]
[407,"Implantation du produit ÉcoAZUR","Archibald inc.","Implantation","Bâtiment",1,"03-Capitale-Nationale","Lac-Beauport","TE","SU",30449.821500000002,"2019-03-21T14:56:01","2019-04-01",58000,null,null,null,null,null,null,28999.83,1449.9915000000001,null,null,null,null,{"$f":"SUM(O431:W431)","v":30449.821500000002},{"$f":"SUM(O431:Z431)","v":30449.821500000002}]
[408,"Raccordement des bâtiments de la communauté de Kitcisakik au réseau hydroélectrique d'Hydro-Québec","Conseil des Anicinapek de Kitcisakik (OBNL)","Analyse","Bâtiment",1,"08-Abitibi-Témiscamingue","Val-d'Or","TE","SU",26250,"2019-04-04T14:48:57","2020-10-15",76400,null,null,null,null,null,null,null,26250,null,null,null,null,{"$f":"SUM(O432:W432)","v":26250},{"$f":"SUM(O432:Z432)","v":26250}]
[409,"Récupération de chaleur et chauffage solaire","Équipement Drym ltée","Implantation","Bâtiment",1,"06-Montréal","Dorval","TE","SU",103978.66,"2020-01-17T09:33:55","2020-04-01",296800,null,null,null,null,null,null,null,100754,null,null,null,null,{"$f":"SUM(O433:W433)","v":100754},{"$f":"SUM(O433:Z433)","v":100754}]
[410,"Étude d'un système de récupération d'énergie pour le séchage de grain","Incimal inc.","Analyse","Bâtiment",1,"14-Lanaudière","Berthierville","TE","SU",5000,"2019-02-11T11:03:07","2021-03-08",5000,null,null,null,null,null,null,null,2500,null,null,null,null,{"$f":"SUM(O434:W434)","v":2500},{"$f":"SUM(O434:Z434)","v":2500}]
[411,"Implantation du produit ecoAZUR","Restaurant Horace Poutine inc.","Implantation","Bâtiment",1,"17-Centre-du-Québec","Drummondville","TE","SU",23837.5,"2020-01-13T14:50:07","2020-04-01",45750,null,null,null,null,null,null,null,23837.5,null,null,null,null,{"$f":"SUM(O435:W435)","v":23837.5},{"$f":"SUM(O435:Z435)","v":23837.5}]
[412,"Implantation du produit ecoAZUR avec Confort du Chef","La Gargouille","Implantation","Bâtiment",1,"12-Chaudière-Appalaches","East Broughton","TE","SU",28838.0085,"2020-01-15T10:20:14","2020-04-01",48094,null,null,null,null,null,null,null,28838.0085,null,null,null,null,{"$f":"SUM(O436:W436)","v":28838.0085},{"$f":"SUM(O436:Z436)","v":28838.0085}]
[413,"Implantation du produit ecoAZUR","9368-9917 Québec inc. / La Porte de la Mauricie","Implantation","Bâtiment",1,"04-Mauricie","Yamachiche","TE","SU",69193.792499999996,"2020-01-31T14:37:32","2020-04-01",125000,null,null,null,null,null,null,null,69193.792499999996,null,null,null,null,{"$f":"SUM(O437:W437)","v":69193.792499999996},{"$f":"SUM(O437:Z437)","v":69193.792499999996}]
[414,"008107 - IGA Joliette rue Gauthier Nord","Supermarché Crevier (Joliette) inc.","Implantation","Bâtiment",1,"14-Lanaudière","Notre-Dame-des-Prairies","TE","SU",44815.289846250002,"2020-01-10T09:26:36","2020-04-01",130000,null,null,null,null,null,null,null,44815.289846250002,null,null,null,null,{"$f":"SUM(O438:W438)","v":44815.289846250002},{"$f":"SUM(O438:Z438)","v":44815.289846250002}]
[415,"Étude - remplacement des thermopompes et récupération de chaleur des systèmes de ventilation","Citoxlab Amérique du Nord inc.","Analyse","Bâtiment",1,"13-Laval","Laval","TE","SU",4893,"2019-03-29T15:14:28","2019-10-17",9786,null,null,null,null,null,null,4893,null,null,null,null,null,{"$f":"SUM(O439:W439)","v":4893},{"$f":"SUM(O439:Z439)","v":4893}]
[416,"Conversion du système de chauffage du mazout à l'électricité","La Fabrique de la paroisse de Saint-Félix-de-Valois","Implantation","Bâtiment",1,"07-Outaouais","Lac-Simon","TE","SU",25653.411,"2019-08-19T14:47:10","2020-04-01",96849,null,null,null,null,null,null,6107.96,19545.451000000001,null,null,null,null,{"$f":"SUM(O440:W440)","v":25653.411},{"$f":"SUM(O440:Z440)","v":25653.411}]
[417,"Projet d’efficacité énergétique au secteur piscine du Centre jeunesse Saint-Georges","CIUSSS Saguenay-Lac-Saint-Jean","Analyse","Bâtiment",1,"02-Saguenay--Lac-Saint-Jean","Saguenay","TE","SU",20585,"2019-04-03T09:18:16","2019-09-10",41170,null,null,null,null,null,null,20585,null,null,null,null,null,{"$f":"SUM(O441:W441)","v":20585},{"$f":"SUM(O441:Z441)","v":20585}]
[418,"Réfection majeure des systèmes mécaniques du Palais des Sports","Ville de Saguenay","Implantation","Bâtiment",1,"02-Saguenay─Lac-Saint-Jean","Saguenay","TE","SU",66680.008499999996,"2019-09-26T09:13:13","2019-04-01",267344,null,null,null,null,null,null,63504.77,3175.2384999999999,null,null,null,null,{"$f":"SUM(O442:W442)","v":66680.008499999996},{"$f":"SUM(O442:Z442)","v":66680.008499999996}]
[419,"Mon éco-quartier Lachine","Ville de Montréal - Arrondissement de Lachine","Analyse","Bâtiment",1,"06-Montréal","Montréal","TE","SU",10750,"2019-05-16T09:34:37","2019-09-03",21500,null,null,null,null,null,null,10750,null,null,null,null,null,{"$f":"SUM(O443:W443)","v":10750},{"$f":"SUM(O443:Z443)","v":10750}]
[420,"Réfrigération au CO2 avec récupération de chaleur - Marché Pie-IX","Le Marché Pie-IX S.E.C.","Implantation","Bâtiment",1,"06-Montréal","Montréal","TE","SU",316168.85184900003,"2020-10-09T13:53:16","2020-04-01",1345604,null,null,null,null,null,null,null,316168.85184900003,null,null,null,null,{"$f":"SUM(O444:W444)","v":316168.85184900003},{"$f":"SUM(O444:Z444)","v":316168.85184900003}]
[421,"Remplacement du système de réfrigération","Bonanza Lalumière","Implantation","Bâtiment",1,"06-Montréal","Montréal","TE","SU",138243.64199057998,"2019-07-08T10:52:59","2019-04-01",342407,null,null,null,null,null,null,131660.6114196,6583.0305709800004,null,null,null,null,{"$f":"SUM(O445:W445)","v":138243.64199057998},{"$f":"SUM(O445:Z445)","v":138243.64199057998}]
[422,"Construction Métro plus Fournier","Supermarché R. Fournier inc.","Implantation","Bâtiment",1,"04-Mauricie","Trois-Rivières","TE","SU",2280.893877,"2020-01-15T11:27:21","2020-04-01",8000,null,null,null,null,null,null,null,1900.3965929999999,null,null,null,null,{"$f":"SUM(O446:W446)","v":1900.3965929999999},{"$f":"SUM(O446:Z446)","v":1900.3965929999999}]
[423,"Analyse énergétique","CIUSSS Saguenay-Lac-Saint-Jean","Analyse","Bâtiment",1,"02-Saguenay--Lac-Saint-Jean","Alma","TE","SU",26096.95,"2019-08-08T13:46:15","2020-05-11",52194,null,null,null,null,null,null,null,26096.95,null,null,null,null,{"$f":"SUM(O447:W447)","v":26096.95},{"$f":"SUM(O447:Z447)","v":26096.95}]
[424,"Analyse énergétique - Audit ASHRAE niveau 2","Cégep Beauce-Appalaches","Analyse","Bâtiment",1,"12-Chaudière-Appalaches","Saint-Georges","TE","SU",4855,"2019-05-17T08:44:53","2020-02-10",9710,null,null,null,null,null,null,4855,null,null,null,null,null,{"$f":"SUM(O448:W448)","v":4855},{"$f":"SUM(O448:Z448)","v":4855}]
[425,"Analyse de potentiel, bâtiment zéro net et recherche de solutions optimales","Chanel Canada ULC","Analyse","Bâtiment",1,"16-Montérégie","Candiac","TE","SU",15750,"2019-10-17T10:13:37","2021-10-07",30000,null,null,null,null,null,null,7500,750,7500,null,null,null,{"$f":"SUM(O449:W449)","v":15750},{"$f":"SUM(O449:Z449)","v":15750}]
[426,"Projet d'efficacité énergétique","Collège André-Grasset (1973) inc.","Implantation","Bâtiment",1,"06-Montréal","Montréal","TE","SU",107671.343275755,"2020-01-16T14:54:25","2021-09-27",491912,null,null,null,null,null,null,null,83442.695327255002,24228.647948500002,null,null,null,{"$f":"SUM(O450:W450)","v":107671.343275755},{"$f":"SUM(O450:Z450)","v":107671.343275755}]
[427,"Réfrigération au CO2 avec récupération chaleur (Metro Lachine)","Métro Richelieu inc.","Implantation","Bâtiment",1,"06-Montréal","Montréal","TE","SU",0,"2020-01-15T14:31:52","2020-10-09",52827,null,null,null,null,null,null,null,null,null,null,null,null,{"$f":"SUM(O451:W451)","v":0},{"$f":"SUM(O451:Z451)","v":0}]
[428,"Audit-525 René-Lévesque","Société Bon Pasteur S.E.N.C.","Analyse","Bâtiment",1,"03-Capitale-Nationale","Québec","TE","SU",17897.25,"2019-06-12T13:57:45","2020-10-01",34090,null,null,null,null,null,null,8522.5,9374.75,null,null,null,null,{"$f":"SUM(O452:W452)","v":17897.25},{"$f":"SUM(O452:Z452)","v":17897.25}]
[429,"Réfrigération au CO2 avec récupération de chaleur (001758)","Sobeys Capital Incorporée","Implantation","Bâtiment",1,"06-Montréal","Montréal","TE","SU",0,"2020-01-15T14:39:22","2020-04-01",37500,null,null,null,null,null,null,null,null,null,null,null,null,{"$f":"SUM(O453:W453)","v":0},{"$f":"SUM(O453:Z453)","v":0}]
[430,"Réfrigération CO2 avec récupération de chaleur (008299)","Sobeys Capital Incorporée","Implantation","Bâtiment",1,"12-Chaudière-Appalaches","Saint-Anselme","TE","SU",0,"2020-02-20T11:23:07","2020-04-01",37500,null,null,null,null,null,null,null,null,null,null,null,null,{"$f":"SUM(O454:W454)","v":0},{"$f":"SUM(O454:Z454)","v":0}]
[431,"Projet de conversion des systèmes de chauffage à la vapeur vers des systèmes à l’eau chaude","La Congrégation des Soeurs de Notre-Dame du Bon Conseil de Chicoutimi","Implantation","Bâtiment",1,"02-Saguenay--Lac-Saint-Jean","Saguenay","TE","SU",1048368.76,"2020-03-13T09:44:01","2020-04-01",2204550,null,null,null,null,null,null,null,1006121.558,null,null,null,null,{"$f":"SUM(O455:W455)","v":1006121.558},{"$f":"SUM(O455:Z455)","v":1006121.558}]
[432,"Projet d'efficacité d'énergie - Séminaire Saint-Francois","Séminaire Saint-François","Implantation","Bâtiment",1,"03-Capitale-Nationale","Saint-Augustin-de-Desmaures","TE","SU",448664.40150000004,"2020-02-10T09:24:10","2020-04-01",756949,null,null,null,null,null,null,213649.72,235014.68150000001,null,null,null,null,{"$f":"SUM(O456:W456)","v":448664.40150000004},{"$f":"SUM(O456:Z456)","v":448664.40150000004}]
[433,"Conversion du chauffage hydronique à l'électricité (90 %)","Centre enfance et famille de Step by Step","Implantation","Bâtiment",1,"16-Montérégie","Kahnawake","TE","SU",49692.971999999994,"2019-09-25T08:28:51","2020-04-01",77660,null,null,null,null,null,null,11831.66,37861.311999999998,null,null,null,null,{"$f":"SUM(O457:W457)","v":49692.971999999994},{"$f":"SUM(O457:Z457)","v":49692.971999999994}]
[434,"Projet d’économie d’énergie – 135 rue Sherbrooke","Appartements CAPREIT","Implantation","Bâtiment",1,"06-Montréal","Montréal","TE","SU",175888.79699999999,"2020-02-28T15:54:29","2020-04-01",245000,null,null,null,null,null,null,null,175888.79699999999,null,null,null,null,{"$f":"SUM(O458:W458)","v":175888.79699999999},{"$f":"SUM(O458:Z458)","v":175888.79699999999}]
[435,"Analyse d'efficacité énergétique du projet Îlot Lapointe","Investissements ICF Laurier inc.","Analyse","Bâtiment",1,"03-Capitale-Nationale","Québec","TE","SU",7500,"2019-09-26T08:46:54","2020-01-15",15000,null,null,null,null,null,null,7500,null,null,null,null,null,{"$f":"SUM(O459:W459)","v":7500},{"$f":"SUM(O459:Z459)","v":7500}]
[436,"Réfrigération au CO2 avec récupération de chaleur (008274)","Sobeys Capital Incorporée","Implantation","Bâtiment",1,"12-Chaudière-Appalaches","Beauceville","TE","SU",0,"2020-02-19T15:53:52","2020-04-01",37500,null,null,null,null,null,null,null,null,null,null,null,null,{"$f":"SUM(O460:W460)","v":0},{"$f":"SUM(O460:Z460)","v":0}]
[437,"Projet d’économie d’énergie – 315 René Lévesque","Appartements CAPREIT","Implantation","Bâtiment",1,"06-Montréal","Montréal","TE","SU",195000,"2020-04-22T15:43:56","2020-04-01",260000,null,null,null,null,null,null,null,195000,null,null,null,null,{"$f":"SUM(O461:W461)","v":195000},{"$f":"SUM(O461:Z461)","v":195000}]
[438,"Audit énergétique - Ivanhoé Cambridge","Ivanhoé Cambridge inc.","Analyse","Bâtiment",1,"06-Montréal","Montréal","TE","SU",28612.5,"2021-01-25","2021-02-25",54500,null,null,null,null,null,null,null,28612.5,null,null,null,null,{"$f":"SUM(O462:W462)","v":28612.5},{"$f":"SUM(O462:Z462)","v":28612.5}]
[439,"Projet d’étude de remplacement de l’humification vapeur sur le site BAnQ - Grande Bibliothèque","Bibliothèque et Archives nationales du Québec","Analyse","Bâtiment",1,"06-Montréal","Montréal","TE","SU",4500,"2019-10-29T09:14:24","2020-01-23",9000,null,null,null,null,null,null,4500,null,null,null,null,null,{"$f":"SUM(O463:W463)","v":4500},{"$f":"SUM(O463:Z463)","v":4500}]
[440,"Projet d’étude de remplacement de l’humification vapeur sur le site BAnQ Rosemont - La Petite-Patrie","Bibliothèque et Archives nationales du Québec","Analyse","Bâtiment",1,"06-Montréal","Montréal","TE","SU",6250,"2019-10-29T08:34:26","2020-01-24",12500,null,null,null,null,null,null,6250,null,null,null,null,null,{"$f":"SUM(O464:W464)","v":6250},{"$f":"SUM(O464:Z464)","v":6250}]
[441,"Optimisation du système de chauffage et de production d'eau chaude sanitaire","Centre intégré universitaire de santé et de services sociaux de l’Estrie – Centre hospitalier universitaire de Sherbrooke","Analyse","Bâtiment",1,"05-Estrie","Lac-Mégantic","TE","SU",20766.900000000001,"2019-09-26T08:50:59","2020-12-14",50356,null,null,null,null,null,null,9889,10877.9,null,null,null,null,{"$f":"SUM(O465:W465)","v":20766.900000000001},{"$f":"SUM(O465:Z465)","v":20766.900000000001}]
[442,"Projet d'efficacité énergétique à l'Édifice 1616 Ste-Catherine Ouest Le Faubourg","Édifice 1616 Ste-Catherine Ouest Le Faubourg inc.","Implantation","Bâtiment",1,"06-Montréal","Montréal","TE","SU",56785.869000000006,"2020-01-13T09:28:11","2020-04-01",165048,null,null,null,null,null,null,27040.880000000001,29744.989000000001,null,null,null,null,{"$f":"SUM(O466:W466)","v":56785.869000000006},{"$f":"SUM(O466:Z466)","v":56785.869000000006}]
[443,"Audit 6445-6475 Henri-Bourassa","6445 Henri-Bourassa Est inc.","Analyse","Bâtiment",1,"06-Montréal","Montréal","TE","SU",2500,"2019-12-03T10:04:37","2020-04-20",8000,null,null,null,null,null,null,null,2500,null,null,null,null,{"$f":"SUM(O467:W467)","v":2500},{"$f":"SUM(O467:Z467)","v":2500}]
[444,"Projet d'efficacité énergétique au 2525 Cavendish","Appartements CAPREIT","Implantation","Bâtiment",1,"06-Montréal","Montréal","TE","SU",308340.32,"2020-12-16T08:55:49","2022-03-02",1170000,null,null,null,null,null,null,null,161511.59,146828.73000000001,null,null,null,{"$f":"SUM(O468:W468)","v":308340.32},{"$f":"SUM(O468:Z468)","v":308340.32}]
[445,"Implantation du produit ecoAZUR avec Confort du Chef","Le Groupe Restos Plaisirs inc.","Implantation","Bâtiment",1,"03-Capitale-Nationale","Québec","TE","SU",30781.7,"2020-02-18T14:45:25","2021-02-03",69450,null,null,null,null,null,null,null,30781.7,null,null,null,null,{"$f":"SUM(O469:W469)","v":30781.7},{"$f":"SUM(O469:Z469)","v":30781.7}]
[446,"Implantation du produit ecoAZUR","Le Groupe Restos Plaisirs inc.","Implantation","Bâtiment",1,"03-Capitale-Nationale","Québec","TE","SU",19997.5,"2020-02-18T14:27:10","2021-02-03",35450,null,null,null,null,null,null,null,19997.5,null,null,null,null,{"$f":"SUM(O470:W470)","v":19997.5},{"$f":"SUM(O470:Z470)","v":19997.5}]
[447,"Implantation du produit ecoAZUR avec Confort du Chef","Le Groupe Restos Plaisirs inc.","Implantation","Bâtiment",1,"03-Capitale-Nationale","Québec","TE","SU",35387.5,"2020-02-18T13:52:51","2021-02-03",57650,null,null,null,null,null,null,null,35387.5,null,null,null,null,{"$f":"SUM(O471:W471)","v":35387.5},{"$f":"SUM(O471:Z471)","v":35387.5}]
[448,"Aliments Roma - Entrepôt frigorifique","Les Aliments Roma ltée","Implantation","Bâtiment",1,"06-Montréal","Montréal","TE","SU",17918.736809925002,"2020-01-23T15:46:22","2021-11-25",100910,null,null,null,null,null,null,null,9386.0063022249997,8532.7305077000001,null,null,null,{"$f":"SUM(O472:W472)","v":17918.736809925002},{"$f":"SUM(O472:Z472)","v":17918.736809925002}]
[449,"Remplacement des chariots élévateurs au propane par des chariots électriques","Transport Guilbault inc.","Implantation","Bâtiment",1,"16-Montérégie","Boucherville","TE","SU",189215.9535,"2020-01-17T10:42:03","2020-09-28",865725,null,null,null,null,null,null,45051.42,144164.53349999999,null,null,null,null,{"$f":"SUM(O473:W473)","v":189215.9535},{"$f":"SUM(O473:Z473)","v":189215.9535}]
[450,"Réfrigération au CO2 avec récupération de chaleur (Brossard)","Mayrand limitée","Implantation","Bâtiment",1,"16-Montérégie","Brossard","TE","SU",0,"2019-12-11T08:53:09","2020-08-03",50886,null,null,null,null,null,null,null,null,null,null,null,null,{"$f":"SUM(O474:W474)","v":0},{"$f":"SUM(O474:Z474)","v":0}]
[451,"Conversion du chauffage du mazout #2 à l'électricité","Trans-Sol Aviation Service inc. (TSAS)","Implantation","Bâtiment",1,"09-Côte-Nord","Uashat","TE","SU",21900,"2020-03-30T14:27:58","2020-04-01",51180,null,null,null,null,null,null,null,21900,null,null,null,null,{"$f":"SUM(O475:W475)","v":21900},{"$f":"SUM(O475:Z475)","v":21900}]
[452,"Étude de faisabilité du centre sportif (Gymnase et Arena Memorial)","Bishop's College School","Analyse","Bâtiment",1,"05-Estrie","Sherbrooke","TE","SU",17325,"2020-04-16T11:18:19","2020-08-03",33000,null,null,null,null,null,null,null,17325,null,null,null,null,{"$f":"SUM(O476:W476)","v":17325},{"$f":"SUM(O476:Z476)","v":17325}]
[453,"Remplacement des chaudières et des contrôles","Centre de services scolaire du Chemin-du-Roy","Analyse","Bâtiment",1,"04-Mauricie","Trois-Rivières","TE","SU",7308,"2020-04-03T13:56:21","2020-11-30",13920,null,null,null,null,null,null,null,7308,null,null,null,null,{"$f":"SUM(O477:W477)","v":7308},{"$f":"SUM(O477:Z477)","v":7308}]
[454,"Étude d'efficacité énergétique, chauffage de bâtiments","Ville de Kingsey Falls","Analyse","Bâtiment",1,"17-Centre-du-Québec","Kingsey Falls","TE","SU",4173.75,"2020-03-30T14:43:22","2021-03-03",7950,null,null,null,null,null,null,1987.5,2186.25,null,null,null,null,{"$f":"SUM(O478:W478)","v":4173.75},{"$f":"SUM(O478:Z478)","v":4173.75}]
[455,"Mise à niveau des systèmes Électro-mécanique","Syndicat des copropriétaires du 6150 du Boisé","Analyse","Bâtiment",1,"06-Montréal","Montréal","TE","SU",12573.4,"2020-09-09T08:39:07","2021-01-22",33967.14,null,null,null,null,null,null,null,12573.4,null,null,null,null,{"$f":"SUM(O479:W479)","v":12573.4},{"$f":"SUM(O479:Z479)","v":12573.4}]
[456,"Analyse technique d’approvisionnement énergétique renouvelable","Héli-Ski Chic-Chocs","Analyse","Bâtiment",1,"01-Bas-Saint-Laurent","Matane","TE","SU",1945,"2020-05-04T14:52:23","2020-07-20",3890,null,null,null,null,null,null,null,1945,null,null,null,null,{"$f":"SUM(O480:W480)","v":1945},{"$f":"SUM(O480:Z480)","v":1945}]
[457,"Chaudières efficaces au Carré de Gaspé","Le Carré de Gaspé, S.E.N.C.","Implantation","Bâtiment",1,"06-Montréal","Montréal","TE","SU",35625,"2020-09-22T09:47:06","2020-04-01",162500,null,null,null,null,null,null,null,35625,null,null,null,null,{"$f":"SUM(O481:W481)","v":35625},{"$f":"SUM(O481:Z481)","v":35625}]
[458,"Analyse énergétique","Municipalité de la Paroisse de Saint-Martin","Analyse","Bâtiment",1,"12-Chaudière-Appalaches","Saint-Martin","TE","SU",5880,"2020-10-09T09:54:39","2021-03-24",11200,null,null,null,null,null,null,null,5880,null,null,null,null,{"$f":"SUM(O482:W482)","v":5880},{"$f":"SUM(O482:Z482)","v":5880}]
[459,"Remplacement de la chaudière de l’Édifice médical Ellendale, 5845 chemin de la Côte-des-Neiges","Édifice médical Ellendale 2016 inc.","Implantation","Bâtiment",1,"06-Montréal","Montréal","TE","SU",56803.240000000005,"2021-01-27T10:50:26","2020-04-01",153000,null,null,null,null,null,null,43278.66,13524.58,null,null,null,null,{"$f":"SUM(O483:W483)","v":56803.240000000005},{"$f":"SUM(O483:Z483)","v":56803.240000000005}]
[460,"Étude énergétique du 3165 Édouard-Montpetit","Raoul Blouin limitée","Analyse","Bâtiment",1,"06-Montréal","Montréal","TE","SU",8662.5,"2021-02-08T16:14:40","2021-04-13",16500,null,null,null,null,null,null,null,null,8662.5,null,null,null,{"$f":"SUM(O484:W484)","v":8662.5},{"$f":"SUM(O484:Z484)","v":8662.5}]
[461,"Analyse technique d'efficacité et d’approvisionnement énergétique renouvelable","La Fabrique de la Paroisse de Saint-Louis","Analyse","Bâtiment",1,"02-Saguenay--Lac-Saint-Jean","Chambord","TE","SU",6722.75,"2021-01-27T10:30:06","2022-01-19",12780.99,null,null,null,null,null,null,null,null,6722.75,null,null,null,{"$f":"SUM(O485:W485)","v":6722.75},{"$f":"SUM(O485:Z485)","v":6722.75}]
[462,"Plan directeur en efficacité énergétique","Société des alcools du Québec","Analyse","Bâtiment",1,"03-Capitale-Nationale","Québec","TE","SU",10342.5,"2021-01-27T10:53:25","2021-04-22",19700,null,null,null,null,null,null,null,5417.5,4925,null,null,null,{"$f":"SUM(O486:W486)","v":10342.5},{"$f":"SUM(O486:Z486)","v":10342.5}]
[463,"Conversion chauffage-CII- électrique","Municipalité de Sainte-Marie-de-Blandford","Implantation","Bâtiment",1,"17-Centre-du-Québec","Sainte-Marie-de-Blandford","TE","SU",7397,"2021-02-04T15:31:46","2021-03-02",20285,null,null,null,null,null,null,null,7397,null,null,null,null,{"$f":"SUM(O487:W487)","v":7397},{"$f":"SUM(O487:Z487)","v":7397}]
[464,"Conversion chauffage-CII- électrique","S. Roy gestion immobilière inc.","Implantation","Bâtiment",1,"12-Chaudière-Appalaches","Vallée-Jonction","TE","SU",9809.6,"2021-03-15T08:36:34","2021-03-24",11814,null,null,null,null,null,null,null,8860.58,null,null,null,null,{"$f":"SUM(O488:W488)","v":8860.58},{"$f":"SUM(O488:Z488)","v":8860.58}]
[465,"Efficacité énergétique au Centre Étienne-Desmarteau","Ville de Montréal","Implantation","Bâtiment",1,"06-Montréal","Montréal","AC","SU",243775.92,"2017-06-08","2018-04-01",604617,null,null,null,null,60943.98,111673.97,null,null,null,null,null,null,{"$f":"SUM(O489:W489)","v":172617.95},{"$f":"SUM(O489:Z489)","v":172617.95}]
[466,"Projet de récupération de chaleur aux Pavillons D1 et D2","Université de Sherbrooke","Implantation","Bâtiment",1,"05-Estrie","Sherbrooke","AC","SU",469101.12899999996,"2018-07-03T15:37:13","2018-04-01",1894729,null,null,null,null,null,446762.98,null,22338.149000000001,null,null,null,null,{"$f":"SUM(O490:W490)","v":469101.12899999996},{"$f":"SUM(O490:Z490)","v":469101.12899999996}]
[467,"Raccordement au réseau électrique pour le Relais routier du km 381","Société de développement de la Baie-James","Implantation","Bâtiment",1,"10-Nord-du-Québec","Matagami","AC","SU",1327927.3245000001,"2017-06-08","2021-12-23",3564204,null,null,null,null,316173.17,null,null,63234.6345,948519.52,null,null,null,{"$f":"SUM(O491:W491)","v":1327927.3245000001},{"$f":"SUM(O491:Z491)","v":1327927.3245000001}]
[468,"Conversion du système de chauffage à l'huile à l'électricité","La Fabrique de la paroisse de Saint-Benoît-de-Bellechasse","Implantation","Bâtiment",1,"12-Chaudière-Appalaches","Saint-Gervais","AC","SU",47100,"2017-12-05T16:25:23","2018-04-01",65800,null,null,null,null,null,47100,null,null,null,null,null,null,{"$f":"SUM(O492:W492)","v":47100},{"$f":"SUM(O492:Z492)","v":47100}]
[469,"Projet amélioration énergétique La Concorde","Centre de services scolaire de l'Or-et-des-Bois","Implantation","Bâtiment",1,"08-Abitibi-Témiscamingue","Senneterre","AC","SU",271286.27399999998,"2018-08-06T09:30:12","2019-04-01",562412,null,null,null,null,null,129183.94,129183.94,12918.394,null,null,null,null,{"$f":"SUM(O493:W493)","v":271286.27399999998},{"$f":"SUM(O493:Z493)","v":271286.27399999998}]
[470,"Projet d'efficacité énergétique – Collège Jean-de-Brébeuf","La Corporation du Collège Jean-de-Brébeuf","Implantation","Bâtiment",1,"06-Montréal","Montréal","AC","SU",420595.00349999999,"2018-12-11T09:39:46","2019-04-01",763427,null,null,null,null,null,null,400566.67,20028.333500000001,null,null,null,null,{"$f":"SUM(O494:W494)","v":420595.00349999999},{"$f":"SUM(O494:Z494)","v":420595.00349999999}]
[471,"Projet d'efficacité énergétique au Centre d'hébergement des Deux-Rives","Centre intégré de santé et de services sociaux de Lanaudière","Implantation","Bâtiment",1,"14-Lanaudière","Repentigny","AC","SU",279384.81,"2018-12-21T15:26:23","2020-04-01",749023,null,null,null,null,null,null,69846.2,187665.27050000001,null,null,null,null,{"$f":"SUM(O495:W495)","v":257511.4705},{"$f":"SUM(O495:Z495)","v":257511.4705}]
[472,"Mise aux normes de l'aréna Marcelin Wilson","Ville de Montréal","Implantation","Bâtiment",1,"06-Montréal","Montréal","AC","SU",109434.61,"2018-12-07T08:46:15","2018-04-01",431140,null,null,null,null,null,43227.53,null,null,null,null,null,null,{"$f":"SUM(O496:W496)","v":43227.53},{"$f":"SUM(O496:Z496)","v":43227.53}]
[473,"Récupération d’énergie des gaz de combustion de la Centrale thermique de l’Est","Université Laval","Implantation","Bâtiment",1,"03-Capitale-Nationale","Québec","AC","SU",281230.23600000003,"2018-12-06T09:20:09","2022-12-31",1359885,null,null,null,null,null,null,66959.58,13391.915999999999,133919.16,66959.58,null,null,{"$f":"SUM(O497:W497)","v":214270.65600000002},{"$f":"SUM(O497:Z497)","v":281230.23600000003}]
[474,"Conversion VAV des systèmes S-X","Le Carrefour Laval (2013) Inc.","Implantation","Bâtiment",1,"13-Laval","Laval","AC","SU",149933.2905,"2019-11-21T13:11:25","2020-04-01",726176,null,null,null,null,null,null,null,149933.2905,null,null,null,null,{"$f":"SUM(O498:W498)","v":149933.2905},{"$f":"SUM(O498:Z498)","v":149933.2905}]
[475,"Projet d’efficacité au nouveau bâtiment de services à Audi Ste-Foy","Gestion immobilière Bégin inc.","Implantation","Bâtiment",1,"03-Capitale-Nationale","Québec","AC","SU",193838.92499999999,"2019-06-21T14:10:18","2019-04-01",570650,null,null,null,null,null,null,184608.5,9230.4249999999993,null,null,null,null,{"$f":"SUM(O499:W499)","v":193838.92499999999},{"$f":"SUM(O499:Z499)","v":193838.92499999999}]
[476,"Conversion d’un système de chauffage au gaz naturel vers la géothermie","VeraLeaf Inc.","Implantation","Bâtiment",1,"14-Lanaudière","Terrebonne","AC","SU",40023.858,"2019-06-03T09:24:03","2019-04-01",87000,null,null,null,null,null,null,38117.96,1905.8979999999999,null,null,null,null,{"$f":"SUM(O500:W500)","v":40023.858},{"$f":"SUM(O500:Z500)","v":40023.858}]
[477,"Projet d'efficacité énergétique à l'aréna Westwood","Ville de Dorval","Implantation","Bâtiment",1,"06-Montréal","Dorval","AC","SU",114019.13976200001,"2020-07-06T09:04:48","2020-04-01",271178,null,null,null,null,null,null,null,114019.13976200001,null,null,null,null,{"$f":"SUM(O501:W501)","v":114019.13976200001},{"$f":"SUM(O501:Z501)","v":114019.13976200001}]
[478,"Réfrigération au CO2 avec mesures d'efficacité énergétique.","Ville de Dorval","Implantation","Bâtiment",1,"06-Montréal","Dorval","AC","SU",102903.883579,"2020-07-06T09:14:59","2020-04-01",263068,null,null,null,null,null,null,null,102903.883579,null,null,null,null,{"$f":"SUM(O502:W502)","v":102903.883579},{"$f":"SUM(O502:Z502)","v":102903.883579}]
[479,"Projet d’amélioration énergétique - École Saint-Sauveur","Centre de services scolaire de l'Or-et-des-Bois","Implantation","Bâtiment",1,"08-Abitibi-Témiscamingue","Val-d'Or","AC","SU",17856.552000000003,"2018-09-17T13:14:00","2019-04-01",47002,null,null,null,null,null,null,17006.240000000002,850.31200000000001,null,null,null,null,{"$f":"SUM(O503:W503)","v":17856.552000000003},{"$f":"SUM(O503:Z503)","v":17856.552000000003}]
[480,"Projet d’amélioration énergétique - École Sainte-Marie","Centre de services scolaire de l'Or-et-des-Bois","Implantation","Bâtiment",1,"08-Abitibi-Témiscamingue","Val-d'Or","AC","SU",22467.072999999997,"2018-09-17T13:40:12","2018-04-01",42999,null,null,null,null,null,21396.26,null,1070.8130000000001,null,null,null,null,{"$f":"SUM(O504:W504)","v":22467.072999999997},{"$f":"SUM(O504:Z504)","v":22467.072999999997}]
[481,"Projet d'efficacité énergétique – King-Wellington","Les Investissements 650 Wellington Ltée","Implantation","Bâtiment",1,"06-Montréal","Montréal","AC","SU",213055.67,"2019-06-21T14:18:21","2019-04-01",609575,null,null,null,null,null,null,213055.67,null,null,null,null,null,{"$f":"SUM(O505:W505)","v":213055.67},{"$f":"SUM(O505:Z505)","v":213055.67}]
[482,"Projet d’amélioration énergétique - École Notre-Dame-de-Fatima","Centre de services scolaire de l'Or-et-des-Bois","Implantation","Bâtiment",1,"08-Abitibi-Témiscamingue","Val-d'Or","AC","SU",31383.617999999999,"2018-09-17T13:38:39","2019-04-01",91966,null,null,null,null,null,null,29889.16,1494.4580000000001,null,null,null,null,{"$f":"SUM(O506:W506)","v":31383.617999999999},{"$f":"SUM(O506:Z506)","v":31383.617999999999}]
[483,"Projet d'efficacité énergétique - Holand Rolls Royce","Location Holand (1995) ltée","Implantation","Bâtiment",1,"06-Montréal","Mont-Royal","AC","SU",88590.3,"2019-06-28T08:53:35","2019-04-01",184120,null,null,null,null,null,null,88590.3,null,null,null,null,null,{"$f":"SUM(O507:W507)","v":88590.3},{"$f":"SUM(O507:Z507)","v":88590.3}]
[484,"Récupération de chaleur de la boucle thermique","1751 Richardson inc.","Implantation","Bâtiment",1,"06-Montréal","Montréal","AC","SU",228302.6655,"2018-08-08T15:50:33","2020-04-01",375000,null,null,null,null,null,54357.78,108715.56,65229.325499999999,null,null,null,null,{"$f":"SUM(O508:W508)","v":228302.6655},{"$f":"SUM(O508:Z508)","v":228302.6655}]
[485,"Projet d'efficacité énergétique au Jardin des Seigneurs (3056)","CAPREIT Apartments Inc.","Implantation","Bâtiment",1,"03-Capitale-Nationale","Québec","AC","SU",66471.709499999997,"2019-08-19T14:37:02","2020-04-01",205000,null,null,null,null,null,null,null,66471.709499999997,null,null,null,null,{"$f":"SUM(O509:W509)","v":66471.709499999997},{"$f":"SUM(O509:Z509)","v":66471.709499999997}]
[486,"Optimisation et conversion partielle du réseau de vapeur","Buanderie progrès hygiénique inc.","Implantation","Bâtiment",1,"06-Montréal","Montréal","AC","SU",146409.75,"2019-06-05T10:54:44","2019-04-01",278213,null,null,null,null,null,null,146409.75,null,null,null,null,null,{"$f":"SUM(O510:W510)","v":146409.75},{"$f":"SUM(O510:Z510)","v":146409.75}]
[487,"Projet d'efficacité énergétique - Studio de Création","Université de Sherbrooke","Implantation","Bâtiment",1,"05-Estrie","Sherbrooke","AC","SU",93756.263999999996,"2019-11-25T10:02:40","2020-04-01",299079,null,null,null,null,null,null,null,93756.263999999996,null,null,null,null,{"$f":"SUM(O511:W511)","v":93756.263999999996},{"$f":"SUM(O511:Z511)","v":93756.263999999996}]
[488,"Installation de la géothermie et de la récupération de chaleur","Centre de services scolaire de la Seigneurie-des-Mille-Îles","Implantation","Bâtiment",1,"15-Laurentides","Saint-Eustache","AC","SU",30964.415999999997,"2019-06-11T11:46:34","2020-04-01",578163,null,null,null,null,null,null,14744.96,16219.456,null,null,null,null,{"$f":"SUM(O512:W512)","v":30964.415999999997},{"$f":"SUM(O512:Z512)","v":30964.415999999997}]
[489,"Campus de la santé - Pavillons Z4 et Z5","Université de Sherbrooke","Implantation","Bâtiment",1,"05-Estrie","Sherbrooke","AC","SU",280138.36200000002,"2020-01-10T09:06:22","2020-04-01",451199,null,null,null,null,null,null,null,280138.36200000002,null,null,null,null,{"$f":"SUM(O513:W513)","v":280138.36200000002},{"$f":"SUM(O513:Z513)","v":280138.36200000002}]
[490,"Projet d'efficacité énergétique - CHSLD Blainville II (C3472)","Ekow / Médifice Immobilier, Société en commandite","Implantation","Bâtiment",1,"15-Laurentides","Blainville","AC","SU",425829.57900000003,"2020-03-27T15:23:28","2020-04-01",1228200,null,null,null,null,null,null,null,425829.57900000003,null,null,null,null,{"$f":"SUM(O514:W514)","v":425829.57900000003},{"$f":"SUM(O514:Z514)","v":425829.57900000003}]
[491,"Projet d'efficacité énergétique - CHSLD Ste-Adèle (C3472)","Ekow / Médifice Immobilier, Société en commandite","Implantation","Bâtiment",1,"15-Laurentides","Sainte-Adèle","AC","SU",418700.35200000001,"2020-03-27T09:23:48","2022-01-10",1228200,null,null,null,null,null,null,null,319009.79200000002,99690.559999999998,null,null,null,{"$f":"SUM(O515:W515)","v":418700.35200000001},{"$f":"SUM(O515:Z515)","v":418700.35200000001}]
[492,"Seaforth, Économie d'énergie","Groupe Accueil International ltée","Implantation","Bâtiment",1,"06-Montréal","Montréal","AC","SU",83637.476999999999,"2020-03-30T16:59:31","2020-04-01",263592,null,null,null,null,null,null,null,83637.476999999999,null,null,null,null,{"$f":"SUM(O516:W516)","v":83637.476999999999},{"$f":"SUM(O516:Z516)","v":83637.476999999999}]
[493,"Chauffage électrique en hors pointe","Collège d'enseignement général et professionnel de Saint-Jérôme","Implantation","Bâtiment",1,"15-Laurentides","Saint-Jérôme","AC","SU",134328.28,"2021-02-10T14:47:24","2022-08-30",198000,null,null,null,null,null,null,null,6396.58,95948.78,31982.92,null,null,{"$f":"SUM(O517:W517)","v":102345.36},{"$f":"SUM(O517:Z517)","v":134328.28}]
[494,"Implantation du produit ecoAZUR avec Confort du Chef","Le Groupe Restos Plaisirs inc.","Implantation","Bâtiment",1,"03-Capitale-Nationale","Québec","AC","SU",18263.174999999999,"2020-02-20T13:42:36","2021-02-03",41990,null,null,null,null,null,null,null,18263.174999999999,null,null,null,null,{"$f":"SUM(O518:W518)","v":18263.174999999999},{"$f":"SUM(O518:Z518)","v":18263.174999999999}]
[495,"Amélioration du réseau de chauffage et hotte intelligente","Fiducie du patrimoine culturel des Augustines","Implantation","Bâtiment",1,"03-Capitale-Nationale","Québec","AC","SU",48859,"2020-01-15T11:47:01","2020-04-01",144212,null,null,null,null,null,null,null,48859,null,null,null,null,{"$f":"SUM(O519:W519)","v":48859},{"$f":"SUM(O519:Z519)","v":48859}]
[496,"Projet Saint-Vallier","Société en commandite 508 St-Vallier","Implantation","Bâtiment",1,"03-Capitale-Nationale","Québec","AC","SU",25143.75,"2020-04-17T14:45:10","2020-04-01",58525,null,null,null,null,null,null,null,25143.75,null,null,null,null,{"$f":"SUM(O520:W520)","v":25143.75},{"$f":"SUM(O520:Z520)","v":25143.75}]
[497,"Projet d'optimisation énergétique Chanel","Chanel Canada ULC","Implantation","Bâtiment",1,"16-Montérégie","Candiac","AC","SU",176911.30000000002,"2020-08-27T09:49:08","2021-12-31",992789,null,null,null,null,null,null,null,134789.57,42121.73,null,null,null,{"$f":"SUM(O521:W521)","v":176911.30000000002},{"$f":"SUM(O521:Z521)","v":176911.30000000002}]
[498,"Conversion électrique et efficacité énergétique","Société Bon Pasteur S.E.N.C.","Implantation","Bâtiment",1,"03-Capitale-Nationale","Québec","AC","SU",545207.13468480005,"2021-02-19T14:37:52","2022-05-31",1918800,null,null,null,null,null,null,null,null,415395.90616800002,129811.22851679999,null,null,{"$f":"SUM(O522:W522)","v":415395.90616800002},{"$f":"SUM(O522:Z522)","v":545207.13468480005}]
[499,"Implantation d'un système de chauffage efficace","Intellinox Technologies inc.","Implantation","Bâtiment",1,"03-Capitale-Nationale","Québec","AC","SU",18988.5,"2020-09-08T13:48:43","2021-10-15",51650,null,null,null,null,null,null,null,null,18988.5,null,null,null,{"$f":"SUM(O523:W523)","v":18988.5},{"$f":"SUM(O523:Z523)","v":18988.5}]
[500,"Efficacité énergétique à Samuel-Holland","Appartements CAPREIT","Implantation","Bâtiment",1,"03-Capitale-Nationale","Québec","AC","SU",523403.77,"2020-04-15T14:44:35","2020-04-01",950000,null,null,null,null,null,null,null,495032,null,null,null,null,{"$f":"SUM(O524:W524)","v":495032},{"$f":"SUM(O524:Z524)","v":495032}]
[501,"Conversion du chauffe-eau à l’électricité","Supermarché Boucher inc.","Implantation","Bâtiment",1,"14-Lanaudière","Saint-Donat","AC","SU",17220,"2020-08-26T10:03:39","2020-04-01",22960,null,null,null,null,null,null,null,17220,null,null,null,null,{"$f":"SUM(O525:W525)","v":17220},{"$f":"SUM(O525:Z525)","v":17220}]
[502,"Marché Pasquier Delson - Système de réfrigération au CO2","Groupe alimentaire PMA Delson inc.","Implantation","Bâtiment",1,"16-Montérégie","Delson","AC","SU",177372.0015361,"2020-10-23","2022-06-01",301455,null,null,null,null,null,null,null,null,135140.57583039999,42231.4257057,null,null,{"$f":"SUM(O526:W526)","v":135140.57583039999},{"$f":"SUM(O526:Z526)","v":177372.0015361}]
[503,"Installation d'une unité de ventilation et récupération de chaleur","Carrossier CarrXpert Jacques Lévesque inc.","Implantation","Bâtiment",1,"01-Bas-Saint-Laurent","Rimouski","AC","SU",57395.96,"2020-02-04T10:50:04","2020-04-01",291300,null,null,null,null,null,null,null,57395.96,null,null,null,null,{"$f":"SUM(O527:W527)","v":57395.96},{"$f":"SUM(O527:Z527)","v":57395.96}]
[504,"Conversion du système de chauffage au gaz","Résidences St-Georges de St-Michel-des-Saints inc.","Implantation","Bâtiment",1,"14-Lanaudière","Saint-Michel-des-Saints","AC","SU",33380.25,"2021-02-03T16:32:45","2020-04-01",48084,null,null,null,null,null,null,null,33380.25,null,null,null,null,{"$f":"SUM(O528:W528)","v":33380.25},{"$f":"SUM(O528:Z528)","v":33380.25}]
[505,"Modernisation de l'abbaye Oka","L'abbaye d'Oka inc.","Implantation","Bâtiment",1,"15-Laurentides","Oka","AC","SU",833771.51,"2020-11-16T14:30:05","2022-05-01",1129029,null,null,null,null,null,null,null,416885.76000000001,208442.88,208442.87,null,null,{"$f":"SUM(O529:W529)","v":625328.64000000001},{"$f":"SUM(O529:Z529)","v":833771.51}]
[506,"Conversion vers électricité - 2500 Cavendish","Appartements CAPREIT","Implantation","Bâtiment",1,"06-Montréal","Montréal","AC","SU",82500,"2020-12-02T11:41:29","2022-06-01",110000,null,null,null,null,null,null,null,null,61875,20625,null,null,{"$f":"SUM(O530:W530)","v":61875},{"$f":"SUM(O530:Z530)","v":82500}]
[507,"Projet d'efficacité énergétique - Pavillons B1 et B2","Université de Sherbrooke","Implantation","Bâtiment",1,"05-Estrie","Sherbrooke","AC","SU",101362.08000000002,"2020-08-26T10:23:13","2022-06-30",546084,null,null,null,null,null,null,null,28960.6,48267.66,24133.82,null,null,{"$f":"SUM(O531:W531)","v":77228.260000000009},{"$f":"SUM(O531:Z531)","v":101362.08000000002}]
[508,"Projet d'efficacité énergétique - Pavillons E","Université de Sherbrooke","Implantation","Bâtiment",1,"05-Estrie","Sherbrooke","AC","SU",55400,"2020-09-03T14:35:12","2022-06-15",184000,null,null,null,null,null,null,null,13850,27700,13850,null,null,{"$f":"SUM(O532:W532)","v":41550},{"$f":"SUM(O532:Z532)","v":55400}]
[509,"Implantation d'un système d'énergie renouvelable","Pourvoirie Poulin de Courval inc.","Implantation","Bâtiment",1,"02-Saguenay--Lac-Saint-Jean","Sainte-Rose-du-Nord","IN","SU",244839.3045,"2016-04-13","2021-12-31",450000,null,null,null,58295.07,null,null,null,11659.014499999999,174885.22,null,null,null,{"$f":"SUM(O533:W533)","v":244839.3045},{"$f":"SUM(O533:Z533)","v":244839.3045}]
[510,"Ajout de charge électrique pour le chauffage de l'eau","L'Éternel SPA, s.a.","Implantation","Bâtiment",1,"02-Saguenay--Lac-Saint-Jean","Saint-David-de-Falardeau","AC","SU",87932.68,"2021-03-18T09:44:55","2021-11-30",117244,null,null,null,null,null,null,null,null,87932.68,null,null,null,{"$f":"SUM(O534:W534)","v":87932.68},{"$f":"SUM(O534:Z534)","v":87932.68}]
[511,"Bâtiment 7 - Chauffage radiant et chaudières efficaces","Air Canada","Implantation","Bâtiment",1,"06-Montréal","Montréal","AC","SU",541367.74,"2020-09-15T10:20:21","2024-10-01",11516500,null,null,null,null,null,null,null,154676.5,null,128897.08,128897.08,128897.08,{"$f":"SUM(O535:W535)","v":154676.5},{"$f":"SUM(O535:Z535)","v":541367.74}]
[512,"Bâtiment 3 - Chauffage radiant et chaudières efficaces","Air Canada","Implantation","Bâtiment",1,"06-Montréal","Montréal","AC","SU",572045.89,"2019-04-24T10:09:54","2023-12-01",3049826,null,null,null,null,null,null,null,null,null,435844.48,136201.41,null,{"$f":"SUM(O536:W536)","v":0},{"$f":"SUM(O536:Z536)","v":572045.89}]
[513,"Réseau intelligent pour le secteur du sud-est","L'Institution royale pour l'avancement des sciences - Université McGill","Implantation","Bâtiment",1,"06-Montréal","Montréal","AC","SU",744224.26,"2018-09-19T13:23:33","2022-05-31",3931797,null,null,null,null,null,null,null,389831.75,177196.25,177196.26,null,null,{"$f":"SUM(O537:W537)","v":567028},{"$f":"SUM(O537:Z537)","v":744224.26}]
[514,"Efficacité énergétique au bâtiment de la cour de services Dickson","Ville de Montréal","Implantation","Bâtiment",1,"06-Montréal","Montréal","AC","SU",62175,"2017-03-21","2021-12-09",132900,null,null,null,null,15543.75,null,null,null,46631.25,null,null,null,{"$f":"SUM(O538:W538)","v":62175},{"$f":"SUM(O538:Z538)","v":62175}]
[515,"Construction d’un nouveau bâtiment au complexe Atwater","Ville de Montréal","Implantation","Bâtiment",1,"06-Montréal","Montréal","AC","SU",201405.93000000002,"2017-05-29","2020-04-01",571000,null,null,null,null,50351.48,null,null,151054.45000000001,null,null,null,null,{"$f":"SUM(O539:W539)","v":201405.93000000002},{"$f":"SUM(O539:Z539)","v":201405.93000000002}]
[516,"Projet de rénovation majeure","Ville de Montréal","Implantation","Bâtiment",1,"06-Montréal","Montréal","AC","SU",344957.79149999999,"2019-09-16T09:30:00","2021-12-24",1069881,null,null,null,null,null,null,null,180692.18150000001,164265.60999999999,null,null,null,{"$f":"SUM(O540:W540)","v":344957.79149999999},{"$f":"SUM(O540:Z540)","v":344957.79149999999}]
[517,"Efficacité énergétique au 319, rue Franquet","Édifice 319 Franquet inc.","Implantation","Bâtiment",1,"03-Capitale-Nationale","Québec","AC","SU",1093270.227,"2018-02-08T10:10:29","2019-04-01",1675000,null,null,null,null,260302.44,260302.44,520604.86,52060.487000000001,null,null,null,null,{"$f":"SUM(O541:W541)","v":1093270.227},{"$f":"SUM(O541:Z541)","v":1093270.227}]
[518,"Projet d'efficacité énergétique Hôpital Legardeur","Centre intégré de santé et de services sociaux de Lanaudière","Implantation","Bâtiment",1,"14-Lanaudière","Terrebonne","AC","SU",1038710.9982,"2018-08-06T16:03:55","2022-02-15",2711097,null,null,null,null,null,247312.14,247312.14,296774.56849999999,247312.14970000001,null,null,null,{"$f":"SUM(O542:W542)","v":1038710.9982},{"$f":"SUM(O542:Z542)","v":1038710.9982}]
[519,"Construction de l'Espace Montmorency","Espace Montmorency (9316-5363 Québec inc.)","Implantation","Bâtiment",1,"13-Laval","Laval","AC","SU",605284.1,"2021-01-22T13:43:35","2023-06-01",5418568,null,null,null,null,null,null,null,null,null,461168.83,144115.26999999999,null,{"$f":"SUM(O543:W543)","v":0},{"$f":"SUM(O543:Z543)","v":605284.1}]
[520,"Installation de fours crématoires efficaces","Compagnie du cimetière Saint-Charles","Implantation","Bâtiment",1,"03-Capitale-Nationale","Québec","AC","SU",253800.62400000001,"2019-06-04T09:19:57","2020-04-01",606000,null,null,null,null,null,null,60428.72,193371.90400000001,null,null,null,null,{"$f":"SUM(O544:W544)","v":253800.62400000001},{"$f":"SUM(O544:Z544)","v":253800.62400000001}]
[521,"Projet d'efficacité énergétique au Centre d'hébergement de L'Assomption","Centre intégré de santé et de services sociaux de Lanaudière","Implantation","Bâtiment",1,"14-Lanaudière","L'Assomption","AC","SU",445263.7035,"2017-09-20T09:56:03","2019-04-01",952613,null,null,null,null,106015.17,null,318045.5,21203.033500000001,null,null,null,null,{"$f":"SUM(O545:W545)","v":445263.7035},{"$f":"SUM(O545:Z545)","v":445263.7035}]
[522,"Mise au norme de l'aréna St-Donat","Ville de Montréal","Implantation","Bâtiment",1,"06-Montréal","Montréal","AC","SU",167404.88099999999,"2019-10-25T08:53:09","2019-12-08",529375,null,null,null,null,null,null,159433.22,7971.6610000000001,null,null,null,null,{"$f":"SUM(O546:W546)","v":167404.88099999999},{"$f":"SUM(O546:Z546)","v":167404.88099999999}]
[523,"Projet éco énergétique, Casino de Charlevoix","Casiloc inc.","Implantation","Bâtiment",1,"03-Capitale-Nationale","La Malbaie","AC","SU",165120.38,"2019-06-11T13:41:35","2022-04-10",1678042,null,null,null,null,null,null,null,71479.072,null,22337.21,null,null,{"$f":"SUM(O547:W547)","v":71479.072},{"$f":"SUM(O547:Z547)","v":93816.282000000007}]
[524,"Rénovation et agrandissement de la caserne 18","Ville de Montréal","Implantation","Bâtiment",1,"06-Montréal","Montréal","AC","SU",33901.402499999997,"2017-12-21T14:24:38","2020-02-07",442800,null,null,null,null,8071.76,16143.52,8071.77,1614.3525,null,null,null,null,{"$f":"SUM(O548:W548)","v":33901.402499999997},{"$f":"SUM(O548:Z548)","v":33901.402499999997}]
[525,"Projet d'efficacité énergétique au Parc Royal Apartments","CAPREIT Apartments Inc.","Implantation","Bâtiment",1,"06-Montréal","Montréal","AC","SU",553369.26749999996,"2018-11-06T16:10:13","2019-04-01",922397,null,null,null,null,null,263509.18,263509.17,26350.9175,null,null,null,null,{"$f":"SUM(O549:W549)","v":553369.26749999996},{"$f":"SUM(O549:Z549)","v":553369.26749999996}]
[526,"Réfrigération au CO2 avec récupération de chaleur (000408)","Sobeys Capital Incorporée","Implantation","Bâtiment",1,"12-Chaudière-Appalaches","Saint-Jean-Port-Joli","AC","SU",0,"2019-05-23T10:49:55","2022-08-31",37500,null,null,null,null,null,null,null,null,null,null,null,null,{"$f":"SUM(O550:W550)","v":0},{"$f":"SUM(O550:Z550)","v":0}]
[527,"Conversion de la chaudière au mazout léger vers l'électricité","Paroisse de St-Paul-de-Montminy","Implantation","Bâtiment",1,"12-Chaudière-Appalaches","Saint-Paul-de-Montminy","AC","SU",41052.290999999997,"2018-05-25T11:06:04","2021-04-30",62500,null,null,null,null,null,19548.72,null,1954.8710000000001,19548.7,null,null,null,{"$f":"SUM(O551:W551)","v":41052.290999999997},{"$f":"SUM(O551:Z551)","v":41052.290999999997}]
[528,"Loews Hôtel Vogue, Économie d'énergie","Loews Hotel Vogue","Implantation","Bâtiment",1,"06-Montréal","Montréal","AC","SU",259980.09266250001,"2019-08-16T13:31:56","2019-04-01",592676,null,null,null,null,null,null,247600.08825,12380.0044125,null,null,null,null,{"$f":"SUM(O552:W552)","v":259980.09266250001},{"$f":"SUM(O552:Z552)","v":259980.09266250001}]
[529,"Mesures d'efficacité énergétique chez Humaniti","Humaniti Locatifs Résidentiels S.E.C.","Implantation","Bâtiment",1,"06-Montréal","Montréal","AC","SU",676840.69949999999,"2019-09-18T11:29:15","2022-05-31",3594670,null,null,null,null,null,null,161152.54999999999,193383.0595,161152.54999999999,161152.54,null,null,{"$f":"SUM(O553:W553)","v":515688.15950000001},{"$f":"SUM(O553:Z553)","v":676840.69949999999}]
[530,"Implantation d'un mur solaire - Bâtiment de Granby","S. Setlakwe ltée","Implantation","Bâtiment",1,"05-Estrie","Granby","AC","SU",15538.005000000001,"2019-08-08T14:50:39","2020-09-10",38500,null,null,null,null,null,null,7399.04,4439.4449999999997,3699.52,null,null,null,{"$f":"SUM(O554:W554)","v":15538.005000000001},{"$f":"SUM(O554:Z554)","v":15538.005000000001}]
[531,"Implantation d'un mur solaire - Bâtiment de Saint-Germain","S. Setlakwe ltée","Implantation","Bâtiment",1,"17-Centre-du-Québec","Saint-Germain-de-Grantham","AC","SU",26856.5,"2019-08-08T15:11:57","2020-09-10",64750,null,null,null,null,null,null,12815.5,7633.25,6407.75,null,null,null,{"$f":"SUM(O555:W555)","v":26856.5},{"$f":"SUM(O555:Z555)","v":26856.5}]
[532,"Installation de deux nouveaux fours crématoires efficaces","Le repos Saint-Francois d'Assise","Implantation","Bâtiment",1,"06-Montréal","Montréal","AC","SU",293684.64299999998,"2018-12-21T14:47:21","2022-09-30",532170,null,null,null,null,null,null,null,null,83909.892999999996,209774.75,null,null,{"$f":"SUM(O556:W556)","v":83909.892999999996},{"$f":"SUM(O556:Z556)","v":293684.64299999998}]
[533,"Réfrigération CO2 avec récupération de chaleur (008608)","Sobeys Capital Incorporée","Implantation","Bâtiment",1,"06-Montréal","Montréal","AC","SU",0,"2018-08-09T10:03:33","2020-04-01",37500,null,null,null,null,null,null,null,null,null,null,null,null,{"$f":"SUM(O557:W557)","v":0},{"$f":"SUM(O557:Z557)","v":0}]
[534,"Réfrigération au CO2 avec récupération de chaleur (075022)","Sobeys Capital Incorporée","Implantation","Bâtiment",1,"06-Montréal","Montréal","AC","SU",0,"2019-08-29T09:18:07","2021-11-05",37500,null,null,null,null,null,null,null,null,null,null,null,null,{"$f":"SUM(O558:W558)","v":0},{"$f":"SUM(O558:Z558)","v":0}]
[535,"Réfection Aréna Pierre-Provencher","Ville de Nicolet","Implantation","Bâtiment",1,"17-Centre-du-Québec","Nicolet","AC","SU",29412.190500000001,"2019-10-09T09:05:42","2020-04-01",164243,null,null,null,null,null,null,null,29412.190500000001,null,null,null,null,{"$f":"SUM(O559:W559)","v":29412.190500000001},{"$f":"SUM(O559:Z559)","v":29412.190500000001}]
[536,"Remplacement des équipements de réfrigération","Ville de Drummondville","Implantation","Bâtiment",1,"17-Centre-du-Québec","Drummondville","AC","SU",176285.36,"2020-01-15T09:56:56","2021-11-05",461356,null,null,null,null,null,null,null,null,null,176285.36,null,null,{"$f":"SUM(O560:W560)","v":0},{"$f":"SUM(O560:Z560)","v":176285.36}]
[537,"Installation de 2 nouveaux fours crématoires efficaces","Parc commémoratif de Montréal inc.","Implantation","Bâtiment",1,"06-Montréal","Montréal","AC","SU",315127.5,"2019-01-21T09:33:01","2020-04-01",530570,null,null,null,null,null,null,76517.460000000006,238610.04,null,null,null,null,{"$f":"SUM(O561:W561)","v":315127.5},{"$f":"SUM(O561:Z561)","v":315127.5}]
[538,"Modernisation énergétique - Le Nordelec","1751 Richardson inc.","Implantation","Bâtiment",1,"06-Montréal","Montréal","AC","SU",237540.39023970001,"2018-08-08T15:59:41","2020-04-01",2493143,null,null,null,null,null,59385.099221099998,49376.951751599998,36565.495387784998,null,null,null,null,{"$f":"SUM(O562:W562)","v":145327.54636048499},{"$f":"SUM(O562:Z562)","v":145327.54636048499}]
[539,"Projet d'efficacité énergétique au Jardin des Seigneurs (3084)","CAPREIT Apartments Inc.","Implantation","Bâtiment",1,"03-Capitale-Nationale","Québec","AC","SU",76777.48000000001,"2019-08-19T14:21:28","2022-11-01",205000,null,null,null,null,null,null,null,null,58497.120000000003,18280.36,null,null,{"$f":"SUM(O563:W563)","v":58497.120000000003},{"$f":"SUM(O563:Z563)","v":76777.48000000001}]
[540,"Projet d'efficacité énergétique au Jardin des Seigneurs (3040)","CAPREIT Apartments Inc.","Implantation","Bâtiment",1,"03-Capitale-Nationale","Québec","AC","SU",112820.3895,"2019-08-19T14:29:35","2019-04-01",346000,null,null,null,null,null,null,107447.99,5372.3995000000004,null,null,null,null,{"$f":"SUM(O564:W564)","v":112820.3895},{"$f":"SUM(O564:Z564)","v":112820.3895}]
[541,"Projet d'efficacité énergétique au Jardin des Seigneurs (3072)","CAPREIT Apartments Inc.","Implantation","Bâtiment",1,"03-Capitale-Nationale","Québec","AC","SU",96624.55,"2019-07-23T16:16:43","2019-04-01",311000,null,null,null,null,null,null,61388.73,4831.2275,null,null,null,null,{"$f":"SUM(O565:W565)","v":66219.957500000004},{"$f":"SUM(O565:Z565)","v":66219.957500000004}]
[542,"Récupération de chaleur","Centre aquatique de Mascouche inc.","Implantation","Bâtiment",1,"14-Lanaudière","Mascouche","AC","SU",103014.639,"2019-11-25T09:55:45","2019-04-01",601425,null,null,null,null,null,null,98109.18,4905.4589999999998,null,null,null,null,{"$f":"SUM(O566:W566)","v":103014.639},{"$f":"SUM(O566:Z566)","v":103014.639}]
[543,"Projet d'efficacité énergétique (projet IDE) - Institut de Cardiologie de Montréal","Institut de Cardiologie de Montréal","Implantation","Bâtiment",1,"06-Montréal","Montréal","AC","SU",836426.2,"2021-03-22T11:23:18","2023-03-01",1455817,null,null,null,null,null,null,null,null,438128.02,398298.18,null,null,{"$f":"SUM(O567:W567)","v":438128.02},{"$f":"SUM(O567:Z567)","v":836426.2}]
[544,"Réfrigération CO2 avec récupération de chaleur (000000)","Sobeys Capital Incorporée","Implantation","Bâtiment",1,"06-Montréal","Montréal","AC","SU",0,"2019-08-27T10:09:12","2021-04-18",56250,null,null,null,null,null,null,null,null,null,null,null,null,{"$f":"SUM(O568:W568)","v":0},{"$f":"SUM(O568:Z568)","v":0}]
[545,"Remplacement des systèmes de réfrigération","Goupe Robert Inc.","Implantation","Bâtiment",1,"16-Montérégie","Boucherville","AC","SU",0,"2019-03-21T15:59:23","2023-04-01",150000,null,null,null,null,null,null,null,null,null,null,null,null,{"$f":"SUM(O569:W569)","v":0},{"$f":"SUM(O569:Z569)","v":0}]
[546,"Holiday Inn (MC) Montréal Centre-ville, quartier chinois, économie d'énergie","Holiday Inn (MC) Montréal Centre-ville","Implantation","Bâtiment",1,"06-Montréal","Montréal","AC","SU",324778.81799999997,"2019-06-27T08:57:42","2023-07-28",765512,null,null,null,null,null,null,154656.57999999999,15465.657999999999,null,77328.289999999994,77328.289999999994,null,{"$f":"SUM(O570:W570)","v":170122.23799999998},{"$f":"SUM(O570:Z570)","v":324778.81799999997}]
[547,"Projet d'efficacité énergétique - Centre de formation UA local 144","Le 7295 Lajeunesse inc.","Implantation","Bâtiment",1,"06-Montréal","Montréal","AC","SU",181811.58000000002,"2021-03-29T09:32:27","2019-09-01",569900,null,null,null,null,null,null,null,null,null,95234.63,86576.95,null,{"$f":"SUM(O571:W571)","v":0},{"$f":"SUM(O571:Z571)","v":181811.58000000002}]
[548,"Agrandissement et réaménagement de l'École Saint-René","Centre de services scolaire des Grandes-Seigneuries","Implantation","Bâtiment",1,"16-Montérégie","Mercier","AC","SU",34026.247499999998,"2019-06-28T09:26:49","2022-05-27",181500,null,null,null,null,null,null,8101.49,1620.2974999999999,16202.98,8101.48,null,null,{"$f":"SUM(O572:W572)","v":25924.767500000002},{"$f":"SUM(O572:Z572)","v":34026.247499999998}]
[549,"Réaménagement de l'École St-Viateur-Clotilde-Raymond","Centre de services scolaire des Grandes-Seigneuries","Implantation","Bâtiment",1,"16-Montérégie","Saint-Constant","AC","SU",31191.887999999999,"2019-06-28T09:35:21","2023-03-24",94500,null,null,null,null,null,null,7426.64,1485.328,14853.28,7426.64,null,null,{"$f":"SUM(O573:W573)","v":23765.248},{"$f":"SUM(O573:Z573)","v":31191.887999999999}]
[550,"École Sainte-Catherine-de-Sienne - Projet de récupération de chaleur","Centre de services scolaire de Montréal","Implantation","Bâtiment",1,"06-Montréal","Montréal","AC","SU",61896.607499999998,"2020-05-06T15:53:03","2020-04-01",146900,null,null,null,null,null,null,null,61896.607499999998,null,null,null,null,{"$f":"SUM(O574:W574)","v":61896.607499999998},{"$f":"SUM(O574:Z574)","v":61896.607499999998}]
[551,"Reconstruction de l'école Sainte-Bibianne","Centre de services scolaire de Montréal","Implantation","Bâtiment",1,"06-Montréal","Montréal","AC","SU",40831.25,"2019-05-16T08:38:48","2022-04-15",166200,null,null,null,null,null,null,10125.14,330.71,20250.28,10125.120000000001,null,null,{"$f":"SUM(O575:W575)","v":30706.129999999997},{"$f":"SUM(O575:Z575)","v":40831.25}]
[552,"Réfection de la chaufferie","Centre de services scolaire du Lac-Saint-Jean","Implantation","Bâtiment",1,"02-Saguenay--Lac-Saint-Jean","Métabetchouan--Lac-à-la-Croix","AC","SU",95483.94,"2019-07-15T09:37:08","2019-04-01",354750,null,null,null,null,null,null,69516.009999999995,4764.933,null,null,null,null,{"$f":"SUM(O576:W576)","v":74280.942999999999},{"$f":"SUM(O576:Z576)","v":74280.942999999999}]
[553,"Installation de 2 nouveaux fours crématoires efficaces","Cimetière catholique de St-Jérôme","Implantation","Bâtiment",1,"15-Laurentides","Saint-Jérôme","AC","SU",356461.54949999996,"2019-02-15T11:43:16","2020-04-01",607500,null,null,null,null,null,null,84871.8,271589.74949999998,null,null,null,null,{"$f":"SUM(O577:W577)","v":356461.54949999996},{"$f":"SUM(O577:Z577)","v":356461.54949999996}]
[554,"Implantation d'un système photovoltaïque.","Pourvoirie Lac Dumoulin","Implantation","Bâtiment",1,"04-Mauricie","La Tuque","AC","SU",61441.705499999996,"2019-10-21T11:42:11","2022-02-14",138053,null,null,null,null,null,null,14628.98,2925.7955000000002,43886.93,null,null,null,{"$f":"SUM(O578:W578)","v":61441.705499999996},{"$f":"SUM(O578:Z578)","v":61441.705499999996}]
[555,"Mesures de récupération de chaleur sur les systèmes CVAC et de réfrigération","Vision Multisports Outaouais Inc.","Implantation","Bâtiment",1,"07-Outaouais","Gatineau","AC","SU",336439.69,"2021-03-01T13:57:39","2022-08-31",1174812,null,null,null,null,null,null,null,null,252329.76,84109.93,null,null,{"$f":"SUM(O579:W579)","v":252329.76},{"$f":"SUM(O579:Z579)","v":336439.69}]
[556,"Conversion du chauffage à l'électricité","Supermarché Boucher inc.","Implantation","Bâtiment",1,"14-Lanaudière","Saint-Jean-de-Matha","AC","SU",54048.277499999997,"2019-09-11T15:42:33","2020-04-01",80661,null,null,null,null,null,null,null,54048.277499999997,null,null,null,null,{"$f":"SUM(O580:W580)","v":54048.277499999997},{"$f":"SUM(O580:Z580)","v":54048.277499999997}]
[557,"Modernisation de la chaufferie principale","Interrent Holdings Manager Limited Partnership","Implantation","Bâtiment",1,"06-Montréal","Montréal","AC","SU",64708.623,"2019-03-20T16:37:29","2021-03-26",215000,null,null,null,null,null,null,null,null,null,64708.623,null,null,{"$f":"SUM(O581:W581)","v":0},{"$f":"SUM(O581:Z581)","v":64708.623}]
[558,"Réfrigération au CO2 avec récupération de chaleur (000284)","Sobeys Capital Incorporée","Implantation","Bâtiment",1,"06-Montréal","Montréal","AC","SU",0,"2020-01-13T15:51:46","2023-04-28",37500,null,null,null,null,null,null,null,null,null,null,null,null,{"$f":"SUM(O582:W582)","v":0},{"$f":"SUM(O582:Z582)","v":0}]
[559,"Refroidissement gratuit et humidification de l’air neuf à l’Édifice Héma-Québec","Héma-Québec","Implantation","Bâtiment",1,"03-Capitale-Nationale","Québec","AC","SU",32188.296000000002,"2021-03-30T14:13:07","2022-04-29",73905,null,null,null,null,null,null,null,null,24524.416000000001,7663.88,null,null,{"$f":"SUM(O583:W583)","v":24524.416000000001},{"$f":"SUM(O583:Z583)","v":32188.296000000002}]
[560,"Électrification des conteneurs réfrigérés","Termont Montréal inc.","Implantation","Bâtiment",1,"06-Montréal","Montréal","AC","SU",602574.84,"2019-04-02T14:25:43","2019-04-01",1869000,null,null,null,null,null,null,567095.93000000005,30128.741999999998,null,null,null,null,{"$f":"SUM(O584:W584)","v":597224.67200000002},{"$f":"SUM(O584:Z584)","v":597224.67200000002}]
[561,"Réfrigération au CO2 avec récupération de chaleur (096096)","Sobeys Capital Incorporée","Implantation","Bâtiment",1,"06-Montréal","Montréal","AC","SU",0,"2019-11-04T11:57:36","2022-01-28",37500,null,null,null,null,null,null,null,null,null,null,null,null,{"$f":"SUM(O585:W585)","v":0},{"$f":"SUM(O585:Z585)","v":0}]
[562,"Mesures d'efficacité énergérique","Équipement Drym ltée","Implantation","Bâtiment",1,"16-Montérégie","Vaudreuil-Dorion","AC","SU",219266.68,"2020-10-09T13:22:53","2022-02-07",933160,null,null,null,null,null,null,null,164450.01,54816.67,null,null,null,{"$f":"SUM(O586:W586)","v":219266.68},{"$f":"SUM(O586:Z586)","v":219266.68}]
[563,"Modernisation des systèmes CVAC et remplacement du système de contrôle","Société québécoise des infrastructures","Implantation","Bâtiment",1,"06-Montréal","Montréal","AC","SU",72250.83,"2021-01-22T14:06:42","2023-02-02",2611000,null,null,null,null,null,null,null,null,55048.26,17202.57,null,null,{"$f":"SUM(O587:W587)","v":55048.26},{"$f":"SUM(O587:Z587)","v":72250.83}]
[564,"Projet d'efficacité énergétique avec l'Hôpital Général Juif","Centre intégré universitaire de santé et de services sociaux du Centre-Ouest-de-l'Île-de-Montréal","Implantation","Bâtiment",1,"06-Montréal","Montréal","AC","SU",1803773.5,"2020-10-09T13:17:00","2023-05-26",6187247,null,null,null,null,null,null,null,515363.86,429469.88,429469.88,429469.88,null,{"$f":"SUM(O588:W588)","v":944833.74},{"$f":"SUM(O588:Z588)","v":1803773.5}]
[565,"Projet d'efficacité énergétique à l'Hôpital Mont-Sinaï","Centre intégré universitaire de santé et de services sociaux du Centre-Ouest-de-l'Île-de-Montréal","Implantation","Bâtiment",1,"06-Montréal","Côte-Saint-Luc","AC","SU",162816.60999999999,"2021-03-30T09:27:45","2022-05-01",378397,null,null,null,null,null,null,null,null,null,124050.75,38765.86,null,{"$f":"SUM(O589:W589)","v":0},{"$f":"SUM(O589:Z589)","v":162816.60999999999}]
[566,"Projet d'efficacité énergétique avec l'Hôpital Catherine-Booth","Centre intégré universitaire de santé et de services sociaux du Centre-Ouest-de-l'Île-de-Montréal","Implantation","Bâtiment",1,"06-Montréal","Montréal","AC","SU",282291.32,"2020-12-16T09:10:05","2022-04-01",821600,null,null,null,null,null,null,null,null,null,215079.1,67212.22,null,{"$f":"SUM(O590:W590)","v":0},{"$f":"SUM(O590:Z590)","v":282291.32}]
[567,"Projet d'efficacité énergétique au Centre Hospitalier Gériatrique Maimonides","Centre intégré universitaire de santé et de services sociaux du Centre-Ouest-de-l'Île-de-Montréal","Implantation","Bâtiment",1,"06-Montréal","Côte-Saint-Luc","AC","SU",777628.71,"2020-12-16T09:37:50","2022-03-01",1694077,null,null,null,null,null,null,null,null,null,407329.32,370299.39,null,{"$f":"SUM(O591:W591)","v":0},{"$f":"SUM(O591:Z591)","v":777628.71}]
[568,"Agora Village Urbain","10303712 Canada inc.","Implantation","Bâtiment",1,"07-Outaouais","Gatineau","AC","SU",79516.646999999997,"2020-01-13T10:00:01","2022-09-30",1448250,null,null,null,null,null,null,null,null,null,3786.5070000000001,56797.62,18932.52,{"$f":"SUM(O592:W592)","v":0},{"$f":"SUM(O592:Z592)","v":79516.646999999997}]
[569,"Projet d'efficacité énergétique pour l'Hôpital Richardson et le Centre d'hébergement Henri-Bradet","Centre intégré universitaire de santé et de services sociaux du Centre-Ouest-de-l'Île-de-Montréal","Implantation","Bâtiment",1,"06-Montréal","Montréal","AC","SU",136668.78,"2021-03-22T10:52:32","2022-05-01",275191,null,null,null,null,null,null,null,null,null,null,104128.58,32540.2,{"$f":"SUM(O593:W593)","v":0},{"$f":"SUM(O593:Z593)","v":136668.78}]
[570,"Projet d'efficacité énergétique pour le Centre d'hébergement St-Margaret","Centre intégré universitaire de santé et de services sociaux du Centre-Ouest-de-l'Île-de-Montréal","Implantation","Bâtiment",1,"06-Montréal","Westmount","AC","SU",49746.51,"2021-03-18T10:45:35","2022-05-01",156469,null,null,null,null,null,null,null,null,null,null,37902.11,11844.4,{"$f":"SUM(O594:W594)","v":0},{"$f":"SUM(O594:Z594)","v":49746.51}]
[571,"Projet d'efficacité énergétique pour le Centre d'hébergement Saint-Andrew","Centre intégré universitaire de santé et de services sociaux du Centre-Ouest-de-l'Île-de-Montréal","Implantation","Bâtiment",1,"06-Montréal","Montréal","AC","SU",20148.16,"2021-03-18T13:11:00","2023-07-31",54368,null,null,null,null,null,null,null,null,null,15350.98,4797.18,null,{"$f":"SUM(O595:W595)","v":0},{"$f":"SUM(O595:Z595)","v":20148.16}]
[572,"Projet d'efficacité énergétique pour le Centre d'hébergement Father-Dowd","Centre intégré universitaire de santé et de services sociaux du Centre-Ouest-de-l'Île-de-Montréal","Implantation","Bâtiment",1,"06-Montréal","Montréal","AC","SU",18997.23,"2021-03-18T13:13:48","2022-05-01",44992,null,null,null,null,null,null,null,null,14474.08,4523.1499999999996,null,null,{"$f":"SUM(O596:W596)","v":14474.08},{"$f":"SUM(O596:Z596)","v":18997.23}]
[573,"Place de l’Escarpement 2 – Analyse énergétique et conceptuelle","9198-5523 Québec inc.","Analyse","Bâtiment",1,"03-Capitale-Nationale","Québec","AC","SU",7350,"2019-07-24T16:15:14","2021-08-31",14000,null,null,null,null,null,null,null,null,null,7350,null,null,{"$f":"SUM(O597:W597)","v":0},{"$f":"SUM(O597:Z597)","v":7350}]
[574,"Étude sur la réfection de la chaufferie du pavillon GN","Université Concordia","Analyse","Bâtiment",1,"06-Montréal","Montréal","AC","SU",11812.5,"2020-12-21T09:28:52","2021-05-12",22500,null,null,null,null,null,null,null,562.5,5625,5625,null,null,{"$f":"SUM(O598:W598)","v":6187.5},{"$f":"SUM(O598:Z598)","v":11812.5}]
[575,"Banlieue Ford, Conversion du chauffage","Banlieue Ford inc.","Implantation","Bâtiment",1,"12-Chaudière-Appalaches","Saint-Apollinaire","AC","SU",45104.72,"2020-08-26T10:59:27","2020-04-01",68978,null,null,null,null,null,null,null,45104.72,null,null,null,null,{"$f":"SUM(O599:W599)","v":45104.72},{"$f":"SUM(O599:Z599)","v":45104.72}]
[576,"Hôtel Hilton Westbury Montréal","Devmont W8 inc.","Implantation","Bâtiment",1,"06-Montréal","Montréal","AC","SU",228128.75,"2020-09-21T13:11:24","2021-10-13",694531,null,null,null,null,null,null,null,116590.1,111538.65,null,null,null,{"$f":"SUM(O600:W600)","v":228128.75},{"$f":"SUM(O600:Z600)","v":228128.75}]
[577,"Réfrigération au CO2 avec récupération de chaleur (008087)","Sobeys Capital Incorporée","Implantation","Bâtiment",1,"16-Montérégie","Vaudreuil-Dorion","AC","SU",0,"2020-02-19T15:29:30","2021-10-21",56250,null,null,null,null,null,null,null,null,null,null,null,null,{"$f":"SUM(O601:W601)","v":0},{"$f":"SUM(O601:Z601)","v":0}]
[578,"Réfrigération CO2 avec récupération de chaleur (008261)","Sobeys Capital Incorporée","Implantation","Bâtiment",1,"15-Laurentides","Saint-Eustache","AC","SU",0,"2020-02-18T15:08:00","2021-07-22",37500,null,null,null,null,null,null,null,null,null,null,null,null,{"$f":"SUM(O602:W602)","v":0},{"$f":"SUM(O602:Z602)","v":0}]
[579,"Modernisation des systèmes mécaniques et de contrôles","Édifice 1981 Mc Gill Collège inc.","Implantation","Bâtiment",1,"06-Montréal","Montréal","AC","SU",497872.72,"2020-08-27T08:57:24","2022-06-30",4864249,null,null,null,null,null,null,null,260790.46,118541.12,118541.14,null,null,{"$f":"SUM(O603:W603)","v":379331.57999999996},{"$f":"SUM(O603:Z603)","v":497872.72}]
[580,"Chauffage solaire de l'espace camions","Express J.W.","Implantation","Bâtiment",1,"05-Estrie","Sherbrooke","AC","SU",19549.246500000001,"2019-11-04T14:47:13","2022-03-28",34250,null,null,null,null,null,null,4124.78,824.95650000000001,14599.51,null,null,null,{"$f":"SUM(O604:W604)","v":19549.246500000001},{"$f":"SUM(O604:Z604)","v":19549.246500000001}]
[581,"Conversion du système de chauffage à l'huile vers un système de chauffage 100 % électrique","Hydraulique NES","Implantation","Bâtiment",1,"08-Abitibi-Témiscamingue","La Sarre","AC","SU",18302.587500000001,"2020-01-15T09:55:32","2021-12-31",31302,null,null,null,null,null,null,null,null,null,710.49749999999995,17592.09,null,{"$f":"SUM(O605:W605)","v":0},{"$f":"SUM(O605:Z605)","v":18302.587500000001}]
[582,"Conversion du chauffage au fioul à l'électricité","Collège Charlemagne inc.","Implantation","Bâtiment",1,"06-Montréal","Montréal","AC","SU",157119.12,"2021-03-22T11:43:31","2022-09-15",308612,null,null,null,null,null,null,null,7481.86,112227.96,37409.300000000003,null,null,{"$f":"SUM(O606:W606)","v":119709.82},{"$f":"SUM(O606:Z606)","v":157119.12}]
[583,"Récupération de chaleur pour chauffer l'air neuf","Corporation Dorchester Oaks","Implantation","Bâtiment",1,"06-Montréal","Pointe-Claire","AC","SU",327087.81,"2020-10-15T15:18:32","2023-03-31",1594861,null,null,null,null,null,null,null,93453.66,155756.1,77878.05,null,null,{"$f":"SUM(O607:W607)","v":249209.76},{"$f":"SUM(O607:Z607)","v":327087.81}]
[584,"Projet d'efficacité énergétique au 500 Saint-Jacques","Les Tours 500 St-Jacques inc.","Implantation","Bâtiment",1,"06-Montréal","Montréal","AC","SU",525767.93999999994,"2021-03-29T09:41:07","2022-01-01",1239000,null,null,null,null,null,null,null,null,525767.93999999994,null,null,null,{"$f":"SUM(O608:W608)","v":525767.93999999994},{"$f":"SUM(O608:Z608)","v":525767.93999999994}]
[585,"Mesures d'efficacité énergétique au 1080, Grande Allée Ouest","Industrielle Alliance, Assurances et services financiers inc.","Implantation","Bâtiment",1,"03-Capitale-Nationale","Québec","AC","SU",185205.83549999999,"2020-04-17T15:42:10","2023-08-21",968015,null,null,null,null,null,null,null,52915.955499999996,88193.26,null,44096.62,null,{"$f":"SUM(O609:W609)","v":141109.21549999999},{"$f":"SUM(O609:Z609)","v":185205.83549999999}]
[586,"Remplacement de la chaufferie","Centre de services scolaire de la Jonquière","Implantation","Bâtiment",1,"02-Saguenay--Lac-Saint-Jean","Saguenay","AC","SU",118429.24,"2020-12-16T08:51:24","2020-04-01",227087,null,null,null,null,null,null,null,118429.24,null,null,null,null,{"$f":"SUM(O610:W610)","v":118429.24},{"$f":"SUM(O610:Z610)","v":118429.24}]
[587,"Nouveau Magasin-Entrepôt JC Perreault","Meubles JCPerreault inc.","Implantation","Bâtiment",1,"14-Lanaudière","Saint-Roch-de-l'Achigan","AC","SU",84995.319999999992,"2020-09-08T16:02:23","2022-04-15",346200,null,null,null,null,null,null,null,null,64758.34,20236.98,null,null,{"$f":"SUM(O611:W611)","v":64758.34},{"$f":"SUM(O611:Z611)","v":84995.319999999992}]
[588,"Agora Village Urbain - Bâtiment C2","10303712 Canada inc.","Implantation","Bâtiment",1,"07-Outaouais","Gatineau","AC","SU",52125,"2020-08-24T11:55:03","2021-09-01",121500,null,null,null,null,null,null,null,14312.62,37812.379999999997,null,null,null,{"$f":"SUM(O612:W612)","v":52125},{"$f":"SUM(O612:Z612)","v":52125}]
[589,"Agora Village Urbain - Bâtiment C3","10303712 Canada inc.","Implantation","Bâtiment",1,"07-Outaouais","Gatineau","AC","SU",78412.708500000008,"2020-08-24T13:21:52","2022-03-29",203000,null,null,null,null,null,null,null,22403.628499999999,56009.08,null,null,null,{"$f":"SUM(O613:W613)","v":78412.708500000008},{"$f":"SUM(O613:Z613)","v":78412.708500000008}]
[590,"Le 315 St-Jean","Gestion immobilière François Bélanger inc.","Implantation","Bâtiment",1,"03-Capitale-Nationale","Québec","AC","SU",237154.3,"2021-02-19T14:47:49","2021-12-01",868000,null,null,null,null,null,null,null,180688.99,56465.31,null,null,null,{"$f":"SUM(O614:W614)","v":237154.3},{"$f":"SUM(O614:Z614)","v":237154.3}]
[591,"Projet d'efficacité énergétique au complexe de la Place Ville-Marie","Ivanhoé Cambridge inc.","Implantation","Bâtiment",1,"06-Montréal","Montréal","AC","SU",1474700.12,"2021-03-22T11:48:13","2023-02-28",3854023,null,null,null,null,null,null,null,null,1123581.06,351119.06,null,null,{"$f":"SUM(O615:W615)","v":1123581.06},{"$f":"SUM(O615:Z615)","v":1474700.12}]
[592,"Analyse énergétique du Manoir NDG","Ville de Montréal - Arrondissement Côte-des-Neiges/Notre-Dame-de-Grâce","Analyse","Bâtiment",1,"06-Montréal","Montréal","AC","SU",10500,"2020-09-03T14:30:20","2021-05-01",20000,null,null,null,null,null,null,null,5500,5000,null,null,null,{"$f":"SUM(O616:W616)","v":10500},{"$f":"SUM(O616:Z616)","v":10500}]
[593,"Diagnostique énergétique et mécanique du bâtiment","Ville de Contrecoeur","Analyse","Bâtiment",1,"16-Montérégie","Contrecoeur","AC","SU",5775,"2021-01-22T14:48:07","2021-08-24",11000,null,null,null,null,null,null,null,3025,2750,null,null,null,{"$f":"SUM(O617:W617)","v":5775},{"$f":"SUM(O617:Z617)","v":5775}]
[594,"Nouvelle concession Porsche à Québec","Gestion immobilière Bégin inc.","Implantation","Bâtiment",1,"03-Capitale-Nationale","Québec","AC","SU",218923.13,"2020-12-03T10:17:31","2022-08-19",1136200,null,null,null,null,null,null,null,null,164448.75,54474.38,null,null,{"$f":"SUM(O618:W618)","v":164448.75},{"$f":"SUM(O618:Z618)","v":218923.13}]
[595,"Raccordement au réseau de chaleur venant d'Hydro-Québec","Résidence Plaisance des Îles Inc.","Implantation","Bâtiment",1,"11-Gaspésie--Îles-de-la-Madeleine","Les Îles-de-la-Madeleine","AC","SU",399220.06999999995,"2021-03-29T09:28:42","2022-07-18",1180000,null,null,null,null,null,null,null,null,null,95052.4,304167.67,null,{"$f":"SUM(O619:W619)","v":0},{"$f":"SUM(O619:Z619)","v":399220.06999999995}]
[596,"Modernisation des systèmes CVCA du Centre L-A Savaria","Ville de Sainte-Julie","Implantation","Bâtiment",1,"16-Montérégie","Sainte-Julie","AC","SU",61596.560000000005,"2021-01-27T10:18:43","2025-04-30",1351015,null,null,null,null,null,null,null,null,17599.02,14665.85,null,29331.690000000002,{"$f":"SUM(O620:W620)","v":17599.02},{"$f":"SUM(O620:Z620)","v":61596.560000000005}]
[597,"Projet d'efficacité énergétique - Corporation Toulon","Corporation de Développement Toulon","Implantation","Bâtiment",1,"06-Montréal","Westmount","AC","SU",233001.93,"2020-11-25T11:32:00","2022-03-03",728000,null,null,null,null,null,null,null,66571.98,166429.95000000001,null,null,null,{"$f":"SUM(O621:W621)","v":233001.93},{"$f":"SUM(O621:Z621)","v":233001.93}]
[598,"Audit énergétique de deux bâtiments à la Cité Desjardins","Desjardins Sécurité Financière, Compagnie d'assurance vie","Analyse","Bâtiment",1,"12-Chaudière-Appalaches","Lévis","AC","SU",7113.42,"2021-02-03","2023-06-09",13549.38,null,null,null,null,null,null,null,null,3726.07,null,3387.35,null,{"$f":"SUM(O622:W622)","v":3726.07},{"$f":"SUM(O622:Z622)","v":7113.42}]
[599,"Quartier ZIBI - Récupération des rejets de chaleur de l'usine Kruger","Services d’Énergie de Quartier Zibi GP Inc.","Implantation","Bâtiment",1,"07-Outaouais","Gatineau","AC","SU",1684141.99,"2020-12-16T09:00:07","2022-11-15",4590620,null,null,null,null,null,null,null,481183.43,801972.38,400986.18,null,null,{"$f":"SUM(O623:W623)","v":1283155.81},{"$f":"SUM(O623:Z623)","v":1684141.99}]
[600,"Conversion du système de chauffage","Bistrot Bar Caserne 409","Implantation","Bâtiment",1,"17-Centre-du-Québec","Kingsey Falls","AC","SU",30053.55,"2020-12-02T11:30:56","2021-12-01",65545,null,null,null,null,null,null,null,null,null,30053.55,null,null,{"$f":"SUM(O624:W624)","v":0},{"$f":"SUM(O624:Z624)","v":30053.55}]
[601,"Analyse de gains énergétiques potentiels à Sépaq Anticosti","Société des établissements de plein air du Québec","Analyse","Bâtiment",1,"09-Côte-Nord","L'Île-d'Anticosti","AC","SU",19083.39,"2021-02-08T15:47:39","2022-06-30",36349.31,null,null,null,null,null,null,null,9996.06,null,9087.33,null,null,{"$f":"SUM(O625:W625)","v":9996.06},{"$f":"SUM(O625:Z625)","v":19083.39}]
[602,"Conversion vers l'électricité de la centrale thermique du Centre administratif Saint-Ferdinand","Centre intégré universitaire de santé et de services sociaux de la Mauricie-et-du-Centre-du-Québec","Implantation","Bâtiment",1,"17-Centre-du-Québec","Saint-Ferdinand","AC","SU",131754,"2021-01-22T13:48:03","2022-10-31",304768,null,null,null,null,null,null,null,6274,94110,31370,null,null,{"$f":"SUM(O626:W626)","v":100384},{"$f":"SUM(O626:Z626)","v":131754}]
[603,"Conversion du système de chauffage au mazout (diesel blanc) vers l'électrique","Station du Mont Gleason inc.","Implantation","Bâtiment",1,"17-Centre-du-Québec","Tingwick","AC","SU",19826,"2021-03-30T09:22:45","2023-06-01",26435,null,null,null,null,null,null,null,null,4956.5,9913,4956.5,null,{"$f":"SUM(O627:W627)","v":4956.5},{"$f":"SUM(O627:Z627)","v":19826}]
[604,"Analyse écoénergétique","Ville de Richmond","Analyse","Bâtiment",1,"05-Estrie","Richmond","AC","SU",9920.82,"2021-03-18T13:18:08","2021-07-31",18896.8,null,null,null,null,null,null,null,null,9920.82,null,null,null,{"$f":"SUM(O628:W628)","v":9920.82},{"$f":"SUM(O628:Z628)","v":9920.82}]
[605,null,null,null,null,null,null,null,null,null,null,null,null,null,null,null,null,null,null,null,null,null,null,null,null,null,{"$f":"SUM(O629:W629)","v":0},{"$f":"SUM(O629:Z629)","v":0}]
[606,null,null,null,null,null,null,null,null,null,null,null,null,null,null,null,null,null,null,null,null,null,null,null,null,null,{"$f":"SUM(O630:W630)","v":0},{"$f":"SUM(O630:Z630)","v":0}]
[607,null,null,null,null,null,null,null,null,null,null,null,null,null,null,null,null,null,null,null,null,null,null,null,null,null,{"$f":"SUM(O631:W631)","v":0},{"$f":"SUM(O631:Z631)","v":0}]
[608,null,null,null,null,null,null,null,null,null,null,null,null,null,null,null,null,null,null,null,null,null,null,null,null,null,{"$f":"SUM(O632:W632)","v":0},{"$f":"SUM(O632:Z632)","v":0}]
[609,null,null,null,null,null,null,null,null,null,null,null,null,null,null,null,null,null,null,null,null,null,null,null,null,null,{"$f":"SUM(O633:W633)","v":0},{"$f":"SUM(O633:Z633)","v":0}]
[610,null,null,null,null,null,null,null,null,null,null,null,null,null,null,null,null,null,null,null,null,null,null,null,null,null,{"$f":"SUM(O634:W634)","v":0},{"$f":"SUM(O634:Z634)","v":0}]
[611,null,null,null,null,null,null,null,null,null,null,null,null,null,null,null,null,null,null,null,null,null,null,null,null,null,{"$f":"SUM(O635:W635)","v":0},{"$f":"SUM(O635:Z635)","v":0}]
[612,null,null,null,null,null,null,null,null,null,null,null,null,null,null,null,null,null,null,null,null,null,null,null,null,null,{"$f":"SUM(O636:W636)","v":0},{"$f":"SUM(O636:Z636)","v":0}]
[613,null,null,null,null,null,null,null,null,null,null,null,null,null,null,null,null,null,null,null,null,null,null,null,null,null,{"$f":"SUM(O637:W637)","v":0},{"$f":"SUM(O637:Z637)","v":0}]
[614,null,null,null,null,null,null,null,null,null,null,null,null,null,null,null,null,null,null,null,null,null,null,null,null,null,{"$f":"SUM(O638:W638)","v":0},{"$f":"SUM(O638:Z638)","v":0}]
[615,null,null,null,null,null,null,null,null,null,null,null,null,null,null,null,null,null,null,null,null,null,null,null,null,null,{"$f":"SUM(O639:W639)","v":0},{"$f":"SUM(O639:Z639)","v":0}]
[616,null,null,null,null,null,null,null,null,null,null,null,null,null,null,null,null,null,null,null,null,null,null,null,null,null,{"$f":"SUM(O640:W640)","v":0},{"$f":"SUM(O640:Z640)","v":0}]
[617,null,null,null,null,null,null,null,null,null,null,null,null,null,null,null,null,null,null,null,null,null,null,null,null,null,{"$f":"SUM(O641:W641)","v":0},{"$f":"SUM(O641:Z641)","v":0}]
[618,null,null,null,null,null,null,null,null,null,null,null,null,null,null,null,null,null,null,null,null,null,null,null,null,null,{"$f":"SUM(O642:W642)","v":0},{"$f":"SUM(O642:Z642)","v":0}]
[619,null,null,null,null,null,null,null,null,null,null,null,null,null,null,null,null,null,null,null,null,null,null,null,null,null,{"$f":"SUM(O643:W643)","v":0},{"$f":"SUM(O643:Z643)","v":0}]
[620,null,null,null,null,null,null,null,null,null,null,null,null,null,null,null,null,null,null,null,null,null,null,null,null,null,{"$f":"SUM(O644:W644)","v":0},{"$f":"SUM(O644:Z644)","v":0}]
[621,null,null,null,null,null,null,null,null,null,null,null,null,null,null,null,null,null,null,null,null,null,null,null,null,null,{"$f":"SUM(O645:W645)","v":0},{"$f":"SUM(O645:Z645)","v":0}]
[622,null,null,null,null,null,null,null,null,null,null,null,null,null,null,null,null,null,null,null,null,null,null,null,null,null,{"$f":"SUM(O646:W646)","v":0},{"$f":"SUM(O646:Z646)","v":0}]
[623,null,null,null,null,null,null,null,null,null,null,null,null,null,null,null,null,null,null,null,null,null,null,null,null,null,{"$f":"SUM(O647:W647)","v":0},{"$f":"SUM(O647:Z647)","v":0}]
[624,null,null,null,null,null,null,null,null,null,null,null,null,null,null,null,null,null,null,null,null,null,null,null,null,null,{"$f":"SUM(O648:W648)","v":0},{"$f":"SUM(O648:Z648)","v":0}]
[625,null,null,null,null,null,null,null,null,null,null,null,null,null,null,null,null,null,null,null,null,null,null,null,null,null,{"$f":"SUM(O649:W649)","v":0},{"$f":"SUM(O649:Z649)","v":0}]
[626,null,null,null,null,null,null,null,null,null,null,null,null,null,null,null,null,null,null,null,null,null,null,null,null,null,{"$f":"SUM(O650:W650)","v":0},{"$f":"SUM(O650:Z650)","v":0}]
[627,null,null,null,null,null,null,null,null,null,null,null,null,null,null,null,null,null,null,null,null,null,null,null,null,null,{"$f":"SUM(O651:W651)","v":0},{"$f":"SUM(O651:Z651)","v":0}]
[628,null,null,null,null,null,null,null,null,null,null,null,null,null,null,null,null,null,null,null,null,null,null,null,null,null,{"$f":"SUM(O652:W652)","v":0},{"$f":"SUM(O652:Z652)","v":0}]
[629,null,null,null,null,null,null,null,null,null,null,null,null,null,null,null,null,null,null,null,null,null,null,null,null,null,{"$f":"SUM(O653:W653)","v":0},{"$f":"SUM(O653:Z653)","v":0}]
[630,null,null,null,null,null,null,null,null,null,null,null,null,null,null,null,null,null,null,null,null,null,null,null,null,null,{"$f":"SUM(O654:W654)","v":0},{"$f":"SUM(O654:Z654)","v":0}]
[631,null,null,null,null,null,null,null,null,null,null,null,null,null,null,null,null,null,null,null,null,null,null,null,null,null,{"$f":"SUM(O655:W655)","v":0},{"$f":"SUM(O655:Z655)","v":0}]
[632,null,null,null,null,null,null,null,null,null,null,null,null,null,null,null,null,null,null,null,null,null,null,null,null,null,{"$f":"SUM(O656:W656)","v":0},{"$f":"SUM(O656:Z656)","v":0}]
[633,null,null,null,null,null,null,null,null,null,null,null,null,null,null,null,null,null,null,null,null,null,null,null,null,null,{"$f":"SUM(O657:W657)","v":0},{"$f":"SUM(O657:Z657)","v":0}]
[634,null,null,null,null,null,null,null,null,null,null,null,null,null,null,null,null,null,null,null,null,null,null,null,null,null,{"$f":"SUM(O658:W658)","v":0},{"$f":"SUM(O658:Z658)","v":0}]
[635,null,null,null,null,null,null,null,null,null,null,null,null,null,null,null,null,null,null,null,null,null,null,null,null,null,{"$f":"SUM(O659:W659)","v":0},{"$f":"SUM(O659:Z659)","v":0}]
[636,null,null,null,null,null,null,null,null,null,null,null,null,null,null,null,null,null,null,null,null,null,null,null,null,null,{"$f":"SUM(O660:W660)","v":0},{"$f":"SUM(O660:Z660)","v":0}]
[null,"TOTAL DES DÉPENSES DE PROJET ($)",null,null,null,null,null,null,null,null,{"$f":"SUM(K25:K660)","v":89756565.309284955},null,null,{"$f":"SUM(N25:N660)","v":283554615.88999999},0,3545777.8257234003,6656234.7753478996,8293622.1987021947,9072348.3404427953,15587259.515653398,13532603.629953308,13579125.849129992,9631287.3067645989,5563235.4617224997,2056692.0700000005,221545.89,79898259.441717625,87739732.863440126]
[null,"TOTAL CONTRATS FONCTIONNEMENT ($)",null,null,null,null,null,null,null,null,{"$f":"SUMIF($J$25:$J37,\"CF-Contrat fonctionnement\",K25:K37)+SUMIF($J$25:$J37,\"CP-Contrat service professionnel\",K25:K37)+SUMIF($J$25:$J37,\"CT-Contrat service technique\",K25:K37)","v":0},null,null,null,{"$f":"SUMIF($J$25:$J37,\"CF-Contrat fonctionnement\",O25:O37)+SUMIF($J$25:$J37,\"CP-Contrat service professionnel\",O25:O37)+SUMIF($J$25:$J37,\"CT-Contrat service technique\",O25:O37)","v":0},{"$f":"SUMIF($J$25:$J37,\"CF-Contrat fonctionnement\",P25:P37)+SUMIF($J$25:$J37,\"CP-Contrat service professionnel\",P25:P37)+SUMIF($J$25:$J37,\"CT-Contrat service technique\",P25:P37)","v":0},{"$f":"SUMIF($J$25:$J37,\"CF-Contrat fonctionnement\",Q25:Q37)+SUMIF($J$25:$J37,\"CP-Contrat service professionnel\",Q25:Q37)+SUMIF($J$25:$J37,\"CT-Contrat service technique\",Q25:Q37)","v":0},{"$f":"SUMIF($J$25:$J37,\"CF-Contrat fonctionnement\",R25:R37)+SUMIF($J$25:$J37,\"CP-Contrat service professionnel\",R25:R37)+SUMIF($J$25:$J37,\"CT-Contrat service technique\",R25:R37)","v":0},{"$f":"SUMIF($J$25:$J37,\"CF-Contrat fonctionnement\",S25:S37)+SUMIF($J$25:$J37,\"CP-Contrat service professionnel\",S25:S37)+SUMIF($J$25:$J37,\"CT-Contrat service technique\",S25:S37)","v":0},{"$f":"SUMIF($J$25:$J37,\"CF-Contrat fonctionnement\",T25:T37)+SUMIF($J$25:$J37,\"CP-Contrat service professionnel\",T25:T37)+SUMIF($J$25:$J37,\"CT-Contrat service technique\",T25:T37)","v":0},{"$f":"SUMIF($J$25:$J37,\"CF-Contrat fonctionnement\",U25:U37)+SUMIF($J$25:$J37,\"CP-Contrat service professionnel\",U25:U37)+SUMIF($J$25:$J37,\"CT-Contrat service technique\",U25:U37)","v":0},{"$f":"SUMIF($J$25:$J37,\"CF-Contrat fonctionnement\",V25:V37)+SUMIF($J$25:$J37,\"CP-Contrat service professionnel\",V25:V37)+SUMIF($J$25:$J37,\"CT-Contrat service technique\",V25:V37)","v":0},{"$f":"SUMIF($J$25:$J37,\"CF-Contrat fonctionnement\",W25:W37)+SUMIF($J$25:$J37,\"CP-Contrat service professionnel\",W25:W37)+SUMIF($J$25:$J37,\"CT-Contrat service technique\",W25:W37)","v":0},{"$f":"SUMIF($J$25:$J37,\"CF-Contrat fonctionnement\",X25:X37)+SUMIF($J$25:$J37,\"CP-Contrat service professionnel\",X25:X37)+SUMIF($J$25:$J37,\"CT-Contrat service technique\",X25:X37)","v":0},{"$f":"SUMIF($J$25:$J37,\"CF-Contrat fonctionnement\",Y25:Y37)+SUMIF($J$25:$J37,\"CP-Contrat service professionnel\",Y25:Y37)+SUMIF($J$25:$J37,\"CT-Contrat service technique\",Y25:Y37)","v":0},null,{"$f":"SUMIF($J$25:$J37,\"CF-Contrat fonctionnement\",AA25:AA37)+SUMIF($J$25:$J37,\"CP-Contrat service professionnel\",AA25:AA37)+SUMIF($J$25:$J37,\"CT-Contrat service technique\",AA25:AA37)","v":0},{"$f":"SUMIF($J$25:$J37,\"CF-Contrat fonctionnement\",AB25:AB37)+SUMIF($J$25:$J37,\"CP-Contrat service professionnel\",AB25:AB37)+SUMIF($J$25:$J37,\"CT-Contrat service technique\",AB25:AB37)","v":0}]
[null,"TOTAL CONTRATS IMMOBILISATION ($)",null,null,null,null,null,null,null,null,{"$f":"SUMIF(J25:J37,\"CI-Contrat immobilisation\",K25:K37)","v":0},null,null,null,{"$f":"SUMIF($J$25:$J37,\"CI-Contrat immobilisation\",O25:O37)","v":0},{"$f":"SUMIF($J$25:$J37,\"CI-Contrat immobilisation\",P25:P37)","v":0},{"$f":"SUMIF($J$25:$J37,\"CI-Contrat immobilisation\",Q25:Q37)","v":0},{"$f":"SUMIF($J$25:$J37,\"CI-Contrat immobilisation\",R25:R37)","v":0},{"$f":"SUMIF($J$25:$J37,\"CI-Contrat immobilisation\",S25:S37)","v":0},{"$f":"SUMIF($J$25:$J37,\"CI-Contrat immobilisation\",T25:T37)","v":0},{"$f":"SUMIF($J$25:$J37,\"CI-Contrat immobilisation\",U25:U37)","v":0},{"$f":"SUMIF($J$25:$J37,\"CI-Contrat immobilisation\",V25:V37)","v":0},{"$f":"SUMIF($J$25:$J37,\"CI-Contrat immobilisation\",W25:W37)","v":0},{"$f":"SUMIF($J$25:$J37,\"CI-Contrat immobilisation\",X25:X37)","v":0},{"$f":"SUMIF($J$25:$J37,\"CI-Contrat immobilisation\",Y25:Y37)","v":0},null,{"$f":"SUMIF($J$25:$J37,\"CI-Contrat immobilisation\",AA25:AA37)","v":0},{"$f":"SUMIF($J$25:$J37,\"CI-Contrat immobilisation\",AB25:AB37)","v":0}]
[null,"TOTAL DES SUBVENTIONS ($)",null,null,null,null,null,null,null,null,{"$f":"SUMIF(J25:J37,\"SU-Subvention\",K25:K37)","v":0},null,null,null,{"$f":"SUMIF($J$25:$J663,\"SU-Subvention\",O25:O27)","v":0},{"$f":"SUMIF($J$25:$J663,\"SU-Subvention\",P25:P27)","v":0},{"$f":"SUMIF($J$25:$J663,\"SU-Subvention\",Q25:Q27)","v":0},{"$f":"SUMIF($J$25:$J663,\"SU-Subvention\",R25:R27)","v":0},{"$f":"SUMIF($J$25:$J663,\"SU-Subvention\",S25:S27)","v":0},{"$f":"SUMIF($J$25:$J663,\"SU-Subvention\",T25:T27)","v":0},{"$f":"SUMIF($J$25:$J663,\"SU-Subvention\",U25:U27)","v":0},{"$f":"SUMIF($J$25:$J663,\"SU-Subvention\",V25:V27)","v":0},{"$f":"SUMIF($J$25:$J663,\"SU-Subvention\",W25:W27)","v":0},{"$f":"SUMIF($J$25:$J663,\"SU-Subvention\",X25:X27)","v":0},{"$f":"SUMIF($J$25:$J663,\"SU-Subvention\",Y25:Y27)","v":0},null,{"$f":"SUMIF($J$25:$J663,\"SU-Subvention\",AA25:AA27)","v":0},{"$f":"SUMIF($J$25:$J663,\"SU-Subvention\",AB25:AB27)","v":0}]

{"sheet":"GES","index":4,"n_rows":680,"n_cols":39,"rows_kept":680,"cut":false,"hidden":false,"merged":[[21,5,21,6],[21,7,21,37],[22,29,22,30],[22,31,22,32],[22,33,22,34],[22,35,22,36],[22,37,22,38],[22,27,22,28],[22,21,22,22],[22,23,22,24],[22,25,22,26],[22,8,23,8],[22,6,23,6],[22,9,23,9],[22,11,22,12],[22,13,22,14],[22,1,23,1],[22,2,23,2],[22,3,23,3],[22,19,22,20],[660,1,660,4],[22,4,23,4],[22,15,22,16],[22,17,22,18],[19,14,19,16],[1,14,1,16],[1,1,1,6],[2,1,2,2],[3,2,3,6],[1,11,1,13],[2,8,5,16],[4,2,4,6],[19,8,19,13],[19,1,19,5],[5,1,5,6],[1,8,1,10],[18,1,18,2],[18,3,18,4]]}
[]
[null,{"$f":"Utilitaire!E8","v":"Plan d'action 2013-2020 sur les changements climatiques"}]
[null,{"$f":"\"Action \" & Accueil!D58","v":"Action en cours"}]
[null,{"$f":"Accueil!D55","v":"20.1"},{"$f":"Accueil!E55","v":"Conversion et efficacité énergétique dans les bâtiments commerciaux et institutionnels (Écoperformance)"}]
[null,"Ministère porteur :",{"$f":"Accueil!$D$65","v":"MERN (SITE)"}]
[null,"GES"]
[]
[]
[]
[]
[]
[]
[]
[]
[]
[]
[]
[]
[null,"Informations en date du :",null,"2022-03-31"]
[null,"Potentiel de réduction des GES évalué lors de la sélection des projets de cette action : ",null,null,null,null,"Oui",null,"Réductions réelles quantifiables des émissions de GES attendues pour cette action :   ",null,null,null,null,null,"Oui"]
[]
[null,null,null,null,null,"ÉVALUATION DU POTENTIEL DE RÉDUCTION ET D'ÉVITEMENT D'ÉMISSIONS DE GES À TERME.",null,"DÉTAIL DES ÉMISSIONS DE GES RÉDUITES OU ÉVITÉES  (en tonnes éq. CO2)"]
[null,"Nom du projet","Nom du requérant ou du bénéficiaire","Région administrative","Montant engagé ($)","Potentiel de réduction des GES sur une base annuelle","Horizon temporel pour la réalisation du potentiel","Coût/tonne estimé","Type d'émission","Émissions rapportées dans l'inventaire","Durée du projet","Émissions",null,"Vérifiées",null,"2013-2014",null,"2014-2015",null,"2015-2016",null,"2016-2017",null,"2017-2018",null,"2018-2019",null,"2019-2020",null,"2020-2021",null,"2021-2022",null,"2022-2023",null,"2023-2024",null,"2024-2025"]
[null,null,null,null,null,"(tonnes éq. CO2)",null,"$\n------------ \ntonne éq. CO2",null,null,"(années)","Réduites","Évitées","Tierce partie","M/O","Vérifié","Non vérifié","Vérifié","Non vérifié","Vérifié","Non vérifié","Vérifié","Non vérifié","Vérifié","Non vérifié","Vérifié","Non vérifié","Vérifié","Non vérifié","Vérifié","Non vérifié","Vérifié","Non vérifié","Vérifié","Non vérifié","Vérifié","Non vérifié","Vérifié","Non vérifié"]
[null,{"$f":"IF(LEN('Détail des projets'!B25)=0,\"\",'Détail des projets'!B25)","v":"Implantation de diverses mesures d'efficacité énergétique au Collège Servite (D-686)."},{"$f":"'Détail des projets'!C25","v":"Collège Servite"},{"$f":"IF(LEN('Détail des projets'!G25)=0,\"\",'Détail des projets'!G25)","v":"05-Estrie"},{"$f":"IF(LEN('Détail des projets'!K25)=0,\"\",'Détail des projets'!K25)","v":87905.46},117.884034056,"À la fin du projet (suite au dernier versement)",18.961154694456688,"QC-Québec","Oui",39.327476501464801,117.884034056,null,"Non","Oui",4.1871378216612003,null,117.239859006514,null,117.56194653125699,null,117.239859006514,null,117.239859006514,null,117.239859006514,null,117.56194653125699,null,117.239859006514,null,117.239859006514]
[null,{"$f":"IF(LEN('Détail des projets'!B26)=0,\"\",'Détail des projets'!B26)","v":"Ville de Montréal lot 12"},{"$f":"IF(LEN('Détail des projets'!C26)=0,\"\",'Détail des projets'!C26)","v":"Ville de Montréal"},{"$f":"IF(LEN('Détail des projets'!G26)=0,\"\",'Détail des projets'!G26)","v":"06-Montréal"},{"$f":"IF(LEN('Détail des projets'!K26)=0,\"\",'Détail des projets'!K26)","v":45000},0,"À la fin du projet (suite au dernier versement)",0,"QC-Québec","Oui",15.0060777664185,0,null,"Non","Oui"]
[null,{"$f":"IF(LEN('Détail des projets'!B27)=0,\"\",'Détail des projets'!B27)","v":"Système de récupération d'énergie des gaz de combustion"},{"$f":"IF(LEN('Détail des projets'!C27)=0,\"\",'Détail des projets'!C27)","v":"CCUM, s.e.c."},{"$f":"IF(LEN('Détail des projets'!G27)=0,\"\",'Détail des projets'!G27)","v":"06-Montréal"},{"$f":"IF(LEN('Détail des projets'!K27)=0,\"\",'Détail des projets'!K27)","v":1207275.48},2414.55096,"À la fin du projet (suite au dernier versement)",20,"QC-Québec","Oui",25,2414.55096,null,"Non","Oui",0,null,138.53980918032801,null,2407.95382622951,null,2401.35669245902,null,2401.35669245902,null,2401.35669245902,null,2407.95382622951,null,2401.35669245902,null,2401.35669245902]
[null,{"$f":"IF(LEN('Détail des projets'!B28)=0,\"\",'Détail des projets'!B28)","v":"Récupération des gaz de combustion par refroidissement mécanique"},{"$f":"IF(LEN('Détail des projets'!C28)=0,\"\",'Détail des projets'!C28)","v":"CCUM, s.e.c."},{"$f":"IF(LEN('Détail des projets'!G28)=0,\"\",'Détail des projets'!G28)","v":"06-Montréal"},{"$f":"IF(LEN('Détail des projets'!K28)=0,\"\",'Détail des projets'!K28)","v":5500},0,"À la fin du projet (suite au dernier versement)",0,"QC-Québec","Oui",null,0,null,"Non","Oui"]
[null,{"$f":"IF(LEN('Détail des projets'!B29)=0,\"\",'Détail des projets'!B29)","v":"Metro Vaudreuil-Dorion"},{"$f":"IF(LEN('Détail des projets'!C29)=0,\"\",'Détail des projets'!C29)","v":"Métro Richelieu inc."},{"$f":"IF(LEN('Détail des projets'!G29)=0,\"\",'Détail des projets'!G29)","v":"16-Montérégie"},{"$f":"IF(LEN('Détail des projets'!K29)=0,\"\",'Détail des projets'!K29)","v":81291.199999999997},90.487092079999996,"À la fin du projet (suite au dernier versement)",59.89156252852073,"QC-Québec","Oui",15,90.487092079999996,null,"Non","Oui",0,null,82.822884827322397,null,90.239859587978103,null,89.992627095956294,null,89.992627095956294,null,89.992627095956294,null,90.239859587978103,null,89.992627095956294,null,89.992627095956294]
[null,{"$f":"IF(LEN('Détail des projets'!B30)=0,\"\",'Détail des projets'!B30)","v":"Étude énergétique de système de production de vapeur et des systèmes thermiques de l'établissement"},{"$f":"IF(LEN('Détail des projets'!C30)=0,\"\",'Détail des projets'!C30)","v":"CSSS de Memphrémagog"},{"$f":"IF(LEN('Détail des projets'!G30)=0,\"\",'Détail des projets'!G30)","v":"05-Estrie"},{"$f":"IF(LEN('Détail des projets'!K30)=0,\"\",'Détail des projets'!K30)","v":10000},0,"À la fin du projet (suite au dernier versement)",0,"QC-Québec","Oui",24.0443439483643,0,null,"Non","Oui"]
[null,{"$f":"IF(LEN('Détail des projets'!B31)=0,\"\",'Détail des projets'!B31)","v":"Super C Canon (Saint-Canut)"},{"$f":"IF(LEN('Détail des projets'!C31)=0,\"\",'Détail des projets'!C31)","v":"Métro Richelieu inc."},{"$f":"IF(LEN('Détail des projets'!G31)=0,\"\",'Détail des projets'!G31)","v":"15-Laurentides"},{"$f":"IF(LEN('Détail des projets'!K31)=0,\"\",'Détail des projets'!K31)","v":47643.26},62.055879221120001,"À la fin du projet (suite au dernier versement)",51.184141492869266,"QC-Québec","Oui",15,62.054715399999999,null,"Non","Oui",0,null,11.6988397885246,null,61.885166997267802,null,61.715618594535499,null,61.715618594535499,null,61.715618594535499,null,61.885166997267802,null,61.715618594535499,null,61.715618594535499]
[null,{"$f":"IF(LEN('Détail des projets'!B32)=0,\"\",'Détail des projets'!B32)","v":"Changement des chaudières au 2055 Saint-Mathieu à Montréal"},{"$f":"IF(LEN('Détail des projets'!C32)=0,\"\",'Détail des projets'!C32)","v":"Entreprise Agostino inc."},{"$f":"IF(LEN('Détail des projets'!G32)=0,\"\",'Détail des projets'!G32)","v":"06-Montréal"},{"$f":"IF(LEN('Détail des projets'!K32)=0,\"\",'Détail des projets'!K32)","v":9250},0,"À la fin du projet (suite au dernier versement)",0,"QC-Québec","Oui",25,0,null,"Non","Oui"]
[null,{"$f":"IF(LEN('Détail des projets'!B33)=0,\"\",'Détail des projets'!B33)","v":"Changement des chaudières à l'immeuble 2055 Saint-Mathieu"},{"$f":"IF(LEN('Détail des projets'!C33)=0,\"\",'Détail des projets'!C33)","v":"Entreprise Agostino inc."},{"$f":"IF(LEN('Détail des projets'!G33)=0,\"\",'Détail des projets'!G33)","v":"06-Montréal"},{"$f":"IF(LEN('Détail des projets'!K33)=0,\"\",'Détail des projets'!K33)","v":247068.74},197.65499044000001,"À la fin du projet (suite au dernier versement)",50.000000394627016,"QC-Québec","Oui",25,197.65499044000001,null,"Non","Oui",0,null,0,null,0,null,81.546184580437199,null,196.57490852502701,null,196.57490852502701,null,197.11494948251399,null,196.57490852502701,null,196.57490852502701]
[null,{"$f":"IF(LEN('Détail des projets'!B34)=0,\"\",'Détail des projets'!B34)","v":"Analyse énergétique à l'École des Prés-Verts"},{"$f":"IF(LEN('Détail des projets'!C34)=0,\"\",'Détail des projets'!C34)","v":"Centre de services scolaire des Hautes-Rivières"},{"$f":"IF(LEN('Détail des projets'!G34)=0,\"\",'Détail des projets'!G34)","v":"16-Montérégie"},{"$f":"IF(LEN('Détail des projets'!K34)=0,\"\",'Détail des projets'!K34)","v":6150},0,"À la fin du projet (suite au dernier versement)",0,"QC-Québec","Oui",19.397670745849599,0,0,"Non","Oui"]
[null,{"$f":"IF(LEN('Détail des projets'!B35)=0,\"\",'Détail des projets'!B35)","v":"Analyse énergétique à l'École Aux-Quatre-Vents"},{"$f":"IF(LEN('Détail des projets'!C35)=0,\"\",'Détail des projets'!C35)","v":"Centre de services scolaire des Hautes-Rivières"},{"$f":"IF(LEN('Détail des projets'!G35)=0,\"\",'Détail des projets'!G35)","v":"16-Montérégie"},{"$f":"IF(LEN('Détail des projets'!K35)=0,\"\",'Détail des projets'!K35)","v":5950},0,"À la fin du projet (suite au dernier versement)",0,"QC-Québec","Oui",15,0,0,"Non","Oui"]
[null,{"$f":"IF(LEN('Détail des projets'!B36)=0,\"\",'Détail des projets'!B36)","v":"Modernisation de la chaufferie"},{"$f":"IF(LEN('Détail des projets'!C36)=0,\"\",'Détail des projets'!C36)","v":"Centre de services scolaire de Saint-Hyacinthe"},{"$f":"IF(LEN('Détail des projets'!G36)=0,\"\",'Détail des projets'!G36)","v":"16-Montérégie"},{"$f":"IF(LEN('Détail des projets'!K36)=0,\"\",'Détail des projets'!K36)","v":2500},0,"À la fin du projet (suite au dernier versement)",0,"QC-Québec","Oui",25,0,null,"Non","Oui"]
[null,{"$f":"IF(LEN('Détail des projets'!B37)=0,\"\",'Détail des projets'!B37)","v":"École Savio - Conversion du mazout vers l'électricité"},{"$f":"IF(LEN('Détail des projets'!C37)=0,\"\",'Détail des projets'!C37)","v":"Centre de services scolaire des Appalaches"},{"$f":"IF(LEN('Détail des projets'!G37)=0,\"\",'Détail des projets'!G37)","v":"05-Estrie"},{"$f":"IF(LEN('Détail des projets'!K37)=0,\"\",'Détail des projets'!K37)","v":33831.56},189.84651944000001,"À la fin du projet (suite au dernier versement)",50.000016446187615,"QC-Québec","Oui",25,0,27.065239097599999,"Non","Oui",0,null,12.3494396975388,null,26.991290356896201,null,26.917341616192299,null,26.917341616192299,null,26.917341616192299,null,26.991290356896201,null,26.917341616192299,null,26.917341616192299]
[null,{"$f":"IF(LEN('Détail des projets'!B38)=0,\"\",'Détail des projets'!B38)","v":"École Marguerite-Bourgeoys - Étude de faisabilité détaillée pour l'implantation de mesures d'efficacité énergétique"},{"$f":"IF(LEN('Détail des projets'!C38)=0,\"\",'Détail des projets'!C38)","v":"Centre de services scolaire des Hautes-Rivières"},{"$f":"IF(LEN('Détail des projets'!G38)=0,\"\",'Détail des projets'!G38)","v":"16-Montérégie"},{"$f":"IF(LEN('Détail des projets'!K38)=0,\"\",'Détail des projets'!K38)","v":4750},0,"À la fin du projet (suite au dernier versement)",0,"QC-Québec","Oui",15.011750221252401,4.3699971599999996,null,"Non","Oui",null,null,null,null,0.24460342710124999,null,4.3461173940983597,null,4.3461173940983597,null,4.3461173940983597,null,4.3580572770491797,null,4.3461173940983597,null,4.3461173940983597]
[null,{"$f":"IF(LEN('Détail des projets'!B39)=0,\"\",'Détail des projets'!B39)","v":"Remplacement du système de réfrigération et récupération de chaleur"},{"$f":"IF(LEN('Détail des projets'!C39)=0,\"\",'Détail des projets'!C39)","v":"Ville de Sherbrooke"},{"$f":"IF(LEN('Détail des projets'!G39)=0,\"\",'Détail des projets'!G39)","v":"05-Estrie"},{"$f":"IF(LEN('Détail des projets'!K39)=0,\"\",'Détail des projets'!K39)","v":0},2.5830127439999999,"À la fin du projet (suite au dernier versement)",0,"QC-Québec","Oui",19.955595016479499,2.5830127439999999,null,"Non","Oui",0,null,0,null,0,null,0,null,0,null,0,null,1.5808602586229501,null,2.5688979202622901,null,2.5688979202622901]
[null,{"$f":"IF(LEN('Détail des projets'!B40)=0,\"\",'Détail des projets'!B40)","v":"Conversion des équipements à l'électricité et installation des équipements requis"},{"$f":"IF(LEN('Détail des projets'!C40)=0,\"\",'Détail des projets'!C40)","v":"Pourvoirie Mirage inc."},{"$f":"IF(LEN('Détail des projets'!G40)=0,\"\",'Détail des projets'!G40)","v":"08-Abitibi-Témiscamingue"},{"$f":"IF(LEN('Détail des projets'!K40)=0,\"\",'Détail des projets'!K40)","v":1051941.06},957.33877840000002,"À la fin du projet (suite au dernier versement)",22.002908735671188,"QC-Québec","Oui",50,0,956.18363248000003,"Non","Oui",0,null,0,null,0,null,201.164316122842,null,950.95858530797796,null,950.95858530797796,null,953.57110889398905,null,950.95858530797796,null,950.95858530797796]
[null,{"$f":"IF(LEN('Détail des projets'!B41)=0,\"\",'Détail des projets'!B41)","v":"Centre St-Edmond - Étude de faisabilité détaillée pour l'implantation de mesures d'efficacité énergétique"},{"$f":"IF(LEN('Détail des projets'!C41)=0,\"\",'Détail des projets'!C41)","v":"Centre de services scolaire des Hautes-Rivières"},{"$f":"IF(LEN('Détail des projets'!G41)=0,\"\",'Détail des projets'!G41)","v":"16-Montérégie"},{"$f":"IF(LEN('Détail des projets'!K41)=0,\"\",'Détail des projets'!K41)","v":5100},0,"À la fin du projet (suite au dernier versement)",0,"QC-Québec","Oui",20,10.870322,null,"Non","Oui",null,null,null,null,5.40546066666667,null,10.810921333333299,null,10.810921333333299,null,10.810921333333299,null,10.840621666666699,null,10.810921333333299,null,10.810921333333299]
[null,{"$f":"IF(LEN('Détail des projets'!B42)=0,\"\",'Détail des projets'!B42)","v":"Édifice Wellington-Eddy - Étude visant à identifier des mesures d'efficacité énergétique possibles et à évaluer leur faisabilité technique et économique"},{"$f":"IF(LEN('Détail des projets'!C42)=0,\"\",'Détail des projets'!C42)","v":"8697841 Canada inc."},{"$f":"IF(LEN('Détail des projets'!G42)=0,\"\",'Détail des projets'!G42)","v":"07-Outaouais"},{"$f":"IF(LEN('Détail des projets'!K42)=0,\"\",'Détail des projets'!K42)","v":6650},0,"À la fin du projet (suite au dernier versement)",0,"QC-Québec","Oui",0,0,null,"Non","Oui"]
[null,{"$f":"IF(LEN('Détail des projets'!B43)=0,\"\",'Détail des projets'!B43)","v":"Édifice Wellington-Eddy -  Implantation de mesures d'efficacité énergétique"},{"$f":"IF(LEN('Détail des projets'!C43)=0,\"\",'Détail des projets'!C43)","v":"8697841 Canada inc."},{"$f":"IF(LEN('Détail des projets'!G43)=0,\"\",'Détail des projets'!G43)","v":"07-Outaouais"},{"$f":"IF(LEN('Détail des projets'!K43)=0,\"\",'Détail des projets'!K43)","v":227209.59},343.64429648498299,"À la fin du projet (suite au dernier versement)",18.884545923754121,"QC-Québec","Oui",30,401.05031016252298,null,"Non","Oui",0,null,0,null,282.70759568833603,null,398.858778413001,null,398.858778413001,null,398.858778413001,null,399.95454428776202,null,398.858778413001,null,398.858778413001]
[null,{"$f":"IF(LEN('Détail des projets'!B44)=0,\"\",'Détail des projets'!B44)","v":"Hôpital de Notre-Dame-du-Lac"},{"$f":"IF(LEN('Détail des projets'!C44)=0,\"\",'Détail des projets'!C44)","v":"Centre de santé et de services sociaux de Témiscouata"},{"$f":"IF(LEN('Détail des projets'!G44)=0,\"\",'Détail des projets'!G44)","v":"01-Bas-Saint-Laurent"},{"$f":"IF(LEN('Détail des projets'!K44)=0,\"\",'Détail des projets'!K44)","v":25000},0,"À la fin du projet (suite au dernier versement)",0,"QC-Québec","Oui",39.952156066894503,0,null,"Non","Oui"]
[null,{"$f":"IF(LEN('Détail des projets'!B45)=0,\"\",'Détail des projets'!B45)","v":"Projet d'implantation de mesures d'efficacité énergétique"},{"$f":"IF(LEN('Détail des projets'!C45)=0,\"\",'Détail des projets'!C45)","v":"Centre intégré de santé et de services sociaux du Bas-Saint-Laurent"},{"$f":"IF(LEN('Détail des projets'!G45)=0,\"\",'Détail des projets'!G45)","v":"01-Bas-Saint-Laurent"},{"$f":"IF(LEN('Détail des projets'!K45)=0,\"\",'Détail des projets'!K45)","v":48869.14},39.095314895999998,"À la fin du projet (suite au dernier versement)",7.4349711686821838,"QC-Québec","Oui",39.9884643554688,164.36929068800001,null,"Non","Oui",0,null,0,null,0,null,0,null,0,null,150.44730158601101,null,163.92019426535501,null,163.47109784271001,null,163.47109784271001]
[null,{"$f":"IF(LEN('Détail des projets'!B46)=0,\"\",'Détail des projets'!B46)","v":"Conversion des équipements à l'électricité et installation des équipements requis"},{"$f":"IF(LEN('Détail des projets'!C46)=0,\"\",'Détail des projets'!C46)","v":"Pourvoirie Domaine Lounan"},{"$f":"IF(LEN('Détail des projets'!G46)=0,\"\",'Détail des projets'!G46)","v":"15-Laurentides"},{"$f":"IF(LEN('Détail des projets'!K46)=0,\"\",'Détail des projets'!K46)","v":323369.56068262499},258.69564854610002,"À la fin du projet (suite au dernier versement)",28.463133505234836,"QC-Québec","Oui",50,0,227.21993038689999,"Non","Oui",0,null,0,null,0,null,187.48748354328899,null,225.97829142303701,null,225.97829142303701,null,226.599110904969,null,225.97829142303701,null,225.97829142303701]
[null,{"$f":"IF(LEN('Détail des projets'!B47)=0,\"\",'Détail des projets'!B47)","v":"Remplacement d'une chaudière mazout léger par une chaudière électrique."},{"$f":"IF(LEN('Détail des projets'!C47)=0,\"\",'Détail des projets'!C47)","v":"Corporation du service de recherche et d'expertise en transformation des produits forestiers de l'Est du Québec (SEREX)"},{"$f":"IF(LEN('Détail des projets'!G47)=0,\"\",'Détail des projets'!G47)","v":"01-Bas-Saint-Laurent"},{"$f":"IF(LEN('Détail des projets'!K47)=0,\"\",'Détail des projets'!K47)","v":17001.89},19.769778848000001,"À la fin du projet (suite au dernier versement)",28.666464659213904,"QC-Québec","Oui",30,0,19.769778848000001,"Non","Oui",0,null,14.044105192568299,null,19.715763058797801,null,19.661747269595601,null,19.661747269595601,null,19.661747269595601,null,19.715763058797801,null,19.661747269595601,null,19.661747269595601]
[null,{"$f":"IF(LEN('Détail des projets'!B48)=0,\"\",'Détail des projets'!B48)","v":"Agrandissement École Saint-Laurent"},{"$f":"IF(LEN('Détail des projets'!C48)=0,\"\",'Détail des projets'!C48)","v":"Centre de service scolaire Marguerite -Bourgeoys"},{"$f":"IF(LEN('Détail des projets'!G48)=0,\"\",'Détail des projets'!G48)","v":"06-Montréal"},{"$f":"IF(LEN('Détail des projets'!K48)=0,\"\",'Détail des projets'!K48)","v":48664.54},53.981661945165897,"À la fin du projet (suite au dernier versement)",58.599214195775339,"QC-Québec","Oui",29.798704147338899,27.8691326016,null,"Non","Oui",0,null,5.1017264598557404,null,27.7929874305574,null,27.716842259514699,null,27.716842259514699,null,27.716842259514699,null,27.7929874305574,null,27.716842259514699,null,27.716842259514699]
[null,{"$f":"IF(LEN('Détail des projets'!B49)=0,\"\",'Détail des projets'!B49)","v":"Pavillons C1 et C2 - Implantation de mesures en efficacité énergétique"},{"$f":"IF(LEN('Détail des projets'!C49)=0,\"\",'Détail des projets'!C49)","v":"Université de Sherbrooke"},{"$f":"IF(LEN('Détail des projets'!G49)=0,\"\",'Détail des projets'!G49)","v":"05-Estrie"},{"$f":"IF(LEN('Détail des projets'!K49)=0,\"\",'Détail des projets'!K49)","v":360615.44},1210.4735471616,"À la fin du projet (suite au dernier versement)",17.593759043411694,"QC-Québec","Oui",25,819.87127164854303,null,"Non","Oui",0,null,336.01281624940299,null,817.63118620687999,null,815.39110076521797,null,815.39110076521797,null,815.39110076521797,null,817.63118620687999,null,815.39110076521797,null,815.39110076521797]
[null,{"$f":"IF(LEN('Détail des projets'!B50)=0,\"\",'Détail des projets'!B50)","v":"Projet d'efficacité énergétique et intégration d'une boucle géothermique - Pavillon C3"},{"$f":"IF(LEN('Détail des projets'!C50)=0,\"\",'Détail des projets'!C50)","v":"Université de Sherbrooke"},{"$f":"IF(LEN('Détail des projets'!G50)=0,\"\",'Détail des projets'!G50)","v":"05-Estrie"},{"$f":"IF(LEN('Détail des projets'!K50)=0,\"\",'Détail des projets'!K50)","v":176272.48},352.54496363999999,"À la fin du projet (suite au dernier versement)",25.000407262491926,"QC-Québec","Oui",20,52.900959999999998,299.63825695999998,"Non","Oui",0,null,0,null,0,null,0,null,22.1541037980328,null,350.61277315147498,null,351.57599505573802,null,350.61277315147498,null,350.61277315147498]
[null,{"$f":"IF(LEN('Détail des projets'!B51)=0,\"\",'Détail des projets'!B51)","v":"Conversion des équipements à l'électricité"},{"$f":"IF(LEN('Détail des projets'!C51)=0,\"\",'Détail des projets'!C51)","v":"9147-4882 Québec inc. (Auberge du 31)"},{"$f":"IF(LEN('Détail des projets'!G51)=0,\"\",'Détail des projets'!G51)","v":"02-Saguenay--Lac-Saint-Jean"},{"$f":"IF(LEN('Détail des projets'!K51)=0,\"\",'Détail des projets'!K51)","v":265421.65625},212.33732499999999,"À la fin du projet (suite au dernier versement)",36.757432817735562,"QC-Québec","Oui",40,0,180.52243852699999,"Non","Oui",0,null,0,null,90.261219263499996,null,179.53597711428401,null,179.53597711428401,null,179.53597711428401,null,180.029207820642,null,179.53597711428401,null,179.53597711428401]
[null,{"$f":"IF(LEN('Détail des projets'!B52)=0,\"\",'Détail des projets'!B52)","v":"Projet d'efficacité énergétique - Centre d'hébergement de Gracefield"},{"$f":"IF(LEN('Détail des projets'!C52)=0,\"\",'Détail des projets'!C52)","v":"Centre de santé et de services sociaux de la Vallée-de-la-Gatineau"},{"$f":"IF(LEN('Détail des projets'!G52)=0,\"\",'Détail des projets'!G52)","v":"07-Outaouais"},{"$f":"IF(LEN('Détail des projets'!K52)=0,\"\",'Détail des projets'!K52)","v":149393.17000000001},119.514537565994,"À la fin du projet (suite au dernier versement)",36.642674881002755,"QC-Québec","Oui",34.839473724365199,0,117.023204773779,"Non","Oui",0,null,0,null,90.485155603768703,null,116.383733709441,null,116.383733709441,null,116.383733709441,null,116.70346924160999,null,116.383733709441,null,116.383733709441]
[null,{"$f":"IF(LEN('Détail des projets'!B53)=0,\"\",'Détail des projets'!B53)","v":"Analyse des mesures d'économies d'énergie"},{"$f":"IF(LEN('Détail des projets'!C53)=0,\"\",'Détail des projets'!C53)","v":"Cégep du Vieux Montréal"},{"$f":"IF(LEN('Détail des projets'!G53)=0,\"\",'Détail des projets'!G53)","v":"06-Montréal"},{"$f":"IF(LEN('Détail des projets'!K53)=0,\"\",'Détail des projets'!K53)","v":25000},0,"À la fin du projet (suite au dernier versement)",0,"QC-Québec","Oui",29.027853012085,0,null,"Non","Oui"]
[null,{"$f":"IF(LEN('Détail des projets'!B54)=0,\"\",'Détail des projets'!B54)","v":"Implantation de mesures d'efficacité énergétique au Cégep du Vieux Montréal"},{"$f":"IF(LEN('Détail des projets'!C54)=0,\"\",'Détail des projets'!C54)","v":"Cégep du Vieux Montréal"},{"$f":"IF(LEN('Détail des projets'!G54)=0,\"\",'Détail des projets'!G54)","v":"06-Montréal"},{"$f":"IF(LEN('Détail des projets'!K54)=0,\"\",'Détail des projets'!K54)","v":535986.36},430.16147804000002,"À la fin du projet (suite au dernier versement)",38.905517046240192,"QC-Québec","Oui",28.291385650634801,486.95443724,null,"Non","Oui",0,null,0,null,0,null,0,null,292.704852985792,null,484.29348403103802,null,485.62396063551898,null,484.29348403103802,null,484.29348403103802]
[null,{"$f":"IF(LEN('Détail des projets'!B55)=0,\"\",'Détail des projets'!B55)","v":"Analyse des mesures d'économies d'énergie à l’hôpital Saint-François d’Assise"},{"$f":"IF(LEN('Détail des projets'!C55)=0,\"\",'Détail des projets'!C55)","v":"CHU de Québec"},{"$f":"IF(LEN('Détail des projets'!G55)=0,\"\",'Détail des projets'!G55)","v":"03-Capitale-Nationale"},{"$f":"IF(LEN('Détail des projets'!K55)=0,\"\",'Détail des projets'!K55)","v":25000},0,"À la fin du projet (suite au dernier versement)",0,"QC-Québec","Oui",26.355129241943398,0,null,"Non","Oui"]
[null,{"$f":"IF(LEN('Détail des projets'!B56)=0,\"\",'Détail des projets'!B56)","v":"Projet d'implantation de mesures d'efficacité énergétique à l'Hôpital Saint-François d'Assise"},{"$f":"IF(LEN('Détail des projets'!C56)=0,\"\",'Détail des projets'!C56)","v":"CHU de Québec - Université Laval"},{"$f":"IF(LEN('Détail des projets'!G56)=0,\"\",'Détail des projets'!G56)","v":"03-Capitale-Nationale"},{"$f":"IF(LEN('Détail des projets'!K56)=0,\"\",'Détail des projets'!K56)","v":2032576.27},4065.1525379280001,"À la fin du projet (suite au dernier versement)",18.88177026778185,"QC-Québec","Oui",26.480567932128899,4065.1525379280001,null,"Non","Oui",0,null,0,null,0,null,0,null,3709.7293652129802,null,4042.9385896333101,null,4054.0455637806599,null,4042.9385896333101,null,4042.9385896333101]
[null,{"$f":"IF(LEN('Détail des projets'!B57)=0,\"\",'Détail des projets'!B57)","v":"Analyse énergétique chez CFP Brome - Boucherie"},{"$f":"IF(LEN('Détail des projets'!C57)=0,\"\",'Détail des projets'!C57)","v":"Centre de services scolaire du Val-des-Cerfs"},{"$f":"IF(LEN('Détail des projets'!G57)=0,\"\",'Détail des projets'!G57)","v":"05-Estrie"},{"$f":"IF(LEN('Détail des projets'!K57)=0,\"\",'Détail des projets'!K57)","v":5006},0,"À la fin du projet (suite au dernier versement)",0,"QC-Québec","Oui",20.352769851684599,0,0,"Non","Oui"]
[null,{"$f":"IF(LEN('Détail des projets'!B58)=0,\"\",'Détail des projets'!B58)","v":"Projet d'efficacité énergétique et de modernisation des équipements électro-mécaniques"},{"$f":"IF(LEN('Détail des projets'!C58)=0,\"\",'Détail des projets'!C58)","v":"Propriétés DCV s.e.c."},{"$f":"IF(LEN('Détail des projets'!G58)=0,\"\",'Détail des projets'!G58)","v":"06-Montréal"},{"$f":"IF(LEN('Détail des projets'!K58)=0,\"\",'Détail des projets'!K58)","v":24600},0,"À la fin du projet (suite au dernier versement)",0,"QC-Québec","Oui",22.553840637206999,0,null,"Non","Oui"]
[null,{"$f":"IF(LEN('Détail des projets'!B59)=0,\"\",'Détail des projets'!B59)","v":"Centre Saint-Charles - Récupération chaleur sur système ammoniac"},{"$f":"IF(LEN('Détail des projets'!C59)=0,\"\",'Détail des projets'!C59)","v":"Ville de Montréal"},{"$f":"IF(LEN('Détail des projets'!G59)=0,\"\",'Détail des projets'!G59)","v":"06-Montréal"},{"$f":"IF(LEN('Détail des projets'!K59)=0,\"\",'Détail des projets'!K59)","v":192885.25},189.1038067408,"À la fin du projet (suite au dernier versement)",122.42734825369408,"QC-Québec","Oui",30,52.516928815693198,null,"Non","Oui",0,null,0,null,18.3665761978381,null,52.229951062601998,null,52.229951062601998,null,52.229951062601998,null,52.373439939147602,null,52.229951062601998,null,52.229951062601998]
[null,{"$f":"IF(LEN('Détail des projets'!B60)=0,\"\",'Détail des projets'!B60)","v":"Réfrigération CO2 avec récupération de chaleur - No 88076 - IGA Saint-Antoine"},{"$f":"IF(LEN('Détail des projets'!C60)=0,\"\",'Détail des projets'!C60)","v":"Sobeys Capital Incorporée"},{"$f":"IF(LEN('Détail des projets'!G60)=0,\"\",'Détail des projets'!G60)","v":"15-Laurentides"},{"$f":"IF(LEN('Détail des projets'!K60)=0,\"\",'Détail des projets'!K60)","v":0},159.44679975,"À la fin du projet (suite au dernier versement)",0,"QC-Québec","Oui",15,183.03354296000001,null,"Non","Oui",0,null,13.5024744806557,null,182.53345131256799,null,182.033359665137,null,182.033359665137,null,182.033359665137,null,182.53345131256799,null,182.033359665137,null,182.033359665137]
[null,{"$f":"IF(LEN('Détail des projets'!B61)=0,\"\",'Détail des projets'!B61)","v":"Supermarché Marquis l'Assomption - Réfrigération CO2 et récupération de chaleur"},{"$f":"IF(LEN('Détail des projets'!C61)=0,\"\",'Détail des projets'!C61)","v":"Supermarché Marquis l'Assomption inc."},{"$f":"IF(LEN('Détail des projets'!G61)=0,\"\",'Détail des projets'!G61)","v":"14-Lanaudière"},{"$f":"IF(LEN('Détail des projets'!K61)=0,\"\",'Détail des projets'!K61)","v":159877.36632},177.12375,"À la fin du projet (suite au dernier versement)",80.81717641426458,"QC-Québec","Oui",15,131.8839826,null,"Non","Oui",0,null,30.2684550229508,null,131.52364384972699,null,131.16330509945399,null,131.16330509945399,null,131.16330509945399,null,131.52364384972699,null,131.16330509945399,null,131.16330509945399]
[null,{"$f":"IF(LEN('Détail des projets'!B62)=0,\"\",'Détail des projets'!B62)","v":"Projet d’efficacité énergétique à l'Hôtel-Dieu de Roberval"},{"$f":"IF(LEN('Détail des projets'!C62)=0,\"\",'Détail des projets'!C62)","v":"CSSS Domaine-du-Roy"},{"$f":"IF(LEN('Détail des projets'!G62)=0,\"\",'Détail des projets'!G62)","v":"02-Saguenay--Lac-Saint-Jean"},{"$f":"IF(LEN('Détail des projets'!K62)=0,\"\",'Détail des projets'!K62)","v":1513883.57},3027.7671388877998,"À la fin du projet (suite au dernier versement)",13.751164889925732,"QC-Québec","Oui",30,3669.7098806251902,null,"Non","Oui",0,null,0,null,2125.6243024386399,null,3649.6568211682202,null,3649.6568211682202,null,3649.6568211682202,null,3659.6833508967102,null,3649.6568211682202,null,3649.6568211682202]
[null,{"$f":"IF(LEN('Détail des projets'!B63)=0,\"\",'Détail des projets'!B63)","v":"Conversion du système de chauffage à la biénergie."},{"$f":"IF(LEN('Détail des projets'!C63)=0,\"\",'Détail des projets'!C63)","v":"Ville de Montréal"},{"$f":"IF(LEN('Détail des projets'!G63)=0,\"\",'Détail des projets'!G63)","v":"06-Montréal"},{"$f":"IF(LEN('Détail des projets'!K63)=0,\"\",'Détail des projets'!K63)","v":26972.99},73.935208263999996,"À la fin du projet (suite au dernier versement)",14.592771499980206,"QC-Québec","Oui",25,0,73.935208263999996,"Non","Oui",0,null,0,null,0,null,0,null,73.127173201005505,null,73.531190732502694,null,73.733199498251395,null,73.531190732502694,null,73.531190732502694]
[null,{"$f":"IF(LEN('Détail des projets'!B64)=0,\"\",'Détail des projets'!B64)","v":"Conversion du système de chauffage au gaz naturel vers l'aérothermie"},{"$f":"IF(LEN('Détail des projets'!C64)=0,\"\",'Détail des projets'!C64)","v":"Collège Sainte-Anne"},{"$f":"IF(LEN('Détail des projets'!G64)=0,\"\",'Détail des projets'!G64)","v":"06-Montréal"},{"$f":"IF(LEN('Détail des projets'!K64)=0,\"\",'Détail des projets'!K64)","v":458179},366.54319667999999,"À la fin du projet (suite au dernier versement)",62.500000566099722,"QC-Québec","Oui",20,366.54319667999999,null,"Non","Oui",0,null,28.0415560301639,null,365.54171253606597,null,364.54022839213098,null,364.54022839213098,null,364.54022839213098,null,365.54171253606597,null,364.54022839213098,null,364.54022839213098]
[null,{"$f":"IF(LEN('Détail des projets'!B65)=0,\"\",'Détail des projets'!B65)","v":"Construction d'une ligne électrique"},{"$f":"IF(LEN('Détail des projets'!C65)=0,\"\",'Détail des projets'!C65)","v":"Pourvoirie du Lac Beauregard"},{"$f":"IF(LEN('Détail des projets'!G65)=0,\"\",'Détail des projets'!G65)","v":"15-Laurentides"},{"$f":"IF(LEN('Détail des projets'!K65)=0,\"\",'Détail des projets'!K65)","v":256696.38},205.35710589600001,"À la fin du projet (suite au dernier versement)",28.128811135497628,"QC-Québec","Oui",50,0,182.51491594399999,"Non","Oui",0,null,0,null,27.925779488699501,null,181.51756667654601,null,181.51756667654601,null,181.51756667654601,null,182.01624131027299,null,181.51756667654601,null,181.51756667654601]
[null,{"$f":"IF(LEN('Détail des projets'!B66)=0,\"\",'Détail des projets'!B66)","v":"Rénovation et mise aux normes de l'aréna Roberto-Luongo"},{"$f":"IF(LEN('Détail des projets'!C66)=0,\"\",'Détail des projets'!C66)","v":"Ville de Montréal"},{"$f":"IF(LEN('Détail des projets'!G66)=0,\"\",'Détail des projets'!G66)","v":"06-Montréal"},{"$f":"IF(LEN('Détail des projets'!K66)=0,\"\",'Détail des projets'!K66)","v":159808.34},173.27021991999999,"À la fin du projet (suite au dernier versement)",87.868124949917373,"QC-Québec","Oui",15,121.24862502080001,null,"Non","Oui",0,null,0,null,26.171151302303802,null,120.58606422833699,null,120.58606422833699,null,120.58606422833699,null,120.917344624568,null,120.58606422833699,null,120.58606422833699]
[null,{"$f":"IF(LEN('Détail des projets'!B67)=0,\"\",'Détail des projets'!B67)","v":"No 360 - IGA Longueuil - Réfrigération CO2 avec récupération de chaleur"},{"$f":"IF(LEN('Détail des projets'!C67)=0,\"\",'Détail des projets'!C67)","v":"Sobeys Capital Incorporée"},{"$f":"IF(LEN('Détail des projets'!G67)=0,\"\",'Détail des projets'!G67)","v":"16-Montérégie"},{"$f":"IF(LEN('Détail des projets'!K67)=0,\"\",'Détail des projets'!K67)","v":0},159.45246771000001,"À la fin du projet (suite au dernier versement)",0,"QC-Québec","Oui",15,190.95546171999999,null,"Non","Oui",0,null,66.260501744371595,null,190.433725485792,null,189.911989251585,null,189.911989251585,null,189.911989251585,null,190.433725485792,null,189.911989251585,null,189.911989251585]
[null,{"$f":"IF(LEN('Détail des projets'!B68)=0,\"\",'Détail des projets'!B68)","v":"Projet d'efficacité énergétique - Pavillon des Sciences"},{"$f":"IF(LEN('Détail des projets'!C68)=0,\"\",'Détail des projets'!C68)","v":"Collège d'enseignement général et professionel de Trois-Rivières"},{"$f":"IF(LEN('Détail des projets'!G68)=0,\"\",'Détail des projets'!G68)","v":"04-Mauricie"},{"$f":"IF(LEN('Détail des projets'!K68)=0,\"\",'Détail des projets'!K68)","v":611075.68999999994},486.49220600000001,"À la fin du projet (suite au dernier versement)",40.519682610159258,"QC-Québec","Oui",29.894018173217798,504.48084139999997,null,"Non","Oui",0,null,164.02519160273201,null,503.10247844535502,null,501.72411549071001,null,501.72411549071001,null,501.72411549071001,null,503.10247844535502,null,501.72411549071001,null,501.72411549071001]
[null,{"$f":"IF(LEN('Détail des projets'!B69)=0,\"\",'Détail des projets'!B69)","v":"Réfrigération au CO2 avec récupération de chaleur- No 08033 IGA Sainte-Thérèse (Daigle)"},{"$f":"IF(LEN('Détail des projets'!C69)=0,\"\",'Détail des projets'!C69)","v":"Sobeys Capital Incorporée"},{"$f":"IF(LEN('Détail des projets'!G69)=0,\"\",'Détail des projets'!G69)","v":"15-Laurentides"},{"$f":"IF(LEN('Détail des projets'!K69)=0,\"\",'Détail des projets'!K69)","v":0},159.48364149,"À la fin du projet (suite au dernier versement)",0,"QC-Québec","Oui",15,262.61982543599999,null,"Non","Oui",0,null,28.701620266229501,null,261.90228492934398,null,261.18474442268899,null,261.18474442268899,null,261.18474442268899,null,261.90228492934398,null,261.18474442268899,null,261.18474442268899]
[null,{"$f":"IF(LEN('Détail des projets'!B70)=0,\"\",'Détail des projets'!B70)","v":"Analyse de mesures d'efficacité énergétique"},{"$f":"IF(LEN('Détail des projets'!C70)=0,\"\",'Détail des projets'!C70)","v":"Soltron Realty LP"},{"$f":"IF(LEN('Détail des projets'!G70)=0,\"\",'Détail des projets'!G70)","v":"06-Montréal"},{"$f":"IF(LEN('Détail des projets'!K70)=0,\"\",'Détail des projets'!K70)","v":19000},0,"À la fin du projet (suite au dernier versement)",0,"QC-Québec","Oui",30.822223663330099,0,null,"Non","Oui"]
[null,{"$f":"IF(LEN('Détail des projets'!B71)=0,\"\",'Détail des projets'!B71)","v":"Réfrigération au CO2 avec récupération de chaleur - No 8724 - IGA  Ayer's Cliff"},{"$f":"IF(LEN('Détail des projets'!C71)=0,\"\",'Détail des projets'!C71)","v":"Sobeys Capital Incorporée"},{"$f":"IF(LEN('Détail des projets'!G71)=0,\"\",'Détail des projets'!G71)","v":"05-Estrie"},{"$f":"IF(LEN('Détail des projets'!K71)=0,\"\",'Détail des projets'!K71)","v":0},0.57086747999999998,"À la fin du projet (suite au dernier versement)",0,"QC-Québec","Oui",15,0.65118228,null,"Non","Oui",0,null,3.9142104262295099E-2,null,0.64940309344262304,null,0.64762390688524596,null,0.64762390688524596,null,0.64762390688524596,null,0.64940309344262304,null,0.64762390688524596,null,0.64762390688524596]
[null,{"$f":"IF(LEN('Détail des projets'!B72)=0,\"\",'Détail des projets'!B72)","v":"Réfrigération CO2 avec récupération de chaleur - No 0444  IGA Saint-Romuald"},{"$f":"IF(LEN('Détail des projets'!C72)=0,\"\",'Détail des projets'!C72)","v":"Sobeys Capital Incorporée"},{"$f":"IF(LEN('Détail des projets'!G72)=0,\"\",'Détail des projets'!G72)","v":"12-Chaudière-Appalaches"},{"$f":"IF(LEN('Détail des projets'!K72)=0,\"\",'Détail des projets'!K72)","v":0},1.81292556,"À la fin du projet (suite au dernier versement)",0,"QC-Québec","Oui",15,2.2532779199999999,null,"Non","Oui",0,null,0.30782485245901597,null,2.2471214229508201,null,2.2409649259016402,null,1.09887321185439,null,0,null,0,null,0,null,0]
[null,{"$f":"IF(LEN('Détail des projets'!B73)=0,\"\",'Détail des projets'!B73)","v":"Réfrigération au CO2 avec récupération de chaleur"},{"$f":"IF(LEN('Détail des projets'!C73)=0,\"\",'Détail des projets'!C73)","v":"Sobeys Capital Incorporée"},{"$f":"IF(LEN('Détail des projets'!G73)=0,\"\",'Détail des projets'!G73)","v":"06-Montréal"},{"$f":"IF(LEN('Détail des projets'!K73)=0,\"\",'Détail des projets'!K73)","v":20677.763639299999},56.005868487999997,"À la fin du projet (suite au dernier versement)",37.879012042824741,"QC-Québec","Oui",15,36.392648635999997,null,"Non","Oui",0,null,0.69603426353005504,null,36.293215169781398,null,36.193781703562799,null,36.193781703562799,null,36.193781703562799,null,36.293215169781398,null,36.193781703562799,null,36.193781703562799]
[null,{"$f":"IF(LEN('Détail des projets'!B74)=0,\"\",'Détail des projets'!B74)","v":"Réfrigération CO2 avec récupération de chaleur - No 8187 -  IGA Sainte-Julie"},{"$f":"IF(LEN('Détail des projets'!C74)=0,\"\",'Détail des projets'!C74)","v":"Sobeys Capital Incorporée"},{"$f":"IF(LEN('Détail des projets'!G74)=0,\"\",'Détail des projets'!G74)","v":"16-Montérégie"},{"$f":"IF(LEN('Détail des projets'!K74)=0,\"\",'Détail des projets'!K74)","v":0},0.40413623999999998,"À la fin du projet (suite au dernier versement)",0,"QC-Québec","Oui",15,0.40413623999999998,null,"Non","Oui",0,null,6.6251842622950799E-3,null,0.403032042622951,null,0.40192784524590203,null,0.40192784524590203,null,0.40192784524590203,null,0.403032042622951,null,0.40192784524590203,null,0.40192784524590203]
[null,{"$f":"IF(LEN('Détail des projets'!B75)=0,\"\",'Détail des projets'!B75)","v":"Projet d'efficacité énergétique - Hôpital de Maniwaki"},{"$f":"IF(LEN('Détail des projets'!C75)=0,\"\",'Détail des projets'!C75)","v":"CSSS Vallée-de-la-Gatineau"},{"$f":"IF(LEN('Détail des projets'!G75)=0,\"\",'Détail des projets'!G75)","v":"07-Outaouais"},{"$f":"IF(LEN('Détail des projets'!K75)=0,\"\",'Détail des projets'!K75)","v":465421.59},372.33727391999997,"À la fin du projet (suite au dernier versement)",25.727904357317186,"QC-Québec","Oui",35,516.86136304000001,null,"Non","Oui",0,null,0,null,515.44917352349705,null,514.036984006995,null,514.036984006995,null,514.036984006995,null,515.44917352349705,null,514.036984006995,null,514.036984006995]
[null,{"$f":"IF(LEN('Détail des projets'!B76)=0,\"\",'Détail des projets'!B76)","v":"Réfrigération CO2 avec récupération de chaleur (89035)"},{"$f":"IF(LEN('Détail des projets'!C76)=0,\"\",'Détail des projets'!C76)","v":"Sobeys Capital Incorporée"},{"$f":"IF(LEN('Détail des projets'!G76)=0,\"\",'Détail des projets'!G76)","v":"08-Abitibi-Témiscamingue"},{"$f":"IF(LEN('Détail des projets'!K76)=0,\"\",'Détail des projets'!K76)","v":0},0,"À la fin du projet (suite au dernier versement)",0,"QC-Québec","Oui",15,0.92196372000000004,null,"Non","Oui",0,null,0.29472610721311499,null,0.91944469344262303,null,0.91692566688524602,null,0.91692566688524602,null,0.91692566688524602,null,0.91944469344262303,null,0.91692566688524602,null,0.91692566688524602]
[null,{"$f":"IF(LEN('Détail des projets'!B77)=0,\"\",'Détail des projets'!B77)","v":"Étude spécifique - Nouveau système de ventilation et de récupération d'énergie"},{"$f":"IF(LEN('Détail des projets'!C77)=0,\"\",'Détail des projets'!C77)","v":"Ville de Saint-Jean-sur-Richelieu"},{"$f":"IF(LEN('Détail des projets'!G77)=0,\"\",'Détail des projets'!G77)","v":"16-Montérégie"},{"$f":"IF(LEN('Détail des projets'!K77)=0,\"\",'Détail des projets'!K77)","v":7200},0,"À la fin du projet (suite au dernier versement)",0,"QC-Québec","Oui",20,31.039638279999998,null,"Non","Oui",null,null,null,null,null,null,null,null,20.898553696391598,null,30.870022770273199,null,30.9548305251366,null,30.870022770273199,null,30.870022770273199]
[null,{"$f":"IF(LEN('Détail des projets'!B78)=0,\"\",'Détail des projets'!B78)","v":"Analyse de mesures d'efficacité énergétique"},{"$f":"IF(LEN('Détail des projets'!C78)=0,\"\",'Détail des projets'!C78)","v":"Centre de services scolaire des Hautes-Rivières"},{"$f":"IF(LEN('Détail des projets'!G78)=0,\"\",'Détail des projets'!G78)","v":"16-Montérégie"},{"$f":"IF(LEN('Détail des projets'!K78)=0,\"\",'Détail des projets'!K78)","v":6600},0,"À la fin du projet (suite au dernier versement)",0,"QC-Québec","Oui",25,24.360230560000002,null,"Non","Oui",null,null,null,null,5.9902206295082001,null,24.227114546010899,null,24.227114546010899,null,24.227114546010899,null,24.2936725530055,null,24.227114546010899,null,24.227114546010899]
[null,{"$f":"IF(LEN('Détail des projets'!B79)=0,\"\",'Détail des projets'!B79)","v":"Projet d'efficacité énergétique de l'agrandissement de l'Hôpital du Haut-Richelieu–Rouville"},{"$f":"IF(LEN('Détail des projets'!C79)=0,\"\",'Détail des projets'!C79)","v":"Centre intégré de santé et de services sociaux de la Montérégie-Centre"},{"$f":"IF(LEN('Détail des projets'!G79)=0,\"\",'Détail des projets'!G79)","v":"16-Montérégie"},{"$f":"IF(LEN('Détail des projets'!K79)=0,\"\",'Détail des projets'!K79)","v":371038.83},743.21230895999997,"À la fin du projet (suite au dernier versement)",22.842936011980363,"QC-Québec","Oui",30,541.43482228000005,null,"Non","Oui",0,null,0,null,0,null,0,null,538.47616204896201,null,538.47616204896201,null,539.95549216448103,null,538.47616204896201,null,538.47616204896201]
[null,{"$f":"IF(LEN('Détail des projets'!B80)=0,\"\",'Détail des projets'!B80)","v":"Étude d'efficacité énergétique pour 17 bâtiments"},{"$f":"IF(LEN('Détail des projets'!C80)=0,\"\",'Détail des projets'!C80)","v":"Commission scolaire English-Montréal"},{"$f":"IF(LEN('Détail des projets'!G80)=0,\"\",'Détail des projets'!G80)","v":"06-Montréal"},{"$f":"IF(LEN('Détail des projets'!K80)=0,\"\",'Détail des projets'!K80)","v":149396.5},0,"À la fin du projet (suite au dernier versement)",0,"QC-Québec","Oui",38.450714111328097,0,null,"Non","Oui"]
[null,{"$f":"IF(LEN('Détail des projets'!B81)=0,\"\",'Détail des projets'!B81)","v":"Projet d'efficacité énergétique au nouvel hôtel Holiday Inn à Vaudreuil"},{"$f":"IF(LEN('Détail des projets'!C81)=0,\"\",'Détail des projets'!C81)","v":"Les Constructions Robin inc."},{"$f":"IF(LEN('Détail des projets'!G81)=0,\"\",'Détail des projets'!G81)","v":"16-Montérégie"},{"$f":"IF(LEN('Détail des projets'!K81)=0,\"\",'Détail des projets'!K81)","v":33523.230000000003},78.8570646735553,"À la fin du projet (suite au dernier versement)",26.051943773729054,"QC-Québec","Oui",19.783351898193398,53.416397371791099,11.627394040657199,"Non","Oui",0,null,0,null,45.850541487463602,null,64.688360858281996,null,64.688360858281996,null,64.688360858281996,null,64.866076135365105,null,64.688360858281996,null,64.688360858281996]
[null,{"$f":"IF(LEN('Détail des projets'!B82)=0,\"\",'Détail des projets'!B82)","v":"Récupération de chaleur de la buanderie et installation d'un mur solaire"},{"$f":"IF(LEN('Détail des projets'!C82)=0,\"\",'Détail des projets'!C82)","v":"Concept Éco-Plein-Air Le Baluchon inc."},{"$f":"IF(LEN('Détail des projets'!G82)=0,\"\",'Détail des projets'!G82)","v":"04-Mauricie"},{"$f":"IF(LEN('Détail des projets'!K82)=0,\"\",'Détail des projets'!K82)","v":18508.377087199999},51.675600496000001,"À la fin du projet (suite au dernier versement)",20.2908275187099,"QC-Québec","Oui",20,45.607743376000002,null,"Non","Oui",0,null,0,null,0,null,0,null,5.85673207287432,null,45.3585207346011,null,45.483132055300501,null,45.3585207346011,null,45.3585207346011]
[null,{"$f":"IF(LEN('Détail des projets'!B83)=0,\"\",'Détail des projets'!B83)","v":"Récupération de chaleur sur système réfrigération et efficacité énergétique"},{"$f":"IF(LEN('Détail des projets'!C83)=0,\"\",'Détail des projets'!C83)","v":"Ville de Montréal"},{"$f":"IF(LEN('Détail des projets'!G83)=0,\"\",'Détail des projets'!G83)","v":"06-Montréal"},{"$f":"IF(LEN('Détail des projets'!K83)=0,\"\",'Détail des projets'!K83)","v":140141.29999999999},148.4501984,"À la fin du projet (suite au dernier versement)",43.225906676055075,"QC-Québec","Oui",21.839149475097699,148.45208772000001,null,"Non","Oui",0,null,0,null,0.40560679704918001,null,147.640874125902,null,147.640874125902,null,147.640874125902,null,148.04648092295099,null,147.640874125902,null,147.640874125902]
[null,{"$f":"IF(LEN('Détail des projets'!B84)=0,\"\",'Détail des projets'!B84)","v":"Étude de faisabilité - Efficacité énergétique dans une buanderie industrielle"},{"$f":"IF(LEN('Détail des projets'!C84)=0,\"\",'Détail des projets'!C84)","v":"Buanderie Laser inc."},{"$f":"IF(LEN('Détail des projets'!G84)=0,\"\",'Détail des projets'!G84)","v":"06-Montréal"},{"$f":"IF(LEN('Détail des projets'!K84)=0,\"\",'Détail des projets'!K84)","v":7500},0,"À la fin du projet (suite au dernier versement)",0,"QC-Québec","Oui",0,0,null,"Non","Oui"]
[null,{"$f":"IF(LEN('Détail des projets'!B85)=0,\"\",'Détail des projets'!B85)","v":"Optimisation de la chaufferie du bâtiment Gregor House"},{"$f":"IF(LEN('Détail des projets'!C85)=0,\"\",'Détail des projets'!C85)","v":"Groupe Accueil International ltée"},{"$f":"IF(LEN('Détail des projets'!G85)=0,\"\",'Détail des projets'!G85)","v":"06-Montréal"},{"$f":"IF(LEN('Détail des projets'!K85)=0,\"\",'Détail des projets'!K85)","v":144315.71},115.45256655999999,"À la fin du projet (suite au dernier versement)",34.932830710672256,"QC-Québec","Oui",35,118.035267,null,"Non","Oui",0,null,48.3751094262295,null,117.712766270492,null,117.390265540984,null,117.390265540984,null,117.390265540984,null,117.712766270492,null,117.390265540984,null,117.390265540984]
[null,{"$f":"IF(LEN('Détail des projets'!B86)=0,\"\",'Détail des projets'!B86)","v":"Remplacement des chaudières au mazout léger par des systèmes électriques zonés"},{"$f":"IF(LEN('Détail des projets'!C86)=0,\"\",'Détail des projets'!C86)","v":"La fabrique de la paroisse de Saint-Charles-de-Grondines"},{"$f":"IF(LEN('Détail des projets'!G86)=0,\"\",'Détail des projets'!G86)","v":"03-Capitale-Nationale"},{"$f":"IF(LEN('Détail des projets'!K86)=0,\"\",'Détail des projets'!K86)","v":59713.2},47.770563807999999,"À la fin du projet (suite au dernier versement)",31.249997508926199,"QC-Québec","Oui",40,0,47.770563807999999,"Non","Oui",0,null,19.708620587453598,null,47.640043141857902,null,47.509522475715798,null,47.509522475715798,null,47.509522475715798,null,47.640043141857902,null,47.509522475715798,null,47.509522475715798]
[null,{"$f":"IF(LEN('Détail des projets'!B87)=0,\"\",'Détail des projets'!B87)","v":"Gestion efficace de l'ensemble de la consommation d’énergie et de l’appel de puissance électrique"},{"$f":"IF(LEN('Détail des projets'!C87)=0,\"\",'Détail des projets'!C87)","v":"Le Syndicat des copropriétaires du Laurier de l'Île Paton"},{"$f":"IF(LEN('Détail des projets'!G87)=0,\"\",'Détail des projets'!G87)","v":"13-Laval"},{"$f":"IF(LEN('Détail des projets'!K87)=0,\"\",'Détail des projets'!K87)","v":86022.58},73.104810831999998,"À la fin du projet (suite au dernier versement)",47.068081578207455,"QC-Québec","Oui",25,0,73.104810831999998,"Non","Oui",0,null,39.947984061202199,null,72.905070911693997,null,72.705330991387996,null,72.705330991387996,null,72.705330991387996,null,72.905070911693997,null,72.705330991387996,null,72.705330991387996]
[null,{"$f":"IF(LEN('Détail des projets'!B88)=0,\"\",'Détail des projets'!B88)","v":"Réfrigération à l'ammoniac avec récupération de chaleur"},{"$f":"IF(LEN('Détail des projets'!C88)=0,\"\",'Détail des projets'!C88)","v":"Complexe sportif scientifique et éducatif Montcalm inc."},{"$f":"IF(LEN('Détail des projets'!G88)=0,\"\",'Détail des projets'!G88)","v":"14-Lanaudière"},{"$f":"IF(LEN('Détail des projets'!K88)=0,\"\",'Détail des projets'!K88)","v":284234.28000000003},281.46056353120002,"À la fin du projet (suite au dernier versement)",42.14293761876263,"QC-Québec","Oui",25,237.46772630999999,32.313448008000002,"Non","Oui",0,null,0,null,22.113211009672099,null,268.30696025068801,null,268.30696025068801,null,268.30696025068801,null,269.04406728434401,null,268.30696025068801,null,268.30696025068801]
[null,{"$f":"IF(LEN('Détail des projets'!B89)=0,\"\",'Détail des projets'!B89)","v":"Réfrigération CO2 avec récupération de chaleur - Phase 1"},{"$f":"IF(LEN('Détail des projets'!C89)=0,\"\",'Détail des projets'!C89)","v":"SportPlex de l'Énergie inc."},{"$f":"IF(LEN('Détail des projets'!G89)=0,\"\",'Détail des projets'!G89)","v":"16-Montérégie"},{"$f":"IF(LEN('Détail des projets'!K89)=0,\"\",'Détail des projets'!K89)","v":305657.95331920002},329.98809257599999,"À la fin du projet (suite au dernier versement)",37.050785794496939,"QC-Québec","Oui",25,296.40417977599998,33.5839128,"Non","Oui",0,null,0,null,27.048204309508201,null,328.184878955366,null,328.184878955366,null,328.184878955366,null,329.08648576568299,null,328.184878955366,null,328.184878955366]
[null,{"$f":"IF(LEN('Détail des projets'!B90)=0,\"\",'Détail des projets'!B90)","v":"Projet hydroélectrique de 400 kW sur la rivière Brooch"},{"$f":"IF(LEN('Détail des projets'!C90)=0,\"\",'Détail des projets'!C90)","v":"Rébec inc."},{"$f":"IF(LEN('Détail des projets'!G90)=0,\"\",'Détail des projets'!G90)","v":"09-Côte-Nord"},{"$f":"IF(LEN('Détail des projets'!K90)=0,\"\",'Détail des projets'!K90)","v":1316860.1669999999},238.765144128,"À la fin du projet (suite au dernier versement)",39.397210310719927,"QC-Québec","Oui",30,0,1114.1737842299999,"Non","Oui",0,null,0,null,0,null,0,null,0,null,0,null,0,null,508.37984143827902,null,1108.08540289541]
[null,{"$f":"IF(LEN('Détail des projets'!B91)=0,\"\",'Détail des projets'!B91)","v":"D654J – Projet en efficacité énergétique au Centre d'hébergement de Sainte-Claire"},{"$f":"IF(LEN('Détail des projets'!C91)=0,\"\",'Détail des projets'!C91)","v":"Centre intégré de santé et de services sociaux de Chaudière-Appalaches"},{"$f":"IF(LEN('Détail des projets'!G91)=0,\"\",'Détail des projets'!G91)","v":"12-Chaudière-Appalaches"},{"$f":"IF(LEN('Détail des projets'!K91)=0,\"\",'Détail des projets'!K91)","v":46321.47},38.976156039999999,"À la fin du projet (suite au dernier versement)",47.538264114564541,"QC-Québec","Oui",25,0,38.976156039999999,"Non","Oui",0,null,0,null,6.2830415474316901,null,38.763171580764997,null,38.763171580764997,null,38.763171580764997,null,38.869663810382498,null,38.763171580764997,null,38.763171580764997]
[null,{"$f":"IF(LEN('Détail des projets'!B92)=0,\"\",'Détail des projets'!B92)","v":"Réfrigération CO2 avec récupération de chaleur - #8240 - IGA Marché St-Canut"},{"$f":"IF(LEN('Détail des projets'!C92)=0,\"\",'Détail des projets'!C92)","v":"Marché St-Canut inc."},{"$f":"IF(LEN('Détail des projets'!G92)=0,\"\",'Détail des projets'!G92)","v":"15-Laurentides"},{"$f":"IF(LEN('Détail des projets'!K92)=0,\"\",'Détail des projets'!K92)","v":0},159.45482935999999,"À la fin du projet (suite au dernier versement)",0,"QC-Québec","Oui",15.7395420074463,159.45482935999999,null,"Non","Oui",0,null,0,null,152.91979536983601,null,158.58349149464499,null,158.58349149464499,null,158.58349149464499,null,159.01916042732199,null,158.58349149464499,null,158.58349149464499]
[null,{"$f":"IF(LEN('Détail des projets'!B93)=0,\"\",'Détail des projets'!B93)","v":"Projet d'efficacité énergétique - Centre d'hébergement des Quatre-Temps"},{"$f":"IF(LEN('Détail des projets'!C93)=0,\"\",'Détail des projets'!C93)","v":"Centre intégré universitaire de santé et services sociaux de l'Est-de-l'iÎe-de-Montréal (CIUSSS de l'Est-de-l'Île-de-Montréal )"},{"$f":"IF(LEN('Détail des projets'!G93)=0,\"\",'Détail des projets'!G93)","v":"06-Montréal"},{"$f":"IF(LEN('Détail des projets'!K93)=0,\"\",'Détail des projets'!K93)","v":79372.69},63.498155879999999,"À la fin du projet (suite au dernier versement)",41.666664120660968,"QC-Québec","Oui",30,63.498155879999999,null,"Non","Oui",0,null,0,null,0,null,37.9947981904918,null,63.151171421639297,null,63.151171421639297,null,63.324663650819701,null,63.151171421639297,null,63.151171421639297]
[null,{"$f":"IF(LEN('Détail des projets'!B94)=0,\"\",'Détail des projets'!B94)","v":"Habitation 340 Plamondon - Projet d'efficacité énergétique"},{"$f":"IF(LEN('Détail des projets'!C94)=0,\"\",'Détail des projets'!C94)","v":"Office municipal d'habitation de Montréal"},{"$f":"IF(LEN('Détail des projets'!G94)=0,\"\",'Détail des projets'!G94)","v":"06-Montréal"},{"$f":"IF(LEN('Détail des projets'!K94)=0,\"\",'Détail des projets'!K94)","v":232561.02},198.79251084000001,"À la fin du projet (suite au dernier versement)",48.301439736513537,"QC-Québec","Oui",24.220149993896499,138.68975080000001,60.10276004,"Non","Oui",0,null,0,null,0,null,0,null,76.5840000777049,null,197.70621296655699,null,198.24936190327901,null,197.70621296655699,null,197.70621296655699]
[null,{"$f":"IF(LEN('Détail des projets'!B95)=0,\"\",'Détail des projets'!B95)","v":"Habitation 533 André-Grasset - Projet d'efficacité énergétique"},{"$f":"IF(LEN('Détail des projets'!C95)=0,\"\",'Détail des projets'!C95)","v":"Office municipal d'habitation de Montréal"},{"$f":"IF(LEN('Détail des projets'!G95)=0,\"\",'Détail des projets'!G95)","v":"06-Montréal"},{"$f":"IF(LEN('Détail des projets'!K95)=0,\"\",'Détail des projets'!K95)","v":269302.03999999998},215.73171991999999,"À la fin du projet (suite au dernier versement)",54.661469613559589,"QC-Québec","Oui",22.6524963378906,136.27746576000001,81.214025239999998,"Non","Oui",0,null,0,null,0,null,198.47584151366101,null,216.30301290710401,null,216.30301290710401,null,216.897251953552,null,216.30301290710401,null,216.30301290710401]
[null,{"$f":"IF(LEN('Détail des projets'!B96)=0,\"\",'Détail des projets'!B96)","v":"Étude d'efficacité énergétique visant la récupération de chaleur des refroidisseurs et la géothermie"},{"$f":"IF(LEN('Détail des projets'!C96)=0,\"\",'Détail des projets'!C96)","v":"Aéroport de Québec inc."},{"$f":"IF(LEN('Détail des projets'!G96)=0,\"\",'Détail des projets'!G96)","v":"03-Capitale-Nationale"},{"$f":"IF(LEN('Détail des projets'!K96)=0,\"\",'Détail des projets'!K96)","v":12463.5},0,"À la fin du projet (suite au dernier versement)",0,"QC-Québec","Oui",25,0,null,"Non","Oui"]
[null,{"$f":"IF(LEN('Détail des projets'!B97)=0,\"\",'Détail des projets'!B97)","v":"Réfrigération au CO2 avec récupération de chaleur"},{"$f":"IF(LEN('Détail des projets'!C97)=0,\"\",'Détail des projets'!C97)","v":"Métro Richelieu inc."},{"$f":"IF(LEN('Détail des projets'!G97)=0,\"\",'Détail des projets'!G97)","v":"16-Montérégie"},{"$f":"IF(LEN('Détail des projets'!K97)=0,\"\",'Détail des projets'!K97)","v":22694.2284564},101.847384308,"À la fin du projet (suite au dernier versement)",17.816317006877419,"QC-Québec","Oui",15,84.919266039999997,null,"Non","Oui",0,null,0,null,0,null,66.821717539672093,null,84.455226334863397,null,84.455226334863397,null,84.687246187431697,null,84.455226334863397,null,84.455226334863397]
[null,{"$f":"IF(LEN('Détail des projets'!B98)=0,\"\",'Détail des projets'!B98)","v":"D654O - Hôtel-Dieu de Lévis - Projet d'efficacité énergétique"},{"$f":"IF(LEN('Détail des projets'!C98)=0,\"\",'Détail des projets'!C98)","v":"Centre intégré de santé et de services sociaux de Chaudière-Appalaches"},{"$f":"IF(LEN('Détail des projets'!G98)=0,\"\",'Détail des projets'!G98)","v":"12-Chaudière-Appalaches"},{"$f":"IF(LEN('Détail des projets'!K98)=0,\"\",'Détail des projets'!K98)","v":1418066.2},2911.1854352800001,"À la fin du projet (suite au dernier versement)",11.592268042491682,"QC-Québec","Oui",42.020210266113303,417.58267916,2493.6027561199999,"Non","Oui",0,null,0,null,0,null,1447.6386590736599,null,2895.2773181473199,null,2895.2773181473199,null,2903.2313767136602,null,2895.2773181473199,null,2895.2773181473199]
[null,{"$f":"IF(LEN('Détail des projets'!B99)=0,\"\",'Détail des projets'!B99)","v":"Projet efficacité énergétique - D635A - Hôpital Anna-Laberge"},{"$f":"IF(LEN('Détail des projets'!C99)=0,\"\",'Détail des projets'!C99)","v":"Centre intégré de santé et de services sociaux (CISSS) de la Montérégie-Ouest"},{"$f":"IF(LEN('Détail des projets'!G99)=0,\"\",'Détail des projets'!G99)","v":"16-Montérégie"},{"$f":"IF(LEN('Détail des projets'!K99)=0,\"\",'Détail des projets'!K99)","v":677420.07000000007},1385.6321368399999,"À la fin du projet (suite au dernier versement)",12.650144590986686,"QC-Québec","Oui",38.646896362304702,282.04509724000002,1103.5870396,"Non","Oui",0,null,0,null,0,null,620.88434546929,null,1378.0603765293999,null,1378.0603765293999,null,1381.8462566846999,null,1378.0603765293999,null,1378.0603765293999]
[null,{"$f":"IF(LEN('Détail des projets'!B100)=0,\"\",'Détail des projets'!B100)","v":"UQAC - Récupération des hottes des laboratoires"},{"$f":"IF(LEN('Détail des projets'!C100)=0,\"\",'Détail des projets'!C100)","v":"Université du Québec à Chicoutimi"},{"$f":"IF(LEN('Détail des projets'!G100)=0,\"\",'Détail des projets'!G100)","v":"02-Saguenay--Lac-Saint-Jean"},{"$f":"IF(LEN('Détail des projets'!K100)=0,\"\",'Détail des projets'!K100)","v":85171.94},68.137552159999998,"À la fin du projet (suite au dernier versement)",62.499999853238059,"QC-Québec","Oui",20,68.137552159999998,null,"Non","Oui",0,null,19.361490231256798,null,67.951383984699405,null,67.765215809398896,null,67.765215809398896,null,67.765215809398896,null,67.951383984699405,null,67.765215809398896,null,67.765215809398896]
[null,{"$f":"IF(LEN('Détail des projets'!B101)=0,\"\",'Détail des projets'!B101)","v":"Université du Québec à Chicoutimi – Installation de nouvelles chaudières au gaz naturel au Pavillon principal"},{"$f":"IF(LEN('Détail des projets'!C101)=0,\"\",'Détail des projets'!C101)","v":"Université du Québec à Chicoutimi"},{"$f":"IF(LEN('Détail des projets'!G101)=0,\"\",'Détail des projets'!G101)","v":"02-Saguenay--Lac-Saint-Jean"},{"$f":"IF(LEN('Détail des projets'!K101)=0,\"\",'Détail des projets'!K101)","v":169462.17},135.56973719999999,"À la fin du projet (suite au dernier versement)",62.499999446779199,"QC-Québec","Oui",20,135.56973719999999,null,"Non","Oui",0,null,0,null,0,null,0.74081823606557395,null,134.828918963934,null,134.828918963934,null,135.199328081967,null,134.828918963934,null,134.828918963934]
[null,{"$f":"IF(LEN('Détail des projets'!B102)=0,\"\",'Détail des projets'!B102)","v":"D654A – Projet en efficacité énergétique au Centre d'hébergement de soins de longue durée Saint-Sylvestre"},{"$f":"IF(LEN('Détail des projets'!C102)=0,\"\",'Détail des projets'!C102)","v":"Centre intégré de santé et de services sociaux de Chaudière-Appalaches"},{"$f":"IF(LEN('Détail des projets'!G102)=0,\"\",'Détail des projets'!G102)","v":"12-Chaudière-Appalaches"},{"$f":"IF(LEN('Détail des projets'!K102)=0,\"\",'Détail des projets'!K102)","v":13926.87},43.656250407999998,"À la fin du projet (suite au dernier versement)",9.1967731553194501,"QC-Québec","Oui",34.687389373779297,4.7753089600000003,38.880941448000002,"Non","Oui",0,null,0,null,3.8169399263825099,null,43.417691662601101,null,43.417691662601101,null,43.417691662601101,null,43.536971035300503,null,43.417691662601101,null,43.417691662601101]
[null,{"$f":"IF(LEN('Détail des projets'!B103)=0,\"\",'Détail des projets'!B103)","v":"Projet efficacité énergétique - D635D - Centre d'hébergement de Saint-Rémi"},{"$f":"IF(LEN('Détail des projets'!C103)=0,\"\",'Détail des projets'!C103)","v":"Centre intégré de santé et de services sociaux (CISSS) de la Montérégie-Ouest"},{"$f":"IF(LEN('Détail des projets'!G103)=0,\"\",'Détail des projets'!G103)","v":"16-Montérégie"},{"$f":"IF(LEN('Détail des projets'!K103)=0,\"\",'Détail des projets'!K103)","v":14107.42},11.285932239999999,"À la fin du projet (suite au dernier versement)",32.422689816762919,"QC-Québec","Oui",38.553260803222699,11.285932239999999,null,"Non","Oui",0,null,0,null,2.2201833914754099,null,11.2242604791257,null,11.2242604791257,null,11.2242604791257,null,11.255096359562801,null,11.2242604791257,null,11.2242604791257]
[null,{"$f":"IF(LEN('Détail des projets'!B104)=0,\"\",'Détail des projets'!B104)","v":"Projet efficacité énergétique - D635B - Centre d’hébergement de Châteauguay"},{"$f":"IF(LEN('Détail des projets'!C104)=0,\"\",'Détail des projets'!C104)","v":"Centre intégré de santé et de services sociaux (CISSS) de la Montérégie-Ouest"},{"$f":"IF(LEN('Détail des projets'!G104)=0,\"\",'Détail des projets'!G104)","v":"16-Montérégie"},{"$f":"IF(LEN('Détail des projets'!K104)=0,\"\",'Détail des projets'!K104)","v":342834.39},276.94942503999999,"À la fin du projet (suite au dernier versement)",48.74032183462419,"QC-Québec","Oui",25.3977661132813,276.94942503999999,null,"Non","Oui",0,null,0,null,0,null,260.302191840874,null,275.436040203716,null,275.436040203716,null,276.192732621858,null,275.436040203716,null,275.436040203716]
[null,{"$f":"IF(LEN('Détail des projets'!B105)=0,\"\",'Détail des projets'!B105)","v":"Projet efficacité énergétique - D635C - Centre d’hébergement de La Prairie"},{"$f":"IF(LEN('Détail des projets'!C105)=0,\"\",'Détail des projets'!C105)","v":"Centre intégré de santé et de services sociaux (CISSS) de la Montérégie-Ouest"},{"$f":"IF(LEN('Détail des projets'!G105)=0,\"\",'Détail des projets'!G105)","v":"16-Montérégie"},{"$f":"IF(LEN('Détail des projets'!K105)=0,\"\",'Détail des projets'!K105)","v":107558.68},86.918395599999997,"À la fin du projet (suite au dernier versement)",27.359237693914498,"QC-Québec","Oui",45.230331420898402,86.918395599999997,null,"Non","Oui",0,null,0,null,17.098700773770499,null,86.443431689617498,null,86.443431689617498,null,86.443431689617498,null,86.680913644808697,null,86.443431689617498,null,86.443431689617498]
[null,{"$f":"IF(LEN('Détail des projets'!B106)=0,\"\",'Détail des projets'!B106)","v":"Intégration d'un système de gestion énergétique à l'égard d'une conversion partielle de source d'énergie"},{"$f":"IF(LEN('Détail des projets'!C106)=0,\"\",'Détail des projets'!C106)","v":"Syndicat de la copropriété Club Marin III"},{"$f":"IF(LEN('Détail des projets'!G106)=0,\"\",'Détail des projets'!G106)","v":"06-Montréal"},{"$f":"IF(LEN('Détail des projets'!K106)=0,\"\",'Détail des projets'!K106)","v":95627.14},128.622529208,"À la fin du projet (suite au dernier versement)",49.564743485623737,"QC-Québec","Oui",15,128.622529208,null,"Non","Oui",0,null,47.794163858710398,null,128.271101532568,null,127.919673857137,null,127.919673857137,null,127.919673857137,null,128.271101532568,null,127.919673857137,null,127.919673857137]
[null,{"$f":"IF(LEN('Détail des projets'!B107)=0,\"\",'Détail des projets'!B107)","v":"Modernisation énergétique - 9600 Meilleur"},{"$f":"IF(LEN('Détail des projets'!C107)=0,\"\",'Détail des projets'!C107)","v":"4196236 Canada inc."},{"$f":"IF(LEN('Détail des projets'!G107)=0,\"\",'Détail des projets'!G107)","v":"06-Montréal"},{"$f":"IF(LEN('Détail des projets'!K107)=0,\"\",'Détail des projets'!K107)","v":10000},0,"À la fin du projet (suite au dernier versement)",0,"QC-Québec","Oui",23.089189529418899,0,null,"Non","Oui"]
[null,{"$f":"IF(LEN('Détail des projets'!B108)=0,\"\",'Détail des projets'!B108)","v":"Modernisation énergétique au 6300, avenue du Parc"},{"$f":"IF(LEN('Détail des projets'!C108)=0,\"\",'Détail des projets'!C108)","v":"6300 avenue du Parc inc."},{"$f":"IF(LEN('Détail des projets'!G108)=0,\"\",'Détail des projets'!G108)","v":"06-Montréal"},{"$f":"IF(LEN('Détail des projets'!K108)=0,\"\",'Détail des projets'!K108)","v":6000},0,"À la fin du projet (suite au dernier versement)",0,"QC-Québec","Oui",24.962724685668899,0,null,"Non","Oui"]
[null,{"$f":"IF(LEN('Détail des projets'!B109)=0,\"\",'Détail des projets'!B109)","v":"Centre jeunesse de Montréal édifice DSM - Projet d'économie d'énergie"},{"$f":"IF(LEN('Détail des projets'!C109)=0,\"\",'Détail des projets'!C109)","v":"Centre intégré universitaire de santé et de services sociaux du Centre-Sud-de-l’Île-de-Montréal"},{"$f":"IF(LEN('Détail des projets'!G109)=0,\"\",'Détail des projets'!G109)","v":"06-Montréal"},{"$f":"IF(LEN('Détail des projets'!K109)=0,\"\",'Détail des projets'!K109)","v":63164.54},60.132823440000003,"À la fin du projet (suite au dernier versement)",57.426251804494505,"QC-Québec","Oui",18.291582107543899,50.292779240000002,9.8400441999999995,"Non","Oui",0,null,0,null,0,null,51.753659518032798,null,59.804228776393401,null,59.804228776393401,null,59.968526108196698,null,59.804228776393401,null,59.804228776393401]
[null,{"$f":"IF(LEN('Détail des projets'!B110)=0,\"\",'Détail des projets'!B110)","v":"Centre jeunesse de Montréal siège social - Projet d'économie d'énergie"},{"$f":"IF(LEN('Détail des projets'!C110)=0,\"\",'Détail des projets'!C110)","v":"Centre intégré universitaire de santé et de services sociaux du Centre-Sud-de-l’Île-de-Montréal"},{"$f":"IF(LEN('Détail des projets'!G110)=0,\"\",'Détail des projets'!G110)","v":"06-Montréal"},{"$f":"IF(LEN('Détail des projets'!K110)=0,\"\",'Détail des projets'!K110)","v":60870.47},49.51067252,"À la fin du projet (suite au dernier versement)",61.725871848257192,"QC-Québec","Oui",19.9177646636963,49.51067252,null,"Non","Oui",0,null,0,null,0,null,42.611644381967203,null,49.240122396939903,null,49.240122396939903,null,49.375397458469898,null,49.240122396939903,null,49.240122396939903]
[null,{"$f":"IF(LEN('Détail des projets'!B111)=0,\"\",'Détail des projets'!B111)","v":"Centre jeunesse de Montréal Cité des Prairies - Projet d'économie d'énergie"},{"$f":"IF(LEN('Détail des projets'!C111)=0,\"\",'Détail des projets'!C111)","v":"Centre intégré universitaire de santé et de services sociaux du Centre-Sud-de-l’Île-de-Montréal"},{"$f":"IF(LEN('Détail des projets'!G111)=0,\"\",'Détail des projets'!G111)","v":"06-Montréal"},{"$f":"IF(LEN('Détail des projets'!K111)=0,\"\",'Détail des projets'!K111)","v":44807.07},36.933577759999999,"À la fin du projet (suite au dernier versement)",48.220070362812535,"QC-Québec","Oui",21.107427597045898,44.023381440000001,null,"Non","Oui",0,null,0,null,0,null,37.888975829508198,null,43.7828165140984,null,43.7828165140984,null,43.903098977049197,null,43.7828165140984,null,43.7828165140984]
[null,{"$f":"IF(LEN('Détail des projets'!B112)=0,\"\",'Détail des projets'!B112)","v":"Centre jeunesse de Montréal édifice Rose-Virginie Pelletier - Projet d'économie d'énergie"},{"$f":"IF(LEN('Détail des projets'!C112)=0,\"\",'Détail des projets'!C112)","v":"Centre intégré universitaire de santé et de services sociaux du Centre-Sud-de-l’Île-de-Montréal"},{"$f":"IF(LEN('Détail des projets'!G112)=0,\"\",'Détail des projets'!G112)","v":"06-Montréal"},{"$f":"IF(LEN('Détail des projets'!K112)=0,\"\",'Détail des projets'!K112)","v":58205.68},48.962089400000004,"À la fin du projet (suite au dernier versement)",42.445866422273475,"QC-Québec","Oui",28.0072212219238,48.962089400000004,null,"Non","Oui",0,null,0,null,0,null,42.1395031721311,null,48.694536998907097,null,48.694536998907097,null,48.828313199453603,null,48.694536998907097,null,48.694536998907097]
[null,{"$f":"IF(LEN('Détail des projets'!B113)=0,\"\",'Détail des projets'!B113)","v":"Centre jeunesse de Montréal édifice Décarie - Projet d'économie d'énergie"},{"$f":"IF(LEN('Détail des projets'!C113)=0,\"\",'Détail des projets'!C113)","v":"Centre intégré universitaire de santé et de services sociaux du Centre-Sud-de-l’Île-de-Montréal"},{"$f":"IF(LEN('Détail des projets'!G113)=0,\"\",'Détail des projets'!G113)","v":"06-Montréal"},{"$f":"IF(LEN('Détail des projets'!K113)=0,\"\",'Détail des projets'!K113)","v":48914.81},52.1065532,"À la fin du projet (suite au dernier versement)",34.123843607091004,"QC-Québec","Oui",27.509967803955099,52.1065532,null,"Non","Oui",0,null,0,null,0,null,44.845803983606601,null,51.821817936612,null,51.821817936612,null,51.964185568306,null,51.821817936612,null,51.821817936612]
[null,{"$f":"IF(LEN('Détail des projets'!B114)=0,\"\",'Détail des projets'!B114)","v":"Centre jeunesse de Montréal Mont Saint-Antoine - Projet d'économie d'énergie"},{"$f":"IF(LEN('Détail des projets'!C114)=0,\"\",'Détail des projets'!C114)","v":"Centre intégré universitaire de santé et de services sociaux du Centre-Sud-de-l’Île-de-Montréal"},{"$f":"IF(LEN('Détail des projets'!G114)=0,\"\",'Détail des projets'!G114)","v":"06-Montréal"},{"$f":"IF(LEN('Détail des projets'!K114)=0,\"\",'Détail des projets'!K114)","v":94353.18},258.04268575999998,"À la fin du projet (suite au dernier versement)",14.276377084932605,"QC-Québec","Oui",25.612205505371101,82.816885479999996,175.22580027999999,"Non","Oui",0,null,0,null,0,null,222.08591807213099,null,256.63261643890701,null,256.63261643890701,null,257.33765109945398,null,256.63261643890701,null,256.63261643890701]
[null,{"$f":"IF(LEN('Détail des projets'!B115)=0,\"\",'Détail des projets'!B115)","v":"Optimisation du système de réfrigération de l'aréna"},{"$f":"IF(LEN('Détail des projets'!C115)=0,\"\",'Détail des projets'!C115)","v":"Ville de Chambly"},{"$f":"IF(LEN('Détail des projets'!G115)=0,\"\",'Détail des projets'!G115)","v":"16-Montérégie"},{"$f":"IF(LEN('Détail des projets'!K115)=0,\"\",'Détail des projets'!K115)","v":63353.464600500003},108.305269,"À la fin du projet (suite au dernier versement)",25.357980747559729,"QC-Québec","Oui",26.4869594573975,94.324301000000006,null,"Non","Oui",0,null,0,null,0,null,0,null,0,null,0,null,40.9769504344262,null,93.8088676612022,null,93.8088676612022]
[null,{"$f":"IF(LEN('Détail des projets'!B116)=0,\"\",'Détail des projets'!B116)","v":"Remplacement des chaudières au mazout léger par des systèmes électriques zonés"},{"$f":"IF(LEN('Détail des projets'!C116)=0,\"\",'Détail des projets'!C116)","v":"La Fabrique de la paroisse de Saint-Eustache"},{"$f":"IF(LEN('Détail des projets'!G116)=0,\"\",'Détail des projets'!G116)","v":"15-Laurentides"},{"$f":"IF(LEN('Détail des projets'!K116)=0,\"\",'Détail des projets'!K116)","v":126341.25},134.11415159200001,"À la fin du projet (suite au dernier versement)",23.557061236326742,"QC-Québec","Oui",40,0,134.08002035199999,"Non","Oui",0,null,0,null,0,null,66.307332469158496,null,133.34734264515799,null,133.34734264515799,null,133.71368149857901,null,133.34734264515799,null,133.34734264515799]
[null,{"$f":"IF(LEN('Détail des projets'!B117)=0,\"\",'Détail des projets'!B117)","v":"Remplacement des chaudières au mazout léger par des systèmes électriques zonés"},{"$f":"IF(LEN('Détail des projets'!C117)=0,\"\",'Détail des projets'!C117)","v":"La Fabrique de la paroisse de Saint-André de La Sarre"},{"$f":"IF(LEN('Détail des projets'!G117)=0,\"\",'Détail des projets'!G117)","v":"08-Abitibi-Témiscamingue"},{"$f":"IF(LEN('Détail des projets'!K117)=0,\"\",'Détail des projets'!K117)","v":122475},119.93000700848,"À la fin du projet (suite au dernier versement)",25.485891347854302,"QC-Québec","Oui",40,0,120.14000052848,"Non","Oui",0,null,0,null,0,null,60.070000264240001,null,119.483497793352,null,119.483497793352,null,119.81174916091599,null,119.483497793352,null,119.483497793352]
[null,{"$f":"IF(LEN('Détail des projets'!B118)=0,\"\",'Détail des projets'!B118)","v":"Analyse pour l'ajout de chauffage et de climatisation pour l'ensemble du pavillon sportif du collège de Maisonneuve"},{"$f":"IF(LEN('Détail des projets'!C118)=0,\"\",'Détail des projets'!C118)","v":"Collège de Maisonneuve"},{"$f":"IF(LEN('Détail des projets'!G118)=0,\"\",'Détail des projets'!G118)","v":"06-Montréal"},{"$f":"IF(LEN('Détail des projets'!K118)=0,\"\",'Détail des projets'!K118)","v":25000},0,"À la fin du projet (suite au dernier versement)",0,"QC-Québec","Oui",24.4021110534668,169.84505279999999,null,"Non","Oui",null,null,null,null,null,null,null,null,154.99521211803301,null,168.91693775737701,null,169.380995278689,null,168.91693775737701,null,168.91693775737701]
[null,{"$f":"IF(LEN('Détail des projets'!B119)=0,\"\",'Détail des projets'!B119)","v":"Implantation de mesures en efficacité énergétique en mode ESE"},{"$f":"IF(LEN('Détail des projets'!C119)=0,\"\",'Détail des projets'!C119)","v":"CIUSSS Saguenay-Lac-Saint-Jean"},{"$f":"IF(LEN('Détail des projets'!G119)=0,\"\",'Détail des projets'!G119)","v":"02-Saguenay--Lac-Saint-Jean"},{"$f":"IF(LEN('Détail des projets'!K119)=0,\"\",'Détail des projets'!K119)","v":1810843.57},3889.1050656799998,"À la fin du projet (suite au dernier versement)",18.624784256718236,"QC-Québec","Oui",25,3889.1050656799998,null,"Non","Oui",0,null,0,null,0,null,0,null,0,null,3187.7910374426201,null,3878.4790955551898,null,3867.8531254303798,null,3867.8531254303798]
[null,{"$f":"IF(LEN('Détail des projets'!B120)=0,\"\",'Détail des projets'!B120)","v":"Remplacement des chaudières au mazout léger par des systèmes électriques zonés"},{"$f":"IF(LEN('Détail des projets'!C120)=0,\"\",'Détail des projets'!C120)","v":"La Fabrique de la paroisse Coeur-Immaculé-de-Marie"},{"$f":"IF(LEN('Détail des projets'!G120)=0,\"\",'Détail des projets'!G120)","v":"05-Estrie"},{"$f":"IF(LEN('Détail des projets'!K120)=0,\"\",'Détail des projets'!K120)","v":78339.28},68.751530815999999,"À la fin du projet (suite au dernier versement)",45.578202591392319,"QC-Québec","Oui",25,0,68.751530815999999,"Non","Oui",0,null,0,null,0,null,37.005605384568298,null,68.375839390775894,null,68.375839390775894,null,68.563685103387996,null,68.375839390775894,null,68.375839390775894]
[null,{"$f":"IF(LEN('Détail des projets'!B121)=0,\"\",'Détail des projets'!B121)","v":"Récupération de chaleur sur système de réfrigération"},{"$f":"IF(LEN('Détail des projets'!C121)=0,\"\",'Détail des projets'!C121)","v":"Métro Richelieu inc."},{"$f":"IF(LEN('Détail des projets'!G121)=0,\"\",'Détail des projets'!G121)","v":"12-Chaudière-Appalaches"},{"$f":"IF(LEN('Détail des projets'!K121)=0,\"\",'Détail des projets'!K121)","v":10072.76},66.817502188000006,"À la fin du projet (suite au dernier versement)",7.0079272692902315,"QC-Québec","Oui",15,95.822531760000004,null,"Non","Oui",0,null,0,null,0,null,0,null,0,null,0,null,54.194710585573802,null,95.298911367868897,null,95.298911367868897]
[null,{"$f":"IF(LEN('Détail des projets'!B122)=0,\"\",'Détail des projets'!B122)","v":"Conversion partielle du système de chauffage au mazout léger par l'ajout d'une chaudière électrique"},{"$f":"IF(LEN('Détail des projets'!C122)=0,\"\",'Détail des projets'!C122)","v":"La Fabrique de la Paroisse de Sainte-Thérèse-d'Avila"},{"$f":"IF(LEN('Détail des projets'!G122)=0,\"\",'Détail des projets'!G122)","v":"02-Saguenay--Lac-Saint-Jean"},{"$f":"IF(LEN('Détail des projets'!K122)=0,\"\",'Détail des projets'!K122)","v":23853},86.989311999999998,"À la fin du projet (suite au dernier versement)",45.090278689159184,"QC-Québec","Oui",7,0,75.572197103999997,"Non","Oui",0,null,0,null,24.984250955147498,null,75.159234278295102,null,75.159234278295102,null,75.159234278295102,null,75.3657156911475,null,75.159234278295102,null,75.159234278295102]
[null,{"$f":"IF(LEN('Détail des projets'!B123)=0,\"\",'Détail des projets'!B123)","v":"Réfrigération CO2 avec récupération de chaleur (08547)"},{"$f":"IF(LEN('Détail des projets'!C123)=0,\"\",'Détail des projets'!C123)","v":"Sobeys Capital Incorporée"},{"$f":"IF(LEN('Détail des projets'!G123)=0,\"\",'Détail des projets'!G123)","v":"06-Montréal"},{"$f":"IF(LEN('Détail des projets'!K123)=0,\"\",'Détail des projets'!K123)","v":0},146.976889728142,"À la fin du projet (suite au dernier versement)",0,"QC-Québec","Oui",15,178.52562544,null,"Non","Oui",0,null,0,null,9.7554986579234999,null,177.55007557420799,null,177.55007557420799,null,177.55007557420799,null,178.037850507104,null,177.55007557420799,null,177.55007557420799]
[null,{"$f":"IF(LEN('Détail des projets'!B124)=0,\"\",'Détail des projets'!B124)","v":"Analyse d'efficacité énergétique dans le but de réduire les gaz à effets de serre"},{"$f":"IF(LEN('Détail des projets'!C124)=0,\"\",'Détail des projets'!C124)","v":"Centre de services scolaire des Hautes-Rivières"},{"$f":"IF(LEN('Détail des projets'!G124)=0,\"\",'Détail des projets'!G124)","v":"16-Montérégie"},{"$f":"IF(LEN('Détail des projets'!K124)=0,\"\",'Détail des projets'!K124)","v":4250},0,"À la fin du projet (suite au dernier versement)",0,"QC-Québec","Oui",0,0,0,"Non","Oui"]
[null,{"$f":"IF(LEN('Détail des projets'!B125)=0,\"\",'Détail des projets'!B125)","v":"Optimisation de la récupération de biogaz"},{"$f":"IF(LEN('Détail des projets'!C125)=0,\"\",'Détail des projets'!C125)","v":"Régie de Gestion des Matières Résiduelles de la Mauricie"},{"$f":"IF(LEN('Détail des projets'!G125)=0,\"\",'Détail des projets'!G125)","v":"04-Mauricie"},{"$f":"IF(LEN('Détail des projets'!K125)=0,\"\",'Détail des projets'!K125)","v":9980},0,"À la fin du projet (suite au dernier versement)",0,"QC-Québec","Oui",20,0,null,"Non","Oui"]
[null,{"$f":"IF(LEN('Détail des projets'!B126)=0,\"\",'Détail des projets'!B126)","v":"Conversion du système de chauffage au mazout vers l'électricité"},{"$f":"IF(LEN('Détail des projets'!C126)=0,\"\",'Détail des projets'!C126)","v":"La Fabrique de la paroisse de Notre-Dame-de-Bonsecours"},{"$f":"IF(LEN('Détail des projets'!G126)=0,\"\",'Détail des projets'!G126)","v":"07-Outaouais"},{"$f":"IF(LEN('Détail des projets'!K126)=0,\"\",'Détail des projets'!K126)","v":71583},69.572378263999994,"À la fin du projet (suite au dernier versement)",41.155988503581398,"QC-Québec","Oui",25,0,69.572378263999994,"Non","Oui",0,null,0,null,19.959288846229502,null,69.192201333595605,null,69.192201333595605,null,69.192201333595605,null,69.3822897987978,null,69.192201333595605,null,69.192201333595605]
[null,{"$f":"IF(LEN('Détail des projets'!B127)=0,\"\",'Détail des projets'!B127)","v":"Projet d’optimisation de la chaufferie au foyer de Havre-Saint-Pierre"},{"$f":"IF(LEN('Détail des projets'!C127)=0,\"\",'Détail des projets'!C127)","v":"CISSS de la Côte-Nord"},{"$f":"IF(LEN('Détail des projets'!G127)=0,\"\",'Détail des projets'!G127)","v":"09-Côte-Nord"},{"$f":"IF(LEN('Détail des projets'!K127)=0,\"\",'Détail des projets'!K127)","v":101016.12},80.812899647999998,"À la fin du projet (suite au dernier versement)",48.344474724685178,"QC-Québec","Oui",23,90.84813192,null,"Non","Oui",0,null,0,null,0,null,0,null,45.1758470203279,null,90.351694040655701,null,90.5999129803279,null,90.351694040655701,null,90.351694040655701]
[null,{"$f":"IF(LEN('Détail des projets'!B128)=0,\"\",'Détail des projets'!B128)","v":"Remplacement d'une chaudière mazout léger par une chaudière électrique"},{"$f":"IF(LEN('Détail des projets'!C128)=0,\"\",'Détail des projets'!C128)","v":"Fabrique de la paroisse de Notre-Dame-de-Lourdes"},{"$f":"IF(LEN('Détail des projets'!G128)=0,\"\",'Détail des projets'!G128)","v":"01-Bas-Saint-Laurent"},{"$f":"IF(LEN('Détail des projets'!K128)=0,\"\",'Détail des projets'!K128)","v":15817.91},80.766033960000001,"À la fin du projet (suite au dernier versement)",6.7749783068911569,"QC-Québec","Oui",30,0,77.825144640000005,"Non","Oui",0,null,0,null,22.752159771803299,null,77.399870625573797,null,77.399870625573797,null,77.399870625573797,null,77.612507632786901,null,77.399870625573797,null,77.399870625573797]
[null,{"$f":"IF(LEN('Détail des projets'!B129)=0,\"\",'Détail des projets'!B129)","v":"Réfrigération CO2 avec récupération de chaleur (88086)"},{"$f":"IF(LEN('Détail des projets'!C129)=0,\"\",'Détail des projets'!C129)","v":"Sobeys Capital Incorporée"},{"$f":"IF(LEN('Détail des projets'!G129)=0,\"\",'Détail des projets'!G129)","v":"07-Outaouais"},{"$f":"IF(LEN('Détail des projets'!K129)=0,\"\",'Détail des projets'!K129)","v":0},0,"À la fin du projet (suite au dernier versement)",0,"QC-Québec","Oui",15,1.80016128,null,"Non","Oui",0,null,0,null,0,null,0,null,0,null,1.0869826308196699,null,1.79524280655738,null,1.79032433311475,null,1.79032433311475]
[null,{"$f":"IF(LEN('Détail des projets'!B130)=0,\"\",'Détail des projets'!B130)","v":"Conversion du mazout vers des thermopompes électriques"},{"$f":"IF(LEN('Détail des projets'!C130)=0,\"\",'Détail des projets'!C130)","v":"ÉnerProx inc."},{"$f":"IF(LEN('Détail des projets'!G130)=0,\"\",'Détail des projets'!G130)","v":"17-Centre-du-Québec"},{"$f":"IF(LEN('Détail des projets'!K130)=0,\"\",'Détail des projets'!K130)","v":22514.42},18.011537768,"À la fin du projet (suite au dernier versement)",83.333174139366989,"QC-Québec","Oui",15,0,18.011570408000001,"Non","Oui",0,null,0,null,0,null,0,null,0,null,15.1572778296831,null,17.962358466994498,null,17.913146525989099,null,17.913146525989099]
[null,{"$f":"IF(LEN('Détail des projets'!B131)=0,\"\",'Détail des projets'!B131)","v":"Aréna Henri-Desjardins - Étude en efficacité énergétique"},{"$f":"IF(LEN('Détail des projets'!C131)=0,\"\",'Détail des projets'!C131)","v":"Ville de Baie-Comeau"},{"$f":"IF(LEN('Détail des projets'!G131)=0,\"\",'Détail des projets'!G131)","v":"09-Côte-Nord"},{"$f":"IF(LEN('Détail des projets'!K131)=0,\"\",'Détail des projets'!K131)","v":9750},0,"À la fin du projet (suite au dernier versement)",0,"QC-Québec","Oui",20,0,0,"Non","Oui"]
[null,{"$f":"IF(LEN('Détail des projets'!B132)=0,\"\",'Détail des projets'!B132)","v":"C5464-TRIV Implantation du produit écoAZUR"},{"$f":"IF(LEN('Détail des projets'!C132)=0,\"\",'Détail des projets'!C132)","v":"Le Trois-Rivières (2014) inc."},{"$f":"IF(LEN('Détail des projets'!G132)=0,\"\",'Détail des projets'!G132)","v":"04-Mauricie"},{"$f":"IF(LEN('Détail des projets'!K132)=0,\"\",'Détail des projets'!K132)","v":34648.21},27.71856876,"À la fin du projet (suite au dernier versement)",117.96761412853516,"QC-Québec","Oui",10,29.370950879999999,null,"Non","Oui",0,null,0,null,0,null,13.1607539462295,null,29.210453880655699,null,29.210453880655699,null,29.2907023803279,null,29.210453880655699,null,29.210453880655699]
[null,{"$f":"IF(LEN('Détail des projets'!B133)=0,\"\",'Détail des projets'!B133)","v":"C5465-CAPT Implantation du produit écoAZUR"},{"$f":"IF(LEN('Détail des projets'!C133)=0,\"\",'Détail des projets'!C133)","v":"Le Bouvier inc."},{"$f":"IF(LEN('Détail des projets'!G133)=0,\"\",'Détail des projets'!G133)","v":"03-Capitale-Nationale"},{"$f":"IF(LEN('Détail des projets'!K133)=0,\"\",'Détail des projets'!K133)","v":34648.21},27.71856876,"À la fin du projet (suite au dernier versement)",124.28316332129994,"QC-Québec","Oui",10,27.878442320000001,null,"Non","Oui",0,null,0,null,0,null,9.6736671438251403,null,27.7261011051366,null,27.7261011051366,null,27.802271712568299,null,27.7261011051366,null,27.7261011051366]
[null,{"$f":"IF(LEN('Détail des projets'!B134)=0,\"\",'Détail des projets'!B134)","v":"C5466-CMAD Implantation du produit écoAZUR"},{"$f":"IF(LEN('Détail des projets'!C134)=0,\"\",'Détail des projets'!C134)","v":"Restaurant CAP (2014) inc."},{"$f":"IF(LEN('Détail des projets'!G134)=0,\"\",'Détail des projets'!G134)","v":"04-Mauricie"},{"$f":"IF(LEN('Détail des projets'!K134)=0,\"\",'Détail des projets'!K134)","v":34648.21},27.71856876,"À la fin du projet (suite au dernier versement)",103.71771339955431,"QC-Québec","Oui",10,33.406260959999997,null,"Non","Oui",0,null,0,null,0,null,14.7863778019672,null,33.223713085901601,null,33.223713085901601,null,33.314987022950802,null,33.223713085901601,null,33.223713085901601]
[null,{"$f":"IF(LEN('Détail des projets'!B135)=0,\"\",'Détail des projets'!B135)","v":"C5467-CHLB Implantation du produit écoAZUR"},{"$f":"IF(LEN('Détail des projets'!C135)=0,\"\",'Détail des projets'!C135)","v":"Restaurant Le CHLB inc."},{"$f":"IF(LEN('Détail des projets'!G135)=0,\"\",'Détail des projets'!G135)","v":"03-Capitale-Nationale"},{"$f":"IF(LEN('Détail des projets'!K135)=0,\"\",'Détail des projets'!K135)","v":34648.21},27.71856876,"À la fin du projet (suite au dernier versement)",115.88074344299903,"QC-Québec","Oui",10,29.89988584,null,"Non","Oui",0,null,0,null,0,null,17.155672203278701,null,29.7364984856831,null,29.7364984856831,null,29.818192162841498,null,29.7364984856831,null,29.7364984856831]
[null,{"$f":"IF(LEN('Détail des projets'!B136)=0,\"\",'Détail des projets'!B136)","v":"C5468-CHNY Implantation du produit écoAZUR"},{"$f":"IF(LEN('Détail des projets'!C136)=0,\"\",'Détail des projets'!C136)","v":"Restaurant Le CHNY inc."},{"$f":"IF(LEN('Détail des projets'!G136)=0,\"\",'Détail des projets'!G136)","v":"12-Chaudière-Appalaches"},{"$f":"IF(LEN('Détail des projets'!K136)=0,\"\",'Détail des projets'!K136)","v":34648.21},27.71856876,"À la fin du projet (suite au dernier versement)",99.492632801842475,"QC-Québec","Oui",10,34.824900120000002,null,"Non","Oui",0,null,0,null,0,null,12.0840500416393,null,34.634600119344299,null,34.634600119344299,null,34.729750119672097,null,34.634600119344299,null,34.634600119344299]
[null,{"$f":"IF(LEN('Détail des projets'!B137)=0,\"\",'Détail des projets'!B137)","v":"C5469-DNCA Implantation du produit écoAZUR"},{"$f":"IF(LEN('Détail des projets'!C137)=0,\"\",'Détail des projets'!C137)","v":"Restaurant Donnacona (2014) inc."},{"$f":"IF(LEN('Détail des projets'!G137)=0,\"\",'Détail des projets'!G137)","v":"03-Capitale-Nationale"},{"$f":"IF(LEN('Détail des projets'!K137)=0,\"\",'Détail des projets'!K137)","v":34648.21},27.71856876,"À la fin du projet (suite au dernier versement)",119.11114925798329,"QC-Québec","Oui",10,29.08897296,null,"Non","Oui",0,null,0,null,0,null,10.6500611383607,null,28.9300168236066,null,28.9300168236066,null,29.0094948918033,null,28.9300168236066,null,28.9300168236066]
[null,{"$f":"IF(LEN('Détail des projets'!B138)=0,\"\",'Détail des projets'!B138)","v":"C5470-DRUM Implantation du produit écoAZUR"},{"$f":"IF(LEN('Détail des projets'!C138)=0,\"\",'Détail des projets'!C138)","v":"Le Drummondvillois (2014) inc."},{"$f":"IF(LEN('Détail des projets'!G138)=0,\"\",'Détail des projets'!G138)","v":"17-Centre-du-Québec"},{"$f":"IF(LEN('Détail des projets'!K138)=0,\"\",'Détail des projets'!K138)","v":34648.21},27.71856876,"À la fin du projet (suite au dernier versement)",84.946562184283707,"QC-Québec","Oui",10,40.788242760000003,null,"Non","Oui",0,null,0,null,0,null,14.933400354754101,null,40.565356187540999,null,40.565356187540999,null,40.676799473770501,null,40.565356187540999,null,40.565356187540999]
[null,{"$f":"IF(LEN('Détail des projets'!B139)=0,\"\",'Détail des projets'!B139)","v":"C5471-DUBG Implantation du produit écoAZUR"},{"$f":"IF(LEN('Détail des projets'!C139)=0,\"\",'Détail des projets'!C139)","v":"Martin Brie inc."},{"$f":"IF(LEN('Détail des projets'!G139)=0,\"\",'Détail des projets'!G139)","v":"03-Capitale-Nationale"},{"$f":"IF(LEN('Détail des projets'!K139)=0,\"\",'Détail des projets'!K139)","v":34648.21},27.71856876,"À la fin du projet (suite au dernier versement)",112.94073058542777,"QC-Québec","Oui",10,30.678223719999998,null,"Non","Oui",0,null,0,null,0,null,14.249448175956299,null,30.510583153224001,null,30.510583153224001,null,30.594403436612001,null,30.510583153224001,null,30.510583153224001]
[null,{"$f":"IF(LEN('Détail des projets'!B140)=0,\"\",'Détail des projets'!B140)","v":"C5472-FLYS Implantation du produit écoAZUR"},{"$f":"IF(LEN('Détail des projets'!C140)=0,\"\",'Détail des projets'!C140)","v":"Le Flys inc."},{"$f":"IF(LEN('Détail des projets'!G140)=0,\"\",'Détail des projets'!G140)","v":"03-Capitale-Nationale"},{"$f":"IF(LEN('Détail des projets'!K140)=0,\"\",'Détail des projets'!K140)","v":34648.21},27.71856876,"À la fin du projet (suite au dernier versement)",113.54252541665552,"QC-Québec","Oui",10,30.51562388,null,"Non","Oui",0,null,0,null,0,null,12.9232833371585,null,30.3488718369399,null,30.3488718369399,null,30.4322478584699,null,30.3488718369399,null,30.3488718369399]
[null,{"$f":"IF(LEN('Détail des projets'!B141)=0,\"\",'Détail des projets'!B141)","v":"C5473-LZON Implantation du produit écoAZUR"},{"$f":"IF(LEN('Détail des projets'!C141)=0,\"\",'Détail des projets'!C141)","v":"Restaurant Alauzon (2014) inc."},{"$f":"IF(LEN('Détail des projets'!G141)=0,\"\",'Détail des projets'!G141)","v":"12-Chaudière-Appalaches"},{"$f":"IF(LEN('Détail des projets'!K141)=0,\"\",'Détail des projets'!K141)","v":34648.21},27.71856876,"À la fin du projet (suite au dernier versement)",107.72589317839069,"QC-Québec","Oui",10,32.163307240000002,null,"Non","Oui",0,null,0,null,0,null,13.0938054064481,null,31.987551462732199,null,31.987551462732199,null,32.075429351366097,null,31.987551462732199,null,31.987551462732199]
[null,{"$f":"IF(LEN('Détail des projets'!B142)=0,\"\",'Détail des projets'!B142)","v":"C5474-NCHT Implantation du produit écoAZUR"},{"$f":"IF(LEN('Détail des projets'!C142)=0,\"\",'Détail des projets'!C142)","v":"Restaurant Neufchâtel inc."},{"$f":"IF(LEN('Détail des projets'!G142)=0,\"\",'Détail des projets'!G142)","v":"03-Capitale-Nationale"},{"$f":"IF(LEN('Détail des projets'!K142)=0,\"\",'Détail des projets'!K142)","v":34648.21},27.71856876,"À la fin du projet (suite au dernier versement)",101.82270111489657,"QC-Québec","Oui",10,34.027981599999997,null,"Non","Oui",0,null,0,null,0,null,15.2475108808743,null,33.842036345355197,null,33.842036345355197,null,33.935008972677601,null,33.842036345355197,null,33.842036345355197]
[null,{"$f":"IF(LEN('Détail des projets'!B143)=0,\"\",'Détail des projets'!B143)","v":"C5475-STMA Implantation du produit écoAZUR"},{"$f":"IF(LEN('Détail des projets'!C143)=0,\"\",'Détail des projets'!C143)","v":"Le STMA (2014) inc."},{"$f":"IF(LEN('Détail des projets'!G143)=0,\"\",'Détail des projets'!G143)","v":"12-Chaudière-Appalaches"},{"$f":"IF(LEN('Détail des projets'!K143)=0,\"\",'Détail des projets'!K143)","v":34648.21},27.71856876,"À la fin du projet (suite au dernier versement)",99.431943309745705,"QC-Québec","Oui",10,34.846155920000001,null,"Non","Oui",0,null,0,null,0,null,14.090795290054601,null,34.655739767431697,null,34.655739767431697,null,34.750947843715799,null,34.655739767431697,null,34.655739767431697]
[null,{"$f":"IF(LEN('Détail des projets'!B144)=0,\"\",'Détail des projets'!B144)","v":"Analyse de récupération d'énergie au Centre sportif Les 2 Glaces"},{"$f":"IF(LEN('Détail des projets'!C144)=0,\"\",'Détail des projets'!C144)","v":"Ville de Candiac"},{"$f":"IF(LEN('Détail des projets'!G144)=0,\"\",'Détail des projets'!G144)","v":"16-Montérégie"},{"$f":"IF(LEN('Détail des projets'!K144)=0,\"\",'Détail des projets'!K144)","v":4100},0,"À la fin du projet (suite au dernier versement)",0,"QC-Québec","Oui",15,0,null,"Non","Oui"]
[null,{"$f":"IF(LEN('Détail des projets'!B145)=0,\"\",'Détail des projets'!B145)","v":"Projet d'économie d'énergie Capial BLF"},{"$f":"IF(LEN('Détail des projets'!C145)=0,\"\",'Détail des projets'!C145)","v":"Capital BLF inc."},{"$f":"IF(LEN('Détail des projets'!G145)=0,\"\",'Détail des projets'!G145)","v":"03-Capitale-Nationale"},{"$f":"IF(LEN('Détail des projets'!K145)=0,\"\",'Détail des projets'!K145)","v":104678.06},88.009722513848601,"À la fin du projet (suite au dernier versement)",62.09378969133359,"QC-Québec","Oui",18.6373481750488,90.453084320000002,null,"Non","Oui",0,null,0,null,0,null,0,null,0,null,46.462240033223999,null,90.205944745355197,null,89.958805170710406,null,89.958805170710406]
[null,{"$f":"IF(LEN('Détail des projets'!B146)=0,\"\",'Détail des projets'!B146)","v":"Mise à niveau de l'aréna Francis-Bouillon"},{"$f":"IF(LEN('Détail des projets'!C146)=0,\"\",'Détail des projets'!C146)","v":"Ville de Montréal"},{"$f":"IF(LEN('Détail des projets'!G146)=0,\"\",'Détail des projets'!G146)","v":"06-Montréal"},{"$f":"IF(LEN('Détail des projets'!K146)=0,\"\",'Détail des projets'!K146)","v":137551.91},142.59873764,"À la fin du projet (suite au dernier versement)",64.89257812145182,"QC-Québec","Oui",19.753961563110401,107.30436583456,null,"Non","Oui",0,null,0,null,0,null,0,null,78.572595747710594,null,106.718003179726,null,107.011184507143,null,106.718003179726,null,106.718003179726]
[null,{"$f":"IF(LEN('Détail des projets'!B147)=0,\"\",'Détail des projets'!B147)","v":"Projet d’efficacité énergétique - Hôpital Sainte-Anne-de-Beaupré"},{"$f":"IF(LEN('Détail des projets'!C147)=0,\"\",'Détail des projets'!C147)","v":"CIUSSS de la Capitale-Nationale"},{"$f":"IF(LEN('Détail des projets'!G147)=0,\"\",'Détail des projets'!G147)","v":"03-Capitale-Nationale"},{"$f":"IF(LEN('Détail des projets'!K147)=0,\"\",'Détail des projets'!K147)","v":754631.19},814.86150936441697,"À la fin du projet (suite au dernier versement)",39.066488274866998,"QC-Québec","Oui",20,394.40394980904699,571.42536237599995,"Non","Oui",0,null,0,null,0,null,0,null,543.60884784185703,null,960.55155638075701,null,963.19043428290195,null,960.55155638075701,null,960.55155638075701]
[null,{"$f":"IF(LEN('Détail des projets'!B148)=0,\"\",'Détail des projets'!B148)","v":"Réfrigération CO2 avec récupération de chaleur (000259)"},{"$f":"IF(LEN('Détail des projets'!C148)=0,\"\",'Détail des projets'!C148)","v":"Sobeys Capital Incorporée"},{"$f":"IF(LEN('Détail des projets'!G148)=0,\"\",'Détail des projets'!G148)","v":"06-Montréal"},{"$f":"IF(LEN('Détail des projets'!K148)=0,\"\",'Détail des projets'!K148)","v":0},195.120845524,"À la fin du projet (suite au dernier versement)",0,"QC-Québec","Oui",15,204.13535804,null,"Non","Oui",0,null,0,null,16.174659516830602,null,203.019864280219,null,203.019864280219,null,203.019864280219,null,203.577611160109,null,203.019864280219,null,203.019864280219]
[null,{"$f":"IF(LEN('Détail des projets'!B149)=0,\"\",'Détail des projets'!B149)","v":"Étude de faisabilité - Efficacité énergétique dans un supermarché"},{"$f":"IF(LEN('Détail des projets'!C149)=0,\"\",'Détail des projets'!C149)","v":"L'Inter Marché"},{"$f":"IF(LEN('Détail des projets'!G149)=0,\"\",'Détail des projets'!G149)","v":"06-Montréal"},{"$f":"IF(LEN('Détail des projets'!K149)=0,\"\",'Détail des projets'!K149)","v":2500},0,"À la fin du projet (suite au dernier versement)",0,"QC-Québec","Oui",20.708583831787099,0,null,"Non","Oui"]
[null,{"$f":"IF(LEN('Détail des projets'!B150)=0,\"\",'Détail des projets'!B150)","v":"Rallongement de ligne électrique pour le relais routier"},{"$f":"IF(LEN('Détail des projets'!C150)=0,\"\",'Détail des projets'!C150)","v":"Société de développement de la Baie-James"},{"$f":"IF(LEN('Détail des projets'!G150)=0,\"\",'Détail des projets'!G150)","v":"10-Nord-du-Québec"},{"$f":"IF(LEN('Détail des projets'!K150)=0,\"\",'Détail des projets'!K150)","v":25350},0,"À la fin du projet (suite au dernier versement)",0,"QC-Québec","Oui",0,0,0,"Non","Oui"]
[null,{"$f":"IF(LEN('Détail des projets'!B151)=0,\"\",'Détail des projets'!B151)","v":"Conversion partielle du système de chauffage au mazout à un système de chauffage biénergie à l’électricité, zoné, et au mazout"},{"$f":"IF(LEN('Détail des projets'!C151)=0,\"\",'Détail des projets'!C151)","v":"Municipalité du Canton de Saint-Camille"},{"$f":"IF(LEN('Détail des projets'!G151)=0,\"\",'Détail des projets'!G151)","v":"05-Estrie"},{"$f":"IF(LEN('Détail des projets'!K151)=0,\"\",'Détail des projets'!K151)","v":38775.08},31.020065248000002,"À la fin du projet (suite au dernier versement)",29.590621965446008,"QC-Québec","Oui",25,0,52.415363280000001,"Non","Oui",0,null,0,null,0,null,19.476747011147499,null,52.1289405298361,null,52.1289405298361,null,52.272151904917997,null,52.1289405298361,null,52.1289405298361]
[null,{"$f":"IF(LEN('Détail des projets'!B152)=0,\"\",'Détail des projets'!B152)","v":"Centre Hébergement Alphonse Bonenfant Projet d'efficacité énergétique"},{"$f":"IF(LEN('Détail des projets'!C152)=0,\"\",'Détail des projets'!C152)","v":"CIUSSS de la Capitale-Nationale"},{"$f":"IF(LEN('Détail des projets'!G152)=0,\"\",'Détail des projets'!G152)","v":"03-Capitale-Nationale"},{"$f":"IF(LEN('Détail des projets'!K152)=0,\"\",'Détail des projets'!K152)","v":42132.020000000004},33.705616048000003,"À la fin du projet (suite au dernier versement)",62.499999910994063,"QC-Québec","Oui",20,33.705616048000003,null,"Non","Oui",0,null,0,null,0,null,0,null,14.642603692983601,null,33.521432353748601,null,33.613524200874302,null,33.521432353748601,null,33.521432353748601]
[null,{"$f":"IF(LEN('Détail des projets'!B153)=0,\"\",'Détail des projets'!B153)","v":"Conversion du système de chauffage au mazout léger vers un système électrique - École Jacques Rocheleau"},{"$f":"IF(LEN('Détail des projets'!C153)=0,\"\",'Détail des projets'!C153)","v":"Centre de services scolaire des Patriotes"},{"$f":"IF(LEN('Détail des projets'!G153)=0,\"\",'Détail des projets'!G153)","v":"16-Montérégie"},{"$f":"IF(LEN('Détail des projets'!K153)=0,\"\",'Détail des projets'!K153)","v":138365.16},124.196122016,"À la fin du projet (suite au dernier versement)",745.58539315677774,"QC-Québec","Oui",20,0,9.2789612879999996,"Non","Oui",0,null,0,null,0,null,0,null,2.81411121029508,null,9.2282565815081998,null,9.2536089347540997,null,9.2282565815081998,null,9.2282565815081998]
[null,{"$f":"IF(LEN('Détail des projets'!B154)=0,\"\",'Détail des projets'!B154)","v":"Projet d'efficacité énergétique-École L'Arpège"},{"$f":"IF(LEN('Détail des projets'!C154)=0,\"\",'Détail des projets'!C154)","v":"Centre de services scolaire des Patriotes"},{"$f":"IF(LEN('Détail des projets'!G154)=0,\"\",'Détail des projets'!G154)","v":"16-Montérégie"},{"$f":"IF(LEN('Détail des projets'!K154)=0,\"\",'Détail des projets'!K154)","v":9489.5300000000007},7.5916271359999996,"À la fin du projet (suite au dernier versement)",62.499974182082916,"QC-Québec","Oui",20,7.5916271359999996,null,"Non","Oui",0,null,0,null,0,null,0.95413892966120195,null,7.5501428347103801,null,7.5501428347103801,null,7.5708849853551898,null,7.5501428347103801,null,7.5501428347103801]
[null,{"$f":"IF(LEN('Détail des projets'!B155)=0,\"\",'Détail des projets'!B155)","v":"Conversion du système de chauffage au mazout léger vers un système électrique - École Le Rucher"},{"$f":"IF(LEN('Détail des projets'!C155)=0,\"\",'Détail des projets'!C155)","v":"Centre de services scolaire des Patriotes"},{"$f":"IF(LEN('Détail des projets'!G155)=0,\"\",'Détail des projets'!G155)","v":"16-Montérégie"},{"$f":"IF(LEN('Détail des projets'!K155)=0,\"\",'Détail des projets'!K155)","v":63110.74},91.984602207999998,"À la fin du projet (suite au dernier versement)",62.462926188907126,"QC-Québec","Oui",20,0,50.518558648000003,"Non","Oui",0,null,0,null,0,null,0,null,14.6310579690929,null,50.242500950469903,null,50.380529799234999,null,50.242500950469903,null,50.242500950469903]
[null,{"$f":"IF(LEN('Détail des projets'!B156)=0,\"\",'Détail des projets'!B156)","v":"Conversion du système de chauffage au mazout léger vers un système électrique - École de l'Odyssée"},{"$f":"IF(LEN('Détail des projets'!C156)=0,\"\",'Détail des projets'!C156)","v":"Centre de services scolaire des Patriotes"},{"$f":"IF(LEN('Détail des projets'!G156)=0,\"\",'Détail des projets'!G156)","v":"16-Montérégie"},{"$f":"IF(LEN('Détail des projets'!K156)=0,\"\",'Détail des projets'!K156)","v":39250.730000000003},31.400582679999999,"À la fin du projet (suite au dernier versement)",58.602484701193497,"QC-Québec","Oui",20,33.488963992000002,null,"Non","Oui",0,null,0,null,0,null,0,null,0,null,16.561482192764998,null,33.397464090382499,null,33.305964188765003,null,33.305964188765003]
[null,{"$f":"IF(LEN('Détail des projets'!B157)=0,\"\",'Détail des projets'!B157)","v":"Conversion du système de chauffage au mazout léger vers un système électrique - École Au-Fil-de-l'Eau (pavillon Desrochers)"},{"$f":"IF(LEN('Détail des projets'!C157)=0,\"\",'Détail des projets'!C157)","v":"Centre de services scolaire des Patriotes"},{"$f":"IF(LEN('Détail des projets'!G157)=0,\"\",'Détail des projets'!G157)","v":"16-Montérégie"},{"$f":"IF(LEN('Détail des projets'!K157)=0,\"\",'Détail des projets'!K157)","v":37770.230000000003},30.216182799999999,"À la fin du projet (suite au dernier versement)",62.500002482113658,"QC-Québec","Oui",20,0,30.216182799999999,"Non","Oui",0,null,0,null,0,null,0,null,14.282512634972701,null,30.0510670469945,null,30.133624923497301,null,30.0510670469945,null,30.0510670469945]
[null,{"$f":"IF(LEN('Détail des projets'!B158)=0,\"\",'Détail des projets'!B158)","v":"Conversion du système de chauffage au mazout léger vers un système électrique - École Louis-Hippolyte-Lafontaine"},{"$f":"IF(LEN('Détail des projets'!C158)=0,\"\",'Détail des projets'!C158)","v":"Centre de services scolaire des Patriotes"},{"$f":"IF(LEN('Détail des projets'!G158)=0,\"\",'Détail des projets'!G158)","v":"16-Montérégie"},{"$f":"IF(LEN('Détail des projets'!K158)=0,\"\",'Détail des projets'!K158)","v":117454.54},93.963634839999997,"À la fin du projet (suite au dernier versement)",62.499998110971333,"QC-Québec","Oui",20,0,93.963634839999997,"Non","Oui",0,null,0,null,0,null,0,null,41.590461322623,null,93.450172354535496,null,93.706903597267797,null,93.450172354535496,null,93.450172354535496]
[null,{"$f":"IF(LEN('Détail des projets'!B159)=0,\"\",'Détail des projets'!B159)","v":"Conversion du système de chauffage au mazout léger vers un système électrique - École Ludger-Duvernay"},{"$f":"IF(LEN('Détail des projets'!C159)=0,\"\",'Détail des projets'!C159)","v":"Centre de services scolaire des Patriotes"},{"$f":"IF(LEN('Détail des projets'!G159)=0,\"\",'Détail des projets'!G159)","v":"16-Montérégie"},{"$f":"IF(LEN('Détail des projets'!K159)=0,\"\",'Détail des projets'!K159)","v":102577.82},82.062259048000001,"À la fin du projet (suite au dernier versement)",62.499997678591818,"QC-Québec","Oui",20,0,82.062259048000001,"Non","Oui",0,null,0,null,0,null,0,null,72.869492324043705,null,81.613831402928994,null,81.838045225464498,null,81.613831402928994,null,81.613831402928994]
[null,{"$f":"IF(LEN('Détail des projets'!B160)=0,\"\",'Détail des projets'!B160)","v":"Projet d'efficacité énergétique - École secondaire Mont-Bruno"},{"$f":"IF(LEN('Détail des projets'!C160)=0,\"\",'Détail des projets'!C160)","v":"Centre de services scolaire des Patriotes"},{"$f":"IF(LEN('Détail des projets'!G160)=0,\"\",'Détail des projets'!G160)","v":"16-Montérégie"},{"$f":"IF(LEN('Détail des projets'!K160)=0,\"\",'Détail des projets'!K160)","v":98594.086500000005},176.394903,"À la fin du projet (suite au dernier versement)",27.946977158404628,"QC-Québec","Oui",20,176.394903,null,"Non","Oui",0,null,0,null,0,null,0,null,0,null,0,null,0,null,142.176219631148,null,175.43099642623]
[null,{"$f":"IF(LEN('Détail des projets'!B161)=0,\"\",'Détail des projets'!B161)","v":"Conversion partielle du système de chauffage au mazout léger vers un système électrique - École De la Broquerie"},{"$f":"IF(LEN('Détail des projets'!C161)=0,\"\",'Détail des projets'!C161)","v":"Centre de services scolaire des Patriotes"},{"$f":"IF(LEN('Détail des projets'!G161)=0,\"\",'Détail des projets'!G161)","v":"16-Montérégie"},{"$f":"IF(LEN('Détail des projets'!K161)=0,\"\",'Détail des projets'!K161)","v":93502.090000000011},74.801670688000002,"À la fin du projet (suite au dernier versement)",62.500001096232204,"QC-Québec","Oui",20,0,74.801670688000002,"Non","Oui",0,null,0,null,0,null,0,null,0,null,37.8095876428415,null,74.597294538579206,null,74.392918389158496,null,74.392918389158496]
[null,{"$f":"IF(LEN('Détail des projets'!B162)=0,\"\",'Détail des projets'!B162)","v":"Conversion du système de chauffage au mazout léger vers un système électrique - École Notre-Dame 1"},{"$f":"IF(LEN('Détail des projets'!C162)=0,\"\",'Détail des projets'!C162)","v":"Centre de services scolaire des Patriotes"},{"$f":"IF(LEN('Détail des projets'!G162)=0,\"\",'Détail des projets'!G162)","v":"16-Montérégie"},{"$f":"IF(LEN('Détail des projets'!K162)=0,\"\",'Détail des projets'!K162)","v":115632.81},92.506250120000004,"À la fin du projet (suite au dernier versement)",62.299968004272593,"QC-Québec","Oui",20,0,92.803265960000004,"Non","Oui",0,null,0,null,0,null,0,null,81.900150013879795,null,92.296144288087405,null,92.549705124043697,null,92.296144288087405,null,92.296144288087405]
[null,{"$f":"IF(LEN('Détail des projets'!B163)=0,\"\",'Détail des projets'!B163)","v":"Conversion du système de chauffage au mazout léger vers un système électrique - École Notre-Dame 2"},{"$f":"IF(LEN('Détail des projets'!C163)=0,\"\",'Détail des projets'!C163)","v":"Centre de services scolaire des Patriotes"},{"$f":"IF(LEN('Détail des projets'!G163)=0,\"\",'Détail des projets'!G163)","v":"16-Montérégie"},{"$f":"IF(LEN('Détail des projets'!K163)=0,\"\",'Détail des projets'!K163)","v":104711.75},83.769397776000005,"À la fin du projet (suite au dernier versement)",62.500001659317164,"QC-Québec","Oui",20,0,83.769397776000005,"Non","Oui",0,null,0,null,0,null,0,null,32.958451584000002,null,83.311641503999994,null,83.540519639999999,null,83.311641503999994,null,83.311641503999994]
[null,{"$f":"IF(LEN('Détail des projets'!B164)=0,\"\",'Détail des projets'!B164)","v":"Conversion du système de chauffage au mazout léger vers un système électrique - École de l'Envolée"},{"$f":"IF(LEN('Détail des projets'!C164)=0,\"\",'Détail des projets'!C164)","v":"Centre de services scolaire des Patriotes"},{"$f":"IF(LEN('Détail des projets'!G164)=0,\"\",'Détail des projets'!G164)","v":"16-Montérégie"},{"$f":"IF(LEN('Détail des projets'!K164)=0,\"\",'Détail des projets'!K164)","v":102099.68},81.679741320000005,"À la fin du projet (suite au dernier versement)",62.500002050692089,"QC-Québec","Oui",20,0,81.679741320000005,"Non","Oui",0,null,0,null,0,null,0,null,0,null,80.117560475082001,null,81.456572627868795,null,81.233403935737698,null,81.233403935737698]
[null,{"$f":"IF(LEN('Détail des projets'!B165)=0,\"\",'Détail des projets'!B165)","v":"Projet d'efficacité énergétique - École Ozias-Leduc"},{"$f":"IF(LEN('Détail des projets'!C165)=0,\"\",'Détail des projets'!C165)","v":"Centre de services scolaire des Patriotes"},{"$f":"IF(LEN('Détail des projets'!G165)=0,\"\",'Détail des projets'!G165)","v":"16-Montérégie"},{"$f":"IF(LEN('Détail des projets'!K165)=0,\"\",'Détail des projets'!K165)","v":77861.87},62.289494759999997,"À la fin du projet (suite au dernier versement)",53.571425878276365,"QC-Québec","Oui",20,72.671082319999996,null,"Non","Oui",0,null,0,null,0,null,0,null,21.443925930491801,null,72.273972580546499,null,72.472527450273205,null,72.273972580546499,null,72.273972580546499]
[null,{"$f":"IF(LEN('Détail des projets'!B166)=0,\"\",'Détail des projets'!B166)","v":"Conversion du système de chauffage au mazout léger vers un système électrique - École Père-Marquette"},{"$f":"IF(LEN('Détail des projets'!C166)=0,\"\",'Détail des projets'!C166)","v":"Centre de services scolaire des Patriotes"},{"$f":"IF(LEN('Détail des projets'!G166)=0,\"\",'Détail des projets'!G166)","v":"16-Montérégie"},{"$f":"IF(LEN('Détail des projets'!K166)=0,\"\",'Détail des projets'!K166)","v":197590.61},158.072489408,"À la fin du projet (suite au dernier versement)",62.539820036689065,"QC-Québec","Oui",20,0,157.971840888,"Non","Oui",0,null,0,null,0,null,0,null,33.666130025311503,null,157.10860678478701,null,157.54022383639301,null,157.10860678478701,null,157.10860678478701]
[null,{"$f":"IF(LEN('Détail des projets'!B167)=0,\"\",'Détail des projets'!B167)","v":"Projet d'efficacité énergétique - École De Mortagne"},{"$f":"IF(LEN('Détail des projets'!C167)=0,\"\",'Détail des projets'!C167)","v":"Centre de services scolaire des Patriotes"},{"$f":"IF(LEN('Détail des projets'!G167)=0,\"\",'Détail des projets'!G167)","v":"16-Montérégie"},{"$f":"IF(LEN('Détail des projets'!K167)=0,\"\",'Détail des projets'!K167)","v":694013.58},615.96405152,"À la fin du projet (suite au dernier versement)",62.113254817607157,"QC-Québec","Oui",20,334.47702731999999,224.19083032,"Non","Oui",0,null,0,null,0,null,0,null,169.43205518590199,null,555.615027816831,null,557.14144272841497,null,555.615027816831,null,555.615027816831]
[null,{"$f":"IF(LEN('Détail des projets'!B168)=0,\"\",'Détail des projets'!B168)","v":"Projet d'efficacité énergétique - École secondaire Polybel"},{"$f":"IF(LEN('Détail des projets'!C168)=0,\"\",'Détail des projets'!C168)","v":"Centre de services scolaire des Patriotes"},{"$f":"IF(LEN('Détail des projets'!G168)=0,\"\",'Détail des projets'!G168)","v":"16-Montérégie"},{"$f":"IF(LEN('Détail des projets'!K168)=0,\"\",'Détail des projets'!K168)","v":419693.84},338.04892316000002,"À la fin du projet (suite au dernier versement)",77.965119536172651,"QC-Québec","Oui",20,269.15487495999997,null,"Non","Oui",0,null,0,null,0,null,0,null,141.93139581224,null,267.68408329355202,null,268.41947912677603,null,267.68408329355202,null,267.68408329355202]
[null,{"$f":"IF(LEN('Détail des projets'!B169)=0,\"\",'Détail des projets'!B169)","v":"Conversion du système de chauffage au mazout léger vers un système électrique - École des Trois-Temps"},{"$f":"IF(LEN('Détail des projets'!C169)=0,\"\",'Détail des projets'!C169)","v":"Centre de services scolaire des Patriotes"},{"$f":"IF(LEN('Détail des projets'!G169)=0,\"\",'Détail des projets'!G169)","v":"16-Montérégie"},{"$f":"IF(LEN('Détail des projets'!K169)=0,\"\",'Détail des projets'!K169)","v":105646.2},84.516956055999998,"À la fin du projet (suite au dernier versement)",62.500002916574509,"QC-Québec","Oui",20,0,84.516956055999998,"Non","Oui",0,null,0,null,0,null,11.7769528930492,null,84.0551147660765,null,84.0551147660765,null,84.286035411038199,null,84.0551147660765,null,84.0551147660765]
[null,{"$f":"IF(LEN('Détail des projets'!B170)=0,\"\",'Détail des projets'!B170)","v":"Conversion du système de chauffage au mazout léger vers un système électrique - École de Salaberry"},{"$f":"IF(LEN('Détail des projets'!C170)=0,\"\",'Détail des projets'!C170)","v":"Centre de services scolaire des Patriotes"},{"$f":"IF(LEN('Détail des projets'!G170)=0,\"\",'Détail des projets'!G170)","v":"16-Montérégie"},{"$f":"IF(LEN('Détail des projets'!K170)=0,\"\",'Détail des projets'!K170)","v":171239.54},138.40869754400001,"À la fin du projet (suite au dernier versement)",61.78214766474224,"QC-Québec","Oui",20,0,138.583350104,"Non","Oui",0,null,0,null,0,null,0,null,121.923056648874,null,137.826064037858,null,138.204707070929,null,137.826064037858,null,137.826064037858]
[null,{"$f":"IF(LEN('Détail des projets'!B171)=0,\"\",'Détail des projets'!B171)","v":"Conversion du système de chauffage au mazout léger vers un système électrique - École Du Carrousel"},{"$f":"IF(LEN('Détail des projets'!C171)=0,\"\",'Détail des projets'!C171)","v":"Centre de services scolaire des Patriotes"},{"$f":"IF(LEN('Détail des projets'!G171)=0,\"\",'Détail des projets'!G171)","v":"16-Montérégie"},{"$f":"IF(LEN('Détail des projets'!K171)=0,\"\",'Détail des projets'!K171)","v":120656.56},97.163741704000003,"À la fin du projet (suite au dernier versement)",388.24746910830493,"QC-Québec","Oui",20,15.53587836,2.7367759999999998E-3,"Non","Oui",0,null,0,null,0,null,0,null,0,null,5.7739116352349704,null,15.496159903388,null,15.453704670776,null,15.453704670776]
[null,{"$f":"IF(LEN('Détail des projets'!B172)=0,\"\",'Détail des projets'!B172)","v":"Conversion du système de chauffage au mazout léger vers un système électrique - École St-Charles"},{"$f":"IF(LEN('Détail des projets'!C172)=0,\"\",'Détail des projets'!C172)","v":"Centre de services scolaire des Patriotes"},{"$f":"IF(LEN('Détail des projets'!G172)=0,\"\",'Détail des projets'!G172)","v":"16-Montérégie"},{"$f":"IF(LEN('Détail des projets'!K172)=0,\"\",'Détail des projets'!K172)","v":42810.58},34.248463463999997,"À la fin du projet (suite au dernier versement)",62.500000978146083,"QC-Québec","Oui",20,0,34.248463463999997,"Non","Oui",0,null,0,null,0,null,0,null,18.5278572838033,null,34.0613133904262,null,34.154888427213102,null,34.0613133904262,null,34.0613133904262]
[null,{"$f":"IF(LEN('Détail des projets'!B173)=0,\"\",'Détail des projets'!B173)","v":"Projet d’efficacité énergétique - Le Pavillon Saint-Basile de l’école Jacques Rocheleau"},{"$f":"IF(LEN('Détail des projets'!C173)=0,\"\",'Détail des projets'!C173)","v":"Centre de services scolaire des Patriotes"},{"$f":"IF(LEN('Détail des projets'!G173)=0,\"\",'Détail des projets'!G173)","v":"16-Montérégie"},{"$f":"IF(LEN('Détail des projets'!K173)=0,\"\",'Détail des projets'!K173)","v":65421.98},52.337580535999997,"À la fin du projet (suite au dernier versement)",458.22064603100057,"QC-Québec","Oui",20,0,7.1386984160000004,"Non","Oui",0,null,0,null,0,null,0,null,2.16501509337705,null,7.0996891350382496,null,7.1191937755191299,null,7.0996891350382496,null,7.0996891350382496]
[null,{"$f":"IF(LEN('Détail des projets'!B174)=0,\"\",'Détail des projets'!B174)","v":"Conversion du système de chauffage au mazout léger vers un système électrique - École du Parchemin"},{"$f":"IF(LEN('Détail des projets'!C174)=0,\"\",'Détail des projets'!C174)","v":"Centre de services scolaire des Patriotes"},{"$f":"IF(LEN('Détail des projets'!G174)=0,\"\",'Détail des projets'!G174)","v":"16-Montérégie"},{"$f":"IF(LEN('Détail des projets'!K174)=0,\"\",'Détail des projets'!K174)","v":61798.820000000007},49.439058631999998,"À la fin du projet (suite au dernier versement)",62.49999667267128,"QC-Québec","Oui",20,0,49.439058631999998,"Non","Oui",0,null,0,null,0,null,0,null,27.5561966145574,null,49.168899841661201,null,49.3039792368306,null,49.168899841661201,null,49.168899841661201]
[null,{"$f":"IF(LEN('Détail des projets'!B175)=0,\"\",'Détail des projets'!B175)","v":"Conversion du système de chauffage au mazout léger vers un système électrique - École François-Williams"},{"$f":"IF(LEN('Détail des projets'!C175)=0,\"\",'Détail des projets'!C175)","v":"Centre de services scolaire des Patriotes"},{"$f":"IF(LEN('Détail des projets'!G175)=0,\"\",'Détail des projets'!G175)","v":"16-Montérégie"},{"$f":"IF(LEN('Détail des projets'!K175)=0,\"\",'Détail des projets'!K175)","v":98089.11},78.471288631999997,"À la fin du projet (suite au dernier versement)",62.468020343908748,"QC-Québec","Oui",20,0,78.511460311999997,"Non","Oui",0,null,0,null,0,null,0,null,43.760486075541003,null,78.082435938710404,null,78.2969481253552,null,78.082435938710404,null,78.082435938710404]
[null,{"$f":"IF(LEN('Détail des projets'!B176)=0,\"\",'Détail des projets'!B176)","v":"Conversion du système de chauffage au mazout léger vers un système électrique - École Georges-Étienne-Cartier"},{"$f":"IF(LEN('Détail des projets'!C176)=0,\"\",'Détail des projets'!C176)","v":"Centre de services scolaire des Patriotes"},{"$f":"IF(LEN('Détail des projets'!G176)=0,\"\",'Détail des projets'!G176)","v":"16-Montérégie"},{"$f":"IF(LEN('Détail des projets'!K176)=0,\"\",'Détail des projets'!K176)","v":76192.61},60.954089287999999,"À la fin du projet (suite au dernier versement)",62.499998679333892,"QC-Québec","Oui",20,0,60.954089287999999,"Non","Oui",0,null,0,null,0,null,0,null,32.9751630574426,null,60.621006832874301,null,60.787548060437103,null,60.621006832874301,null,60.621006832874301]
[null,{"$f":"IF(LEN('Détail des projets'!B177)=0,\"\",'Détail des projets'!B177)","v":"Projet d'efficacité énergétique - École d'éducation internationale"},{"$f":"IF(LEN('Détail des projets'!C177)=0,\"\",'Détail des projets'!C177)","v":"Centre de services scolaire des Patriotes"},{"$f":"IF(LEN('Détail des projets'!G177)=0,\"\",'Détail des projets'!G177)","v":"16-Montérégie"},{"$f":"IF(LEN('Détail des projets'!K177)=0,\"\",'Détail des projets'!K177)","v":210125.64},178.29626712000001,"À la fin du projet (suite au dernier versement)",63.685065269800063,"QC-Québec","Oui",20,164.97246183999999,null,"Non","Oui",0,null,0,null,0,null,0,null,0,null,75.274320019890695,null,164.521717408743,null,164.07097297748601,null,164.07097297748601]
[null,{"$f":"IF(LEN('Détail des projets'!B178)=0,\"\",'Détail des projets'!B178)","v":"Remplacement des chaudières au mazout léger par des systèmes électriques zonés"},{"$f":"IF(LEN('Détail des projets'!C178)=0,\"\",'Détail des projets'!C178)","v":"Fabrique Saint-André-Avellin"},{"$f":"IF(LEN('Détail des projets'!G178)=0,\"\",'Détail des projets'!G178)","v":"07-Outaouais"},{"$f":"IF(LEN('Détail des projets'!K178)=0,\"\",'Détail des projets'!K178)","v":84386.84},67.509471360000006,"À la fin du projet (suite au dernier versement)",49.963185836154132,"QC-Québec","Oui",25,0,67.55921472,"Non","Oui",0,null,0,null,0,null,23.6272663501639,null,67.190038683278701,null,67.190038683278701,null,67.374626701639301,null,67.190038683278701,null,67.190038683278701]
[null,{"$f":"IF(LEN('Détail des projets'!B179)=0,\"\",'Détail des projets'!B179)","v":"Réfrigération CO2 avec récupération de chaleur (88734)"},{"$f":"IF(LEN('Détail des projets'!C179)=0,\"\",'Détail des projets'!C179)","v":"Sobeys Capital Incorporée"},{"$f":"IF(LEN('Détail des projets'!G179)=0,\"\",'Détail des projets'!G179)","v":"03-Capitale-Nationale"},{"$f":"IF(LEN('Détail des projets'!K179)=0,\"\",'Détail des projets'!K179)","v":0},178.52203573200001,"À la fin du projet (suite au dernier versement)",0,"QC-Québec","Oui",15,178.52203573200001,null,"Non","Oui",0,null,0,null,0,null,94.138669115508193,null,177.54650548209801,null,177.54650548209801,null,178.034270607049,null,177.54650548209801,null,177.54650548209801]
[null,{"$f":"IF(LEN('Détail des projets'!B180)=0,\"\",'Détail des projets'!B180)","v":"Efficacité énergétique au 1212, rue Des Pins"},{"$f":"IF(LEN('Détail des projets'!C180)=0,\"\",'Détail des projets'!C180)","v":"Timbercreek Asset Management inc."},{"$f":"IF(LEN('Détail des projets'!G180)=0,\"\",'Détail des projets'!G180)","v":"06-Montréal"},{"$f":"IF(LEN('Détail des projets'!K180)=0,\"\",'Détail des projets'!K180)","v":505431.41000000003},404.34513012000002,"À la fin du projet (suite au dernier versement)",24.69150458618369,"QC-Québec","Oui",37,553.23920543999998,null,"Non","Oui",0,null,0,null,0,null,0,null,458.00950614295101,null,550.21604038295095,null,551.72762291147501,null,550.21604038295095,null,550.21604038295095]
[null,{"$f":"IF(LEN('Détail des projets'!B181)=0,\"\",'Détail des projets'!B181)","v":"Projet d’efficacité énergétique du CSSS Source Nord"},{"$f":"IF(LEN('Détail des projets'!C181)=0,\"\",'Détail des projets'!C181)","v":"CIUSSS de la Capitale-Nationale"},{"$f":"IF(LEN('Détail des projets'!G181)=0,\"\",'Détail des projets'!G181)","v":"03-Capitale-Nationale"},{"$f":"IF(LEN('Détail des projets'!K181)=0,\"\",'Détail des projets'!K181)","v":329179.82},280.42808890399999,"À la fin du projet (suite au dernier versement)",58.692376588689257,"QC-Québec","Oui",20,280.42808890399999,null,"Non","Oui",0,null,0,null,0,null,0,null,87.346453920917995,null,278.895694975563,null,279.66189193978101,null,278.895694975563,null,278.895694975563]
[null,{"$f":"IF(LEN('Détail des projets'!B182)=0,\"\",'Détail des projets'!B182)","v":"Projet d’efficacité énergétique – Hôpital Chauveau"},{"$f":"IF(LEN('Détail des projets'!C182)=0,\"\",'Détail des projets'!C182)","v":"CIUSSS de la Capitale-Nationale"},{"$f":"IF(LEN('Détail des projets'!G182)=0,\"\",'Détail des projets'!G182)","v":"03-Capitale-Nationale"},{"$f":"IF(LEN('Détail des projets'!K182)=0,\"\",'Détail des projets'!K182)","v":108631.53},86.905225334414496,"À la fin du projet (suite au dernier versement)",62.499459981686861,"QC-Québec","Oui",20,39.692723880000003,47.213251013087401,"Non","Oui",0,null,0,null,0,null,0,null,37.754234994538002,null,86.431078855420296,null,86.6685268742538,null,86.431078855420296,null,86.431078855420296]
[null,{"$f":"IF(LEN('Détail des projets'!B183)=0,\"\",'Détail des projets'!B183)","v":"Projet d'efficacité énergétique - Manoir Manrese"},{"$f":"IF(LEN('Détail des projets'!C183)=0,\"\",'Détail des projets'!C183)","v":"9307-1306 Québec inc."},{"$f":"IF(LEN('Détail des projets'!G183)=0,\"\",'Détail des projets'!G183)","v":"03-Capitale-Nationale"},{"$f":"IF(LEN('Détail des projets'!K183)=0,\"\",'Détail des projets'!K183)","v":64604.84},88.595875370939297,"À la fin du projet (suite au dernier versement)",54.738958727117392,"QC-Québec","Oui",13.3215579986572,88.595875370939297,null,"Non","Oui",0,null,0,null,0,null,21.543805759600001,null,88.111744904431404,null,88.111744904431404,null,88.3538101376854,null,88.111744904431404,null,88.111744904431404]
[null,{"$f":"IF(LEN('Détail des projets'!B184)=0,\"\",'Détail des projets'!B184)","v":"C5525-STJC Implantation du produit écoAZUR"},{"$f":"IF(LEN('Détail des projets'!C184)=0,\"\",'Détail des projets'!C184)","v":"Le STJC inc."},{"$f":"IF(LEN('Détail des projets'!G184)=0,\"\",'Détail des projets'!G184)","v":"12-Chaudière-Appalaches"},{"$f":"IF(LEN('Détail des projets'!K184)=0,\"\",'Détail des projets'!K184)","v":24517.7},20.67432552,"À la fin du projet (suite au dernier versement)",118.59008399709091,"QC-Québec","Oui",10,20.67432552,null,"Non","Oui",0,null,0,null,0,null,0,null,12.370702975082001,null,20.561351063606601,null,20.617838291803299,null,20.561351063606601,null,20.561351063606601]
[null,{"$f":"IF(LEN('Détail des projets'!B185)=0,\"\",'Détail des projets'!B185)","v":"C5527-SHER Implantation du produit écoAZUR"},{"$f":"IF(LEN('Détail des projets'!C185)=0,\"\",'Détail des projets'!C185)","v":"Restaurant Normandin (2014) inc."},{"$f":"IF(LEN('Détail des projets'!G185)=0,\"\",'Détail des projets'!G185)","v":"05-Estrie"},{"$f":"IF(LEN('Détail des projets'!K185)=0,\"\",'Détail des projets'!K185)","v":34648.21},27.71856876,"À la fin du projet (suite au dernier versement)",108.59502852766084,"QC-Québec","Oui",10,31.905889680000001,null,"Non","Oui",0,null,0,null,0,null,13.599231666885199,null,31.7315405560656,null,31.7315405560656,null,31.818715118032799,null,31.7315405560656,null,31.7315405560656]
[null,{"$f":"IF(LEN('Détail des projets'!B186)=0,\"\",'Détail des projets'!B186)","v":"C5528-SJPJ Implantation du produit écoAZUR"},{"$f":"IF(LEN('Détail des projets'!C186)=0,\"\",'Détail des projets'!C186)","v":"Le Port-Jolien (2014) inc."},{"$f":"IF(LEN('Détail des projets'!G186)=0,\"\",'Détail des projets'!G186)","v":"12-Chaudière-Appalaches"},{"$f":"IF(LEN('Détail des projets'!K186)=0,\"\",'Détail des projets'!K186)","v":40069.85},32.055880232,"À la fin du projet (suite au dernier versement)",124.99999909532978,"QC-Québec","Oui",10,32.055880232,null,"Non","Oui",0,null,0,null,0,null,2.45236242212022,null,31.880711487562799,null,31.880711487562799,null,31.968295859781399,null,31.880711487562799,null,31.880711487562799]
[null,{"$f":"IF(LEN('Détail des projets'!B187)=0,\"\",'Détail des projets'!B187)","v":"C5533-ROCHE Implantation du produit écoAZUR"},{"$f":"IF(LEN('Détail des projets'!C187)=0,\"\",'Détail des projets'!C187)","v":"Restaurant La rochette (2014) inc."},{"$f":"IF(LEN('Détail des projets'!G187)=0,\"\",'Détail des projets'!G187)","v":"03-Capitale-Nationale"},{"$f":"IF(LEN('Détail des projets'!K187)=0,\"\",'Détail des projets'!K187)","v":37736.92},32.055880232,"À la fin du projet (suite au dernier versement)",117.62595390717708,"QC-Québec","Oui",10,32.082137271999997,null,"Non","Oui",0,null,0,null,0,null,8.6779551637377104,null,31.906825046469901,null,31.906825046469901,null,31.994481159235001,null,31.906825046469901,null,31.906825046469901]
[null,{"$f":"IF(LEN('Détail des projets'!B188)=0,\"\",'Détail des projets'!B188)","v":"C5534-LVIS Implantation du produit écoAZUR"},{"$f":"IF(LEN('Détail des projets'!C188)=0,\"\",'Détail des projets'!C188)","v":"Restaurant Lévisien inc."},{"$f":"IF(LEN('Détail des projets'!G188)=0,\"\",'Détail des projets'!G188)","v":"12-Chaudière-Appalaches"},{"$f":"IF(LEN('Détail des projets'!K188)=0,\"\",'Détail des projets'!K188)","v":40069.85},32.055880232,"À la fin du projet (suite au dernier versement)",123.24340043969626,"QC-Québec","Oui",10,32.512775415999997,null,"Non","Oui",0,null,0,null,0,null,10.8375918053333,null,32.335109976568297,null,32.335109976568297,null,32.4239426962842,null,32.335109976568297,null,32.335109976568297]
[null,{"$f":"IF(LEN('Détail des projets'!B189)=0,\"\",'Détail des projets'!B189)","v":"C5535-MONY Implantation du produit écoAZUR"},{"$f":"IF(LEN('Détail des projets'!C189)=0,\"\",'Détail des projets'!C189)","v":"Restaurant Montmagny (2014) inc."},{"$f":"IF(LEN('Détail des projets'!G189)=0,\"\",'Détail des projets'!G189)","v":"12-Chaudière-Appalaches"},{"$f":"IF(LEN('Détail des projets'!K189)=0,\"\",'Détail des projets'!K189)","v":40069.85},32.055880232,"À la fin du projet (suite au dernier versement)",99.476387404354853,"QC-Québec","Oui",10,40.280765160000001,null,"Non","Oui",0,null,0,null,0,null,13.5369784554098,null,40.060651689180297,null,40.060651689180297,null,40.170708424590202,null,40.060651689180297,null,40.060651689180297]
[null,{"$f":"IF(LEN('Détail des projets'!B190)=0,\"\",'Détail des projets'!B190)","v":"C5543-HRIV Implantation du produit écoAZUR"},{"$f":"IF(LEN('Détail des projets'!C190)=0,\"\",'Détail des projets'!C190)","v":"Restaurant Henri IV (2014) inc."},{"$f":"IF(LEN('Détail des projets'!G190)=0,\"\",'Détail des projets'!G190)","v":"03-Capitale-Nationale"},{"$f":"IF(LEN('Détail des projets'!K190)=0,\"\",'Détail des projets'!K190)","v":11676},9.3407980800000008,"À la fin du projet (suite au dernier versement)",78.935397029295132,"QC-Québec","Oui",10,14.791843,null,"Non","Oui",0,null,0,null,0,null,0,null,7.2342620136612004,null,14.711013256830601,null,14.7514281284153,null,14.711013256830601,null,14.711013256830601]
[null,{"$f":"IF(LEN('Détail des projets'!B191)=0,\"\",'Détail des projets'!B191)","v":"C5542-DVAL Implantation du produit écoAZUR"},{"$f":"IF(LEN('Détail des projets'!C191)=0,\"\",'Détail des projets'!C191)","v":"Restaurant Normandin Ste-Foy (2014) inc."},{"$f":"IF(LEN('Détail des projets'!G191)=0,\"\",'Détail des projets'!G191)","v":"03-Capitale-Nationale"},{"$f":"IF(LEN('Détail des projets'!K191)=0,\"\",'Détail des projets'!K191)","v":9775},9.3407980800000008,"À la fin du projet (suite au dernier versement)",87.550172697664138,"QC-Québec","Oui",10,11.16502652,null,"Non","Oui",0,null,0,null,0,null,0,null,6.1316129249180298,null,11.104015446120201,null,11.134520983060099,null,11.104015446120201,null,11.104015446120201]
[null,{"$f":"IF(LEN('Détail des projets'!B192)=0,\"\",'Détail des projets'!B192)","v":"C5529-RIKI Implantation du produit écoAZUR"},{"$f":"IF(LEN('Détail des projets'!C192)=0,\"\",'Détail des projets'!C192)","v":"Le Rimouskais (2014) inc."},{"$f":"IF(LEN('Détail des projets'!G192)=0,\"\",'Détail des projets'!G192)","v":"01-Bas-Saint-Laurent"},{"$f":"IF(LEN('Détail des projets'!K192)=0,\"\",'Détail des projets'!K192)","v":40069.85},32.055880232,"À la fin du projet (suite au dernier versement)",112.92024355638301,"QC-Québec","Oui",10,35.485089952000003,null,"Non","Oui",0,null,0,null,0,null,0,null,29.4739544956503,null,35.291182356633897,null,35.388136154316904,null,35.291182356633897,null,35.291182356633897]
[null,{"$f":"IF(LEN('Détail des projets'!B193)=0,\"\",'Détail des projets'!B193)","v":"C5524-STGO Implantation du produit écoAZUR"},{"$f":"IF(LEN('Détail des projets'!C193)=0,\"\",'Détail des projets'!C193)","v":"Restaurant St-Georges (2014) inc."},{"$f":"IF(LEN('Détail des projets'!G193)=0,\"\",'Détail des projets'!G193)","v":"12-Chaudière-Appalaches"},{"$f":"IF(LEN('Détail des projets'!K193)=0,\"\",'Détail des projets'!K193)","v":34648.21},27.71856876,"À la fin du projet (suite au dernier versement)",110.99946461984247,"QC-Québec","Oui",10,31.214754159999998,null,"Non","Oui",0,null,0,null,0,null,0,null,9.3814834907103801,null,31.044181732896199,null,31.129467946448099,null,31.044181732896199,null,31.044181732896199]
[null,{"$f":"IF(LEN('Détail des projets'!B194)=0,\"\",'Détail des projets'!B194)","v":"C5526-CITÉ Implantation du produit écoAZUR"},{"$f":"IF(LEN('Détail des projets'!C194)=0,\"\",'Détail des projets'!C194)","v":"Restaurant Normandin (2014) inc."},{"$f":"IF(LEN('Détail des projets'!G194)=0,\"\",'Détail des projets'!G194)","v":"03-Capitale-Nationale"},{"$f":"IF(LEN('Détail des projets'!K194)=0,\"\",'Détail des projets'!K194)","v":34648.21},27.71856876,"À la fin du projet (suite au dernier versement)",113.49668284369815,"QC-Québec","Oui",10,30.52794948,null,"Non","Oui",0,null,0,null,0,null,13.7626001754098,null,30.361130083934398,null,30.361130083934398,null,30.444539781967201,null,30.361130083934398,null,30.361130083934398]
[null,{"$f":"IF(LEN('Détail des projets'!B195)=0,\"\",'Détail des projets'!B195)","v":"C5530-RVLOU Implantation du produit écoAZUR"},{"$f":"IF(LEN('Détail des projets'!C195)=0,\"\",'Détail des projets'!C195)","v":"Le Riveloup (2014) inc."},{"$f":"IF(LEN('Détail des projets'!G195)=0,\"\",'Détail des projets'!G195)","v":"01-Bas-Saint-Laurent"},{"$f":"IF(LEN('Détail des projets'!K195)=0,\"\",'Détail des projets'!K195)","v":40069.85},32.055880232,"À la fin du projet (suite au dernier versement)",125.33886036714469,"QC-Québec","Oui",10,31.969215200000001,null,"Non","Oui",0,null,0,null,0,null,14.3250035322404,null,31.794520034972699,null,31.794520034972699,null,31.8818676174863,null,31.794520034972699,null,31.794520034972699]
[null,{"$f":"IF(LEN('Détail des projets'!B196)=0,\"\",'Détail des projets'!B196)","v":"C5531-STJU Implantation du produit écoAZUR"},{"$f":"IF(LEN('Détail des projets'!C196)=0,\"\",'Détail des projets'!C196)","v":"Restaurant le STJU inc."},{"$f":"IF(LEN('Détail des projets'!G196)=0,\"\",'Détail des projets'!G196)","v":"16-Montérégie"},{"$f":"IF(LEN('Détail des projets'!K196)=0,\"\",'Détail des projets'!K196)","v":34648.21},27.71856876,"À la fin du projet (suite au dernier versement)",100.77746738756736,"QC-Québec","Oui",10,34.380909639999999,null,"Non","Oui",0,null,0,null,0,null,5.3544039603278701,null,34.193035816830601,null,34.193035816830601,null,34.2869727284153,null,34.193035816830601,null,34.193035816830601]
[null,{"$f":"IF(LEN('Détail des projets'!B197)=0,\"\",'Détail des projets'!B197)","v":"C5532-STCA Implantation du produit écoAZUR"},{"$f":"IF(LEN('Détail des projets'!C197)=0,\"\",'Détail des projets'!C197)","v":"Restaurant BF (2014) inc."},{"$f":"IF(LEN('Détail des projets'!G197)=0,\"\",'Détail des projets'!G197)","v":"03-Capitale-Nationale"},{"$f":"IF(LEN('Détail des projets'!K197)=0,\"\",'Détail des projets'!K197)","v":40069.85},32.055880232,"À la fin du projet (suite au dernier versement)",121.77648443147758,"QC-Québec","Oui",10,32.904423368000003,null,"Non","Oui",0,null,0,null,0,null,4.1355286200218604,null,32.724617775825102,null,32.724617775825102,null,32.814520571912603,null,32.724617775825102,null,32.724617775825102]
[null,{"$f":"IF(LEN('Détail des projets'!B198)=0,\"\",'Détail des projets'!B198)","v":"C5541-VBEL Implantation du produit écoAZUR"},{"$f":"IF(LEN('Détail des projets'!C198)=0,\"\",'Détail des projets'!C198)","v":"Restaurant VB (2014) inc."},{"$f":"IF(LEN('Détail des projets'!G198)=0,\"\",'Détail des projets'!G198)","v":"03-Capitale-Nationale"},{"$f":"IF(LEN('Détail des projets'!K198)=0,\"\",'Détail des projets'!K198)","v":11676},9.3407980800000008,"À la fin du projet (suite au dernier versement)",92.839237124817487,"QC-Québec","Oui",10,12.576579000000001,null,"Non","Oui",0,null,0,null,0,null,3.7454839098360702,null,12.507854524590201,null,12.507854524590201,null,12.5422167622951,null,12.507854524590201,null,12.507854524590201]
[null,{"$f":"IF(LEN('Détail des projets'!B199)=0,\"\",'Détail des projets'!B199)","v":"C5539-GRBY Implantation du produit écoAZUR"},{"$f":"IF(LEN('Détail des projets'!C199)=0,\"\",'Détail des projets'!C199)","v":"Restaurant Normandin (2014) inc."},{"$f":"IF(LEN('Détail des projets'!G199)=0,\"\",'Détail des projets'!G199)","v":"05-Estrie"},{"$f":"IF(LEN('Détail des projets'!K199)=0,\"\",'Détail des projets'!K199)","v":24010.13},19.208105639999999,"À la fin du projet (suite au dernier versement)",93.811296715659054,"QC-Québec","Oui",10,25.594071119999999,null,"Non","Oui",0,null,0,null,0,null,0,null,22.866834033442601,null,25.454212807868899,null,25.524141963934401,null,25.454212807868899,null,25.454212807868899]
[null,{"$f":"IF(LEN('Détail des projets'!B200)=0,\"\",'Détail des projets'!B200)","v":"C5538-DCHB Implantation du produit écoAZUR"},{"$f":"IF(LEN('Détail des projets'!C200)=0,\"\",'Détail des projets'!C200)","v":"Restaurant Deschambault (2014) inc."},{"$f":"IF(LEN('Détail des projets'!G200)=0,\"\",'Détail des projets'!G200)","v":"03-Capitale-Nationale"},{"$f":"IF(LEN('Détail des projets'!K200)=0,\"\",'Détail des projets'!K200)","v":40069.85},32.055880232,"À la fin du projet (suite au dernier versement)",114.23132798363341,"QC-Québec","Oui",10,35.077811584000003,null,"Non","Oui",0,null,0,null,0,null,17.6347468072568,null,34.886129553486299,null,34.886129553486299,null,34.981970568743201,null,34.886129553486299,null,34.886129553486299]
[null,{"$f":"IF(LEN('Détail des projets'!B201)=0,\"\",'Détail des projets'!B201)","v":"C5537-STAN Implantation du produit écoAZUR"},{"$f":"IF(LEN('Détail des projets'!C201)=0,\"\",'Détail des projets'!C201)","v":"Le St-Anselme inc."},{"$f":"IF(LEN('Détail des projets'!G201)=0,\"\",'Détail des projets'!G201)","v":"12-Chaudière-Appalaches"},{"$f":"IF(LEN('Détail des projets'!K201)=0,\"\",'Détail des projets'!K201)","v":40069.85},32.055880232,"À la fin du projet (suite au dernier versement)",122.90176704799238,"QC-Québec","Oui",10,32.603152064,null,"Non","Oui",0,null,0,null,0,null,10.244159801530101,null,32.424992763103802,null,32.424992763103802,null,32.514072413551901,null,32.424992763103802,null,32.424992763103802]
[null,{"$f":"IF(LEN('Détail des projets'!B202)=0,\"\",'Détail des projets'!B202)","v":"C5536-MOJO Implantation du produit écoAZUR"},{"$f":"IF(LEN('Détail des projets'!C202)=0,\"\",'Détail des projets'!C202)","v":"Restaurant le Mont-Jolien inc."},{"$f":"IF(LEN('Détail des projets'!G202)=0,\"\",'Détail des projets'!G202)","v":"01-Bas-Saint-Laurent"},{"$f":"IF(LEN('Détail des projets'!K202)=0,\"\",'Détail des projets'!K202)","v":40069.85},32.055880232,"À la fin du projet (suite au dernier versement)",112.12198560071721,"QC-Québec","Oui",10,35.737727784,null,"Non","Oui",0,null,0,null,0,null,12.0102199929836,null,35.542439654032798,null,35.542439654032798,null,35.640083719016403,null,35.542439654032798,null,35.542439654032798]
[null,{"$f":"IF(LEN('Détail des projets'!B203)=0,\"\",'Détail des projets'!B203)","v":"C5544-ORSV Implantation du produit écoAZUR"},{"$f":"IF(LEN('Détail des projets'!C203)=0,\"\",'Détail des projets'!C203)","v":"Restaurant BDJ (2014) inc."},{"$f":"IF(LEN('Détail des projets'!G203)=0,\"\",'Détail des projets'!G203)","v":"03-Capitale-Nationale"},{"$f":"IF(LEN('Détail des projets'!K203)=0,\"\",'Détail des projets'!K203)","v":9775},9.3407980800000008,"À la fin du projet (suite au dernier versement)",75.050054585920108,"QC-Québec","Oui",10,13.02464076,null,"Non","Oui",0,null,0,null,0,null,0,null,6.4055610295081999,null,12.9534678596721,null,12.989054309836099,null,12.9534678596721,null,12.9534678596721]
[null,{"$f":"IF(LEN('Détail des projets'!B204)=0,\"\",'Détail des projets'!B204)","v":"C5545-JGAU Implantation du produit écoAZUR"},{"$f":"IF(LEN('Détail des projets'!C204)=0,\"\",'Détail des projets'!C204)","v":"Le Gauvinois (2014) inc."},{"$f":"IF(LEN('Détail des projets'!G204)=0,\"\",'Détail des projets'!G204)","v":"03-Capitale-Nationale"},{"$f":"IF(LEN('Détail des projets'!K204)=0,\"\",'Détail des projets'!K204)","v":9775},9.3407980800000008,"À la fin du projet (suite au dernier versement)",101.50805939099793,"QC-Québec","Oui",10,9.6297772399999992,null,"Non","Oui",0,null,0,null,0,null,0,null,4.7359560196721304,null,9.57715550644809,null,9.6034663732240393,null,9.57715550644809,null,9.57715550644809]
[null,{"$f":"IF(LEN('Détail des projets'!B205)=0,\"\",'Détail des projets'!B205)","v":"C5546-BSTA Implantation du produit écoAZUR"},{"$f":"IF(LEN('Détail des projets'!C205)=0,\"\",'Détail des projets'!C205)","v":"Le Beauport Ste-Anne (2014) inc."},{"$f":"IF(LEN('Détail des projets'!G205)=0,\"\",'Détail des projets'!G205)","v":"03-Capitale-Nationale"},{"$f":"IF(LEN('Détail des projets'!K205)=0,\"\",'Détail des projets'!K205)","v":9775},9.3407980800000008,"À la fin du projet (suite au dernier versement)",74.585718566809177,"QC-Québec","Oui",10,13.10572612,null,"Non","Oui",0,null,0,null,0,null,0,null,10.7782064538798,null,13.0341101302732,null,13.069918125136599,null,13.0341101302732,null,13.0341101302732]
[null,{"$f":"IF(LEN('Détail des projets'!B206)=0,\"\",'Détail des projets'!B206)","v":"C5547-TRIO Implantation du produit écoAZUR"},{"$f":"IF(LEN('Détail des projets'!C206)=0,\"\",'Détail des projets'!C206)","v":"Restaurant Normandin (2014) inc."},{"$f":"IF(LEN('Détail des projets'!G206)=0,\"\",'Détail des projets'!G206)","v":"04-Mauricie"},{"$f":"IF(LEN('Détail des projets'!K206)=0,\"\",'Détail des projets'!K206)","v":34648.21},27.71856876,"À la fin du projet (suite au dernier versement)",143.65461184075033,"QC-Québec","Oui",10,24.119107320000001,null,"Non","Oui",0,null,0,null,0,null,3.8221536190163898,null,23.987308919344301,null,23.987308919344301,null,24.053208119672099,null,23.987308919344301,null,23.987308919344301]
[null,{"$f":"IF(LEN('Détail des projets'!B207)=0,\"\",'Détail des projets'!B207)","v":"Ajout de chauffage électrique radiant"},{"$f":"IF(LEN('Détail des projets'!C207)=0,\"\",'Détail des projets'!C207)","v":"Alimentation Sébastien Blackburn inc."},{"$f":"IF(LEN('Détail des projets'!G207)=0,\"\",'Détail des projets'!G207)","v":"02-Saguenay--Lac-Saint-Jean"},{"$f":"IF(LEN('Détail des projets'!K207)=0,\"\",'Détail des projets'!K207)","v":23776.14},19.020915200000001,"À la fin du projet (suite au dernier versement)",33.653840492062443,"QC-Québec","Oui",20,0,35.324556800000003,"Non","Oui",0,null,0,null,0,null,29.7266762142077,null,35.131526434972699,null,35.131526434972699,null,35.228041617486298,null,35.131526434972699,null,35.131526434972699]
[null,{"$f":"IF(LEN('Détail des projets'!B208)=0,\"\",'Détail des projets'!B208)","v":"C5540-STHY Implantation du produit écoAZUR"},{"$f":"IF(LEN('Détail des projets'!C208)=0,\"\",'Détail des projets'!C208)","v":"Restaurant Normandin (2014) inc."},{"$f":"IF(LEN('Détail des projets'!G208)=0,\"\",'Détail des projets'!G208)","v":"16-Montérégie"},{"$f":"IF(LEN('Détail des projets'!K208)=0,\"\",'Détail des projets'!K208)","v":24010.13},19.208105639999999,"À la fin du projet (suite au dernier versement)",105.36274345187304,"QC-Québec","Oui",10,22.788064559999999,null,"Non","Oui",0,null,0,null,0,null,0,null,20.359828172459,null,22.663539617049199,null,22.725802088524599,null,22.663539617049199,null,22.663539617049199]
[null,{"$f":"IF(LEN('Détail des projets'!B209)=0,\"\",'Détail des projets'!B209)","v":"Récupération chaleur résiduelle centrale thermique"},{"$f":"IF(LEN('Détail des projets'!C209)=0,\"\",'Détail des projets'!C209)","v":"Centre Intégré Santé Service Sociaux des Îles"},{"$f":"IF(LEN('Détail des projets'!G209)=0,\"\",'Détail des projets'!G209)","v":"11-Gaspésie--Îles-de-la-Madeleine"},{"$f":"IF(LEN('Détail des projets'!K209)=0,\"\",'Détail des projets'!K209)","v":1944282.88},1555.42630559553,"À la fin du projet (suite au dernier versement)",47.171555381873191,"QC-Québec","Oui",25,1648.6909233839999,null,"Non","Oui",0,null,0,null,0,null,0,null,144.147840295869,null,1639.68168336551,null,1644.18630337475,null,1639.68168336551,null,1639.68168336551]
[null,{"$f":"IF(LEN('Détail des projets'!B210)=0,\"\",'Détail des projets'!B210)","v":"Réfrigération CO2 avec récupération de chaleur (8182)"},{"$f":"IF(LEN('Détail des projets'!C210)=0,\"\",'Détail des projets'!C210)","v":"Sobeys Capital Incorporée"},{"$f":"IF(LEN('Détail des projets'!G210)=0,\"\",'Détail des projets'!G210)","v":"02-Saguenay--Lac-Saint-Jean"},{"$f":"IF(LEN('Détail des projets'!K210)=0,\"\",'Détail des projets'!K210)","v":0},0,"À la fin du projet (suite au dernier versement)",0,"QC-Québec","Oui",15,1.1013980400000001,null,"Non","Oui",0,null,0,null,0,null,0.44838335508196703,null,1.0953794714754099,null,1.0953794714754099,null,1.0983887557377101,null,1.0953794714754099,null,1.0953794714754099]
[null,{"$f":"IF(LEN('Détail des projets'!B211)=0,\"\",'Détail des projets'!B211)","v":"Agrandissement du 655, Pierre-Bertrand"},{"$f":"IF(LEN('Détail des projets'!C211)=0,\"\",'Détail des projets'!C211)","v":"Groleau Développement immobilier inc."},{"$f":"IF(LEN('Détail des projets'!G211)=0,\"\",'Détail des projets'!G211)","v":"03-Capitale-Nationale"},{"$f":"IF(LEN('Détail des projets'!K211)=0,\"\",'Détail des projets'!K211)","v":5900},0,"À la fin du projet (suite au dernier versement)",0,"QC-Québec","Oui",0,0,null,"Non","Oui"]
[null,{"$f":"IF(LEN('Détail des projets'!B212)=0,\"\",'Détail des projets'!B212)","v":"Agrandissement du 655, Pierre-Bertrand"},{"$f":"IF(LEN('Détail des projets'!C212)=0,\"\",'Détail des projets'!C212)","v":"Groleau Développement immobilier inc."},{"$f":"IF(LEN('Détail des projets'!G212)=0,\"\",'Détail des projets'!G212)","v":"03-Capitale-Nationale"},{"$f":"IF(LEN('Détail des projets'!K212)=0,\"\",'Détail des projets'!K212)","v":79546.87},16.18354892,"À la fin du projet (suite au dernier versement)",50.000000125712042,"QC-Québec","Oui",25,63.63749584,null,"Non","Oui",0,null,0,null,0,null,0,null,62.420385263825203,null,63.289749961092902,null,63.463622900546497,null,63.289749961092902,null,63.289749961092902]
[null,{"$f":"IF(LEN('Détail des projets'!B213)=0,\"\",'Détail des projets'!B213)","v":"Chaufferie de l'école du Parchemin"},{"$f":"IF(LEN('Détail des projets'!C213)=0,\"\",'Détail des projets'!C213)","v":"Centre de services scolaire des Hauts-Cantons"},{"$f":"IF(LEN('Détail des projets'!G213)=0,\"\",'Détail des projets'!G213)","v":"05-Estrie"},{"$f":"IF(LEN('Détail des projets'!K213)=0,\"\",'Détail des projets'!K213)","v":28339.8},22.67184,"À la fin du projet (suite au dernier versement)",45.805023284220169,"QC-Québec","Oui",25,24.748202679999999,null,"Non","Oui",0,null,0,null,0,null,11.4950668185792,null,24.612966599781402,null,24.612966599781402,null,24.6805846398907,null,24.612966599781402,null,24.612966599781402]
[null,{"$f":"IF(LEN('Détail des projets'!B214)=0,\"\",'Détail des projets'!B214)","v":"Analyse pour définir des projets d'efficacité énergétique portant sur 19 bâtiments"},{"$f":"IF(LEN('Détail des projets'!C214)=0,\"\",'Détail des projets'!C214)","v":"Centre de services scolaire Central Québec"},{"$f":"IF(LEN('Détail des projets'!G214)=0,\"\",'Détail des projets'!G214)","v":"03-Capitale-Nationale"},{"$f":"IF(LEN('Détail des projets'!K214)=0,\"\",'Détail des projets'!K214)","v":58720},0,"À la fin du projet (suite au dernier versement)",0,"QC-Québec","Oui",35.224311828613303,0,null,"Non","Oui"]
[null,{"$f":"IF(LEN('Détail des projets'!B215)=0,\"\",'Détail des projets'!B215)","v":"Hôpital d'Amos - Projet d'efficacité énergétique"},{"$f":"IF(LEN('Détail des projets'!C215)=0,\"\",'Détail des projets'!C215)","v":"Centre intégré de santé et de services sociaux de l'Abitibi-Témiscamingue"},{"$f":"IF(LEN('Détail des projets'!G215)=0,\"\",'Détail des projets'!G215)","v":"08-Abitibi-Témiscamingue"},{"$f":"IF(LEN('Détail des projets'!K215)=0,\"\",'Détail des projets'!K215)","v":217837.82},177.94530084830899,"À la fin du projet (suite au dernier versement)",49.878574678942215,"QC-Québec","Oui",20,218.368128402,null,"Non","Oui",0,null,0,null,0,null,0,null,0,null,47.730738448524598,null,217.77149417139299,null,217.174859940787,null,217.174859940787]
[null,{"$f":"IF(LEN('Détail des projets'!B216)=0,\"\",'Détail des projets'!B216)","v":"CLSC d'Amos - Projet d'efficacité énergétique"},{"$f":"IF(LEN('Détail des projets'!C216)=0,\"\",'Détail des projets'!C216)","v":"Centre intégré de santé et de services sociaux de l'Abitibi-Témiscamingue"},{"$f":"IF(LEN('Détail des projets'!G216)=0,\"\",'Détail des projets'!G216)","v":"08-Abitibi-Témiscamingue"},{"$f":"IF(LEN('Détail des projets'!K216)=0,\"\",'Détail des projets'!K216)","v":169983.47},135.986776049398,"À la fin du projet (suite au dernier versement)",61.502506139565142,"QC-Québec","Oui",20,138.19231171999999,null,"Non","Oui",0,null,0,null,0,null,0,null,0,null,11.3272386655738,null,137.814737097814,null,137.43716247562801,null,137.43716247562801]
[null,{"$f":"IF(LEN('Détail des projets'!B217)=0,\"\",'Détail des projets'!B217)","v":"BRIO St-Pamphile"},{"$f":"IF(LEN('Détail des projets'!C217)=0,\"\",'Détail des projets'!C217)","v":"G. Bourgault Service inc."},{"$f":"IF(LEN('Détail des projets'!G217)=0,\"\",'Détail des projets'!G217)","v":"12-Chaudière-Appalaches"},{"$f":"IF(LEN('Détail des projets'!K217)=0,\"\",'Détail des projets'!K217)","v":79249.84},63.399873808000002,"À la fin du projet (suite au dernier versement)",0,"QC-Québec","Oui",30,0,null,"Non","Oui",0,null,0,null,0,null,0,null,0,null,0,null,0,null,0,null,0]
[null,{"$f":"IF(LEN('Détail des projets'!B218)=0,\"\",'Détail des projets'!B218)","v":"Réfrigération CO2 avec récupération de chaleur"},{"$f":"IF(LEN('Détail des projets'!C218)=0,\"\",'Détail des projets'!C218)","v":"Sobeys Capital Incorporée"},{"$f":"IF(LEN('Détail des projets'!G218)=0,\"\",'Détail des projets'!G218)","v":"08-Abitibi-Témiscamingue"},{"$f":"IF(LEN('Détail des projets'!K218)=0,\"\",'Détail des projets'!K218)","v":0},193.80776812400001,"À la fin du projet (suite au dernier versement)",0,"QC-Québec","Oui",15,193.80776812400001,null,"Non","Oui",0,null,0,null,0,null,79.429413165573806,null,192.748709281792,null,192.748709281792,null,193.278238702896,null,192.748709281792,null,192.748709281792]
[null,{"$f":"IF(LEN('Détail des projets'!B219)=0,\"\",'Détail des projets'!B219)","v":"Réfrigération CO2 avec récupération de chaleur (89056)"},{"$f":"IF(LEN('Détail des projets'!C219)=0,\"\",'Détail des projets'!C219)","v":"Sobeys Capital Incorporée"},{"$f":"IF(LEN('Détail des projets'!G219)=0,\"\",'Détail des projets'!G219)","v":"04-Mauricie"},{"$f":"IF(LEN('Détail des projets'!K219)=0,\"\",'Détail des projets'!K219)","v":0},155.418675044,"À la fin du projet (suite au dernier versement)",0,"QC-Québec","Oui",15,179.96339796000001,null,"Non","Oui",0,null,0,null,0,null,0,null,139.64372956458999,null,178.97999141377099,null,179.471694686885,null,178.97999141377099,null,178.97999141377099]
[null,{"$f":"IF(LEN('Détail des projets'!B220)=0,\"\",'Détail des projets'!B220)","v":"Réfrigération CO2 avec récupération de chaleur (8341)"},{"$f":"IF(LEN('Détail des projets'!C220)=0,\"\",'Détail des projets'!C220)","v":"Sobeys Capital Incorporée"},{"$f":"IF(LEN('Détail des projets'!G220)=0,\"\",'Détail des projets'!G220)","v":"16-Montérégie"},{"$f":"IF(LEN('Détail des projets'!K220)=0,\"\",'Détail des projets'!K220)","v":0},189.67809246799999,"À la fin du projet (suite au dernier versement)",0,"QC-Québec","Oui",15,231.71187276000001,null,"Non","Oui",0,null,0,null,0,null,0,null,122.81995441377001,null,230.445687662951,null,231.07878021147499,null,230.445687662951,null,230.445687662951]
[null,{"$f":"IF(LEN('Détail des projets'!B221)=0,\"\",'Détail des projets'!B221)","v":"Réfrigération CO2 avec récupération de chaleur (8085)"},{"$f":"IF(LEN('Détail des projets'!C221)=0,\"\",'Détail des projets'!C221)","v":"Sobeys Capital Incorporée"},{"$f":"IF(LEN('Détail des projets'!G221)=0,\"\",'Détail des projets'!G221)","v":"07-Outaouais"},{"$f":"IF(LEN('Détail des projets'!K221)=0,\"\",'Détail des projets'!K221)","v":0},1.7357829600000001,"À la fin du projet (suite au dernier versement)",0,"QC-Québec","Oui",15,1.38840564,null,"Non","Oui",0,null,0,null,0,null,0,null,0,null,0,null,0.51970375049180295,null,1.3808187239344301,null,1.3808187239344301]
[null,{"$f":"IF(LEN('Détail des projets'!B222)=0,\"\",'Détail des projets'!B222)","v":"Réfrigération CO2 avec récupération de chaleur (8296)"},{"$f":"IF(LEN('Détail des projets'!C222)=0,\"\",'Détail des projets'!C222)","v":"Sobeys Capital Incorporée"},{"$f":"IF(LEN('Détail des projets'!G222)=0,\"\",'Détail des projets'!G222)","v":"14-Lanaudière"},{"$f":"IF(LEN('Détail des projets'!K222)=0,\"\",'Détail des projets'!K222)","v":0},160.38701984799999,"À la fin du projet (suite au dernier versement)",0,"QC-Québec","Oui",15,201.51033683200001,null,"Non","Oui",0,null,0,null,0,null,0,null,20.3712635595191,null,200.409187450404,null,200.95976214120199,null,200.409187450404,null,200.409187450404]
[null,{"$f":"IF(LEN('Détail des projets'!B223)=0,\"\",'Détail des projets'!B223)","v":"Réfrigération CO2 avec récupération de chaleur (8046)"},{"$f":"IF(LEN('Détail des projets'!C223)=0,\"\",'Détail des projets'!C223)","v":"Sobeys Capital Incorporée"},{"$f":"IF(LEN('Détail des projets'!G223)=0,\"\",'Détail des projets'!G223)","v":"05-Estrie"},{"$f":"IF(LEN('Détail des projets'!K223)=0,\"\",'Détail des projets'!K223)","v":0},157.79222776,"À la fin du projet (suite au dernier versement)",0,"QC-Québec","Oui",15,174.90379899999999,null,"Non","Oui",0,null,0,null,0,null,0,null,136.19558118852501,null,173.948040535519,null,174.42591976776001,null,173.948040535519,null,173.948040535519]
[null,{"$f":"IF(LEN('Détail des projets'!B224)=0,\"\",'Détail des projets'!B224)","v":"Audit énergétique de l'aréna McConnell de l'Université McGill"},{"$f":"IF(LEN('Détail des projets'!C224)=0,\"\",'Détail des projets'!C224)","v":"L'Institution royale pour l'avancement des sciences - Université McGill"},{"$f":"IF(LEN('Détail des projets'!G224)=0,\"\",'Détail des projets'!G224)","v":"06-Montréal"},{"$f":"IF(LEN('Détail des projets'!K224)=0,\"\",'Détail des projets'!K224)","v":9500},0,"À la fin du projet (suite au dernier versement)",0,"QC-Québec","Oui",15,0,null,"Non","Oui"]
[null,{"$f":"IF(LEN('Détail des projets'!B225)=0,\"\",'Détail des projets'!B225)","v":"Projet d’efficacité énergétique – D709C – Centre d’hébergement Andrée-Perreault"},{"$f":"IF(LEN('Détail des projets'!C225)=0,\"\",'Détail des projets'!C225)","v":"Centre intégré de santé et de services sociaux de la Montérégie-Est (CISSS)"},{"$f":"IF(LEN('Détail des projets'!G225)=0,\"\",'Détail des projets'!G225)","v":"16-Montérégie"},{"$f":"IF(LEN('Détail des projets'!K225)=0,\"\",'Détail des projets'!K225)","v":86225.71},68.980566999999994,"À la fin du projet (suite au dernier versement)",24.4261010381185,"QC-Québec","Oui",51.174766540527301,19.03618732,49.944379679999997,"Non","Oui",0,null,0,null,0,null,0,null,0,null,53.337432953551897,null,68.792095505464502,null,68.603624010928996,null,68.603624010928996]
[null,{"$f":"IF(LEN('Détail des projets'!B226)=0,\"\",'Détail des projets'!B226)","v":"Projet d’efficacité énergétique – D709A – Centre d’hébergement de l’Hôtel-Dieu"},{"$f":"IF(LEN('Détail des projets'!C226)=0,\"\",'Détail des projets'!C226)","v":"Centre intégré de santé et de services sociaux de la Montérégie-Est (CISSS)"},{"$f":"IF(LEN('Détail des projets'!G226)=0,\"\",'Détail des projets'!G226)","v":"16-Montérégie"},{"$f":"IF(LEN('Détail des projets'!K226)=0,\"\",'Détail des projets'!K226)","v":834771.09},1619.155573152,"À la fin du projet (suite au dernier versement)",11.446814294738683,"QC-Québec","Oui",43.467395782470703,597.44610755999997,1080.2725774,"Non","Oui",0,null,0,null,0,null,0,null,0,null,0,null,1608.95972246164,null,1668.5508232935499,null,1668.5508232935499]
[null,{"$f":"IF(LEN('Détail des projets'!B227)=0,\"\",'Détail des projets'!B227)","v":"Centrale d'air de la pharmacie d'oncologie"},{"$f":"IF(LEN('Détail des projets'!C227)=0,\"\",'Détail des projets'!C227)","v":"CIUSSS de l'Est-de-l'île-de-Montréal"},{"$f":"IF(LEN('Détail des projets'!G227)=0,\"\",'Détail des projets'!G227)","v":"06-Montréal"},{"$f":"IF(LEN('Détail des projets'!K227)=0,\"\",'Détail des projets'!K227)","v":98055.51},186.77240800000001,"À la fin du projet (suite au dernier versement)",17.499999250424608,"QC-Québec","Oui",30,186.77240800000001,null,"Non","Oui",0,null,0,null,0,null,0,null,8.1649140109289604,null,185.75179374863399,null,186.26210087431701,null,185.75179374863399,null,185.75179374863399]
[null,{"$f":"IF(LEN('Détail des projets'!B228)=0,\"\",'Détail des projets'!B228)","v":"Rénovation majeure et agrandissement de la caserne 71"},{"$f":"IF(LEN('Détail des projets'!C228)=0,\"\",'Détail des projets'!C228)","v":"Ville de Montréal"},{"$f":"IF(LEN('Détail des projets'!G228)=0,\"\",'Détail des projets'!G228)","v":"06-Montréal"},{"$f":"IF(LEN('Détail des projets'!K228)=0,\"\",'Détail des projets'!K228)","v":45950.62},78.841762880000005,"À la fin du projet (suite au dernier versement)",30.813633586397671,"QC-Québec","Oui",20,36.964545800000003,37.59761168,"Non","Oui",0,null,0,null,0,null,0,null,0,null,33.817809130273197,null,74.358435738251401,null,74.154713996502693,null,74.154713996502693]
[null,{"$f":"IF(LEN('Détail des projets'!B229)=0,\"\",'Détail des projets'!B229)","v":"Projet d’efficacité énergétique – D709E – Centre d’hébergement Marguerite-Adam"},{"$f":"IF(LEN('Détail des projets'!C229)=0,\"\",'Détail des projets'!C229)","v":"Centre intégré de santé et de services sociaux de la Montérégie-Est (CISSS)"},{"$f":"IF(LEN('Détail des projets'!G229)=0,\"\",'Détail des projets'!G229)","v":"16-Montérégie"},{"$f":"IF(LEN('Détail des projets'!K229)=0,\"\",'Détail des projets'!K229)","v":2784.54},2.2276293200000001,"À la fin du projet (suite au dernier versement)",52.083395993369308,"QC-Québec","Oui",24,2.2276293200000001,null,"Non","Oui",0,null,0,null,0,null,0,null,0.62081472852458996,null,2.2154564821857901,null,2.2215429010929002,null,2.2154564821857901,null,2.2154564821857901]
[null,{"$f":"IF(LEN('Détail des projets'!B230)=0,\"\",'Détail des projets'!B230)","v":"Projet d’efficacité énergétique – D709D – Centre d’hébergement Montarville"},{"$f":"IF(LEN('Détail des projets'!C230)=0,\"\",'Détail des projets'!C230)","v":"Centre intégré de santé et de services sociaux de la Montérégie-Est (CISSS)"},{"$f":"IF(LEN('Détail des projets'!G230)=0,\"\",'Détail des projets'!G230)","v":"16-Montérégie"},{"$f":"IF(LEN('Détail des projets'!K230)=0,\"\",'Détail des projets'!K230)","v":43669.36},44.9622034,"À la fin du projet (suite au dernier versement)",21.639233306620746,"QC-Québec","Oui",44.883567810058601,44.9622034,null,"Non","Oui",0,null,0,null,0,null,0,null,24.323814954098399,null,44.716508299453601,null,44.8393558497268,null,44.716508299453601,null,44.716508299453601]
[null,{"$f":"IF(LEN('Détail des projets'!B231)=0,\"\",'Détail des projets'!B231)","v":"Projet d’efficacité énergétique – D709B – Centre d’hébergement MRC d’Acton"},{"$f":"IF(LEN('Détail des projets'!C231)=0,\"\",'Détail des projets'!C231)","v":"Centre intégré de santé et de services sociaux de la Montérégie-Est (CISSS)"},{"$f":"IF(LEN('Détail des projets'!G231)=0,\"\",'Détail des projets'!G231)","v":"16-Montérégie"},{"$f":"IF(LEN('Détail des projets'!K231)=0,\"\",'Détail des projets'!K231)","v":30017.040000000001},30.038349,"À la fin du projet (suite au dernier versement)",19.251976380284301,"QC-Québec","Oui",46.093177795410199,33.826408800000003,null,"Non","Oui",0,null,0,null,0,null,0,null,18.5767982754098,null,33.6415650360656,null,33.733986918032798,null,33.6415650360656,null,33.6415650360656]
[null,{"$f":"IF(LEN('Détail des projets'!B232)=0,\"\",'Détail des projets'!B232)","v":"Camp à haute efficacité énergétique"},{"$f":"IF(LEN('Détail des projets'!C232)=0,\"\",'Détail des projets'!C232)","v":"Les Entreprises forestières N.T. inc."},{"$f":"IF(LEN('Détail des projets'!G232)=0,\"\",'Détail des projets'!G232)","v":"02-Saguenay--Lac-Saint-Jean"},{"$f":"IF(LEN('Détail des projets'!K232)=0,\"\",'Détail des projets'!K232)","v":177647.04},142.117635006,"À la fin du projet (suite au dernier versement)",124.99999735606352,"QC-Québec","Oui",10,142.117635006,null,"Non","Oui",0,null,0,null,0,null,0,null,113.38346836544299,null,141.34103590760699,null,141.729335456803,null,141.34103590760699,null,141.34103590760699]
[null,{"$f":"IF(LEN('Détail des projets'!B233)=0,\"\",'Détail des projets'!B233)","v":"Projet d'efficacité énergétique au Centre de formation professionnelle St-Eustache"},{"$f":"IF(LEN('Détail des projets'!C233)=0,\"\",'Détail des projets'!C233)","v":"Centre de services scolaire de la Seigneurie-des-Mille-Îles"},{"$f":"IF(LEN('Détail des projets'!G233)=0,\"\",'Détail des projets'!G233)","v":"15-Laurentides"},{"$f":"IF(LEN('Détail des projets'!K233)=0,\"\",'Détail des projets'!K233)","v":356460.58350000001},439.94254952,"À la fin du projet (suite au dernier versement)",40.210264017560092,"QC-Québec","Oui",25,257.01453851999997,97.582072280000006,"Non","Oui",0,null,0,null,0,null,0,null,0,null,184.08020779235,null,353.62776760109301,null,352.65892440218602,null,352.65892440218602]
[null,{"$f":"IF(LEN('Détail des projets'!B234)=0,\"\",'Détail des projets'!B234)","v":"Efficacité énergétique école Jardin des patriotes (CSSMI)"},{"$f":"IF(LEN('Détail des projets'!C234)=0,\"\",'Détail des projets'!C234)","v":"Centre de services scolaire de la Seigneurie-des-Mille-Îles"},{"$f":"IF(LEN('Détail des projets'!G234)=0,\"\",'Détail des projets'!G234)","v":"15-Laurentides"},{"$f":"IF(LEN('Détail des projets'!K234)=0,\"\",'Détail des projets'!K234)","v":156764.68},125.41174352,"À la fin du projet (suite au dernier versement)",49.542484939002478,"QC-Québec","Oui",25,126.56989668,null,"Non","Oui",0,null,0,null,0,null,0,null,74.005349424917995,null,125.87825790032799,null,126.224077290164,null,125.87825790032799,null,125.87825790032799]
[null,{"$f":"IF(LEN('Détail des projets'!B235)=0,\"\",'Détail des projets'!B235)","v":"Étude énergétique comparative – SIMONS des Galeries de la Capitale"},{"$f":"IF(LEN('Détail des projets'!C235)=0,\"\",'Détail des projets'!C235)","v":"La Maison Simons inc."},{"$f":"IF(LEN('Détail des projets'!G235)=0,\"\",'Détail des projets'!G235)","v":"03-Capitale-Nationale"},{"$f":"IF(LEN('Détail des projets'!K235)=0,\"\",'Détail des projets'!K235)","v":8600},0,"À la fin du projet (suite au dernier versement)",0,"QC-Québec","Oui",0,0,0,"Non","Oui"]
[null,{"$f":"IF(LEN('Détail des projets'!B236)=0,\"\",'Détail des projets'!B236)","v":"Rénovation du SIMONS Galeries de la Capitale"},{"$f":"IF(LEN('Détail des projets'!C236)=0,\"\",'Détail des projets'!C236)","v":"La Maison Simons inc."},{"$f":"IF(LEN('Détail des projets'!G236)=0,\"\",'Détail des projets'!G236)","v":"03-Capitale-Nationale"},{"$f":"IF(LEN('Détail des projets'!K236)=0,\"\",'Détail des projets'!K236)","v":118511.13},192.7437396,"À la fin du projet (suite au dernier versement)",35.323627395302346,"QC-Québec","Oui",22.600828170776399,148.44633872,null,"Non","Oui",0,null,0,null,0,null,0,null,0,null,121.27173573027299,null,148.040747630601,null,147.63515654120201,null,147.63515654120201]
[null,{"$f":"IF(LEN('Détail des projets'!B237)=0,\"\",'Détail des projets'!B237)","v":"Analyse écoénergétique portant sur des bâtiments de la Commission scolaire de la Riveraine"},{"$f":"IF(LEN('Détail des projets'!C237)=0,\"\",'Détail des projets'!C237)","v":"Centre de services scolaire de la Riveraine"},{"$f":"IF(LEN('Détail des projets'!G237)=0,\"\",'Détail des projets'!G237)","v":"17-Centre-du-Québec"},{"$f":"IF(LEN('Détail des projets'!K237)=0,\"\",'Détail des projets'!K237)","v":63459.88},0,"À la fin du projet (suite au dernier versement)",0,"QC-Québec","Oui",0,756.38709451199998,null,"Non","Oui",null,null,null,null,null,null,null,null,500.12480019645898,null,752.25383170045905,null,754.320463106229,null,752.25383170045905,null,752.25383170045905]
[null,{"$f":"IF(LEN('Détail des projets'!B238)=0,\"\",'Détail des projets'!B238)","v":"Étude énergétique comparative – Agrandissement de l'école primaire Laurentide"},{"$f":"IF(LEN('Détail des projets'!C238)=0,\"\",'Détail des projets'!C238)","v":"Centre de service scolaire Marguerite -Bourgeoys"},{"$f":"IF(LEN('Détail des projets'!G238)=0,\"\",'Détail des projets'!G238)","v":"06-Montréal"},{"$f":"IF(LEN('Détail des projets'!K238)=0,\"\",'Détail des projets'!K238)","v":9100},0,"À la fin du projet (suite au dernier versement)",0,"QC-Québec","Oui",0,0,null,"Non","Oui"]
[null,{"$f":"IF(LEN('Détail des projets'!B239)=0,\"\",'Détail des projets'!B239)","v":"Agrandissement de l'école primaire Laurentide - Projet d'efficacité énergétique"},{"$f":"IF(LEN('Détail des projets'!C239)=0,\"\",'Détail des projets'!C239)","v":"Centre de service scolaire Marguerite -Bourgeoys"},{"$f":"IF(LEN('Détail des projets'!G239)=0,\"\",'Détail des projets'!G239)","v":"06-Montréal"},{"$f":"IF(LEN('Détail des projets'!K239)=0,\"\",'Détail des projets'!K239)","v":28742.584500000001},46.993056359999997,"À la fin du projet (suite au dernier versement)",19.538323505024302,"QC-Québec","Oui",29.233465194702099,50.322038200000001,null,"Non","Oui",0,null,0,null,0,null,0,null,5.22469249071038,null,50.0470543846995,null,50.184546292349701,null,50.0470543846995,null,50.0470543846995]
[null,{"$f":"IF(LEN('Détail des projets'!B240)=0,\"\",'Détail des projets'!B240)","v":"Projet d'efficacité énergétique au Restaurant ThaiZone/BurgerKing à Bromont"},{"$f":"IF(LEN('Détail des projets'!C240)=0,\"\",'Détail des projets'!C240)","v":"Projet Bromont ADR"},{"$f":"IF(LEN('Détail des projets'!G240)=0,\"\",'Détail des projets'!G240)","v":"05-Estrie"},{"$f":"IF(LEN('Détail des projets'!K240)=0,\"\",'Détail des projets'!K240)","v":49538.559999999998},39.63084636,"À la fin du projet (suite au dernier versement)",70.576809508256602,"QC-Québec","Oui",17,14.57262152,26.716195039999999,"Non","Oui",0,null,0,null,0,null,0,null,22.223761918907101,null,41.063194611584699,null,41.176005585792304,null,41.063194611584699,null,41.063194611584699]
[null,{"$f":"IF(LEN('Détail des projets'!B241)=0,\"\",'Détail des projets'!B241)","v":"Projet d'économie d'énergie au 330 rue St-Vallier"},{"$f":"IF(LEN('Détail des projets'!C241)=0,\"\",'Détail des projets'!C241)","v":"325 St-Vallier inc."},{"$f":"IF(LEN('Détail des projets'!G241)=0,\"\",'Détail des projets'!G241)","v":"03-Capitale-Nationale"},{"$f":"IF(LEN('Détail des projets'!K241)=0,\"\",'Détail des projets'!K241)","v":173496},142.8809942,"À la fin du projet (suite au dernier versement)",60.414636842382869,"QC-Québec","Oui",19.959724426269499,143.87745803999999,null,"Non","Oui",0,null,0,null,0,null,0,null,0,null,0,null,0,null,0,null,0]
[null,{"$f":"IF(LEN('Détail des projets'!B242)=0,\"\",'Détail des projets'!B242)","v":"Conversion électrique"},{"$f":"IF(LEN('Détail des projets'!C242)=0,\"\",'Détail des projets'!C242)","v":"Centre de services scolaire des Affluents"},{"$f":"IF(LEN('Détail des projets'!G242)=0,\"\",'Détail des projets'!G242)","v":"14-Lanaudière"},{"$f":"IF(LEN('Détail des projets'!K242)=0,\"\",'Détail des projets'!K242)","v":195439.66},156.35172437233899,"À la fin du projet (suite au dernier versement)",62.500001450120322,"QC-Québec","Oui",20,0,156.35172437233899,"Non","Oui",0,null,0,null,0,null,12.815715112486799,null,155.49734336483999,null,155.49734336483999,null,155.92453386859,null,155.49734336483999,null,155.49734336483999]
[null,{"$f":"IF(LEN('Détail des projets'!B243)=0,\"\",'Détail des projets'!B243)","v":"Projet d'économie d'énergie à Plaza Cote-des-Neiges"},{"$f":"IF(LEN('Détail des projets'!C243)=0,\"\",'Détail des projets'!C243)","v":"Gestion Plaza Côtes des Neiges"},{"$f":"IF(LEN('Détail des projets'!G243)=0,\"\",'Détail des projets'!G243)","v":"06-Montréal"},{"$f":"IF(LEN('Détail des projets'!K243)=0,\"\",'Détail des projets'!K243)","v":606911.36},495.2902052,"À la fin du projet (suite au dernier versement)",46.494127311631395,"QC-Québec","Oui",26.4095668792725,494.27186172,null,"Non","Oui",0,null,0,null,0,null,0,null,0,null,409.19227896491799,null,492.92139215245902,null,491.57092258491798,null,491.57092258491798]
[null,{"$f":"IF(LEN('Détail des projets'!B244)=0,\"\",'Détail des projets'!B244)","v":"Amélioration d'efficacité énergétique"},{"$f":"IF(LEN('Détail des projets'!C244)=0,\"\",'Détail des projets'!C244)","v":"Centre de services scolaire de Montréal"},{"$f":"IF(LEN('Détail des projets'!G244)=0,\"\",'Détail des projets'!G244)","v":"06-Montréal"},{"$f":"IF(LEN('Détail des projets'!K244)=0,\"\",'Détail des projets'!K244)","v":124471.27350000001},235.97563059999999,"À la fin du projet (suite au dernier versement)",15.040795573228531,"QC-Québec","Oui",22.931871414184599,360.87668647999999,null,"Non","Oui",0,null,0,null,0,null,0,null,0,null,77.894148174644798,null,359.89068460437198,null,358.90468272874301,null,358.90468272874301]
[null,{"$f":"IF(LEN('Détail des projets'!B245)=0,\"\",'Détail des projets'!B245)","v":"Analyse énergétique des systèmes électromécaniques de La Maison du Père"},{"$f":"IF(LEN('Détail des projets'!C245)=0,\"\",'Détail des projets'!C245)","v":"La Maison du Père"},{"$f":"IF(LEN('Détail des projets'!G245)=0,\"\",'Détail des projets'!G245)","v":"06-Montréal"},{"$f":"IF(LEN('Détail des projets'!K245)=0,\"\",'Détail des projets'!K245)","v":5000},0,"À la fin du projet (suite au dernier versement)",0,"QC-Québec","Oui",0,0,null,"Non","Oui"]
[null,{"$f":"IF(LEN('Détail des projets'!B246)=0,\"\",'Détail des projets'!B246)","v":"Conversion VAV de systèmes de ventilation"},{"$f":"IF(LEN('Détail des projets'!C246)=0,\"\",'Détail des projets'!C246)","v":"Centre de services scolaire de Montréal"},{"$f":"IF(LEN('Détail des projets'!G246)=0,\"\",'Détail des projets'!G246)","v":"06-Montréal"},{"$f":"IF(LEN('Détail des projets'!K246)=0,\"\",'Détail des projets'!K246)","v":143117.68799999999},199.25329896,"À la fin du projet (suite au dernier versement)",6.9302794754692565,"QC-Québec","Oui",32.766735076904297,630.24497736000001,null,"Non","Oui",0,null,0,null,0,null,0,null,0,null,468.37878098885199,null,628.52299654754097,null,626.80101573508205,null,626.80101573508205]
[null,{"$f":"IF(LEN('Détail des projets'!B247)=0,\"\",'Détail des projets'!B247)","v":"Implantation d'un système d'automatisation"},{"$f":"IF(LEN('Détail des projets'!C247)=0,\"\",'Détail des projets'!C247)","v":"Centre de services scolaire de Montréal"},{"$f":"IF(LEN('Détail des projets'!G247)=0,\"\",'Détail des projets'!G247)","v":"06-Montréal"},{"$f":"IF(LEN('Détail des projets'!K247)=0,\"\",'Détail des projets'!K247)","v":153672.90750000003},183.70154307999999,"À la fin du projet (suite au dernier versement)",18.243644284770443,"QC-Québec","Oui",21.813198089599599,386.15918496,null,"Non","Oui",0,null,0,null,0,null,0,null,0,null,292.25708807081998,null,385.10410521967202,null,384.04902547934398,null,384.04902547934398]
[null,{"$f":"IF(LEN('Détail des projets'!B248)=0,\"\",'Détail des projets'!B248)","v":"Remplacement des chaudières et modernisation de la chaufferie"},{"$f":"IF(LEN('Détail des projets'!C248)=0,\"\",'Détail des projets'!C248)","v":"Centre de services scolaire de Montréal"},{"$f":"IF(LEN('Détail des projets'!G248)=0,\"\",'Détail des projets'!G248)","v":"06-Montréal"},{"$f":"IF(LEN('Détail des projets'!K248)=0,\"\",'Détail des projets'!K248)","v":141319.83600000001},215.35860059999999,"À la fin du projet (suite au dernier versement)",19.697483432813637,"QC-Québec","Oui",23.2393093109131,308.72312704000001,null,"Non","Oui",0,null,0,null,0,null,0,null,0,null,250.52122604065599,null,307.87962122841498,null,307.03611541683102,null,307.03611541683102]
[null,{"$f":"IF(LEN('Détail des projets'!B249)=0,\"\",'Détail des projets'!B249)","v":"Construction du pavillon d'accueil du Parc de la Rivière-des-Mille-Îles"},{"$f":"IF(LEN('Détail des projets'!C249)=0,\"\",'Détail des projets'!C249)","v":"Ville de Laval"},{"$f":"IF(LEN('Détail des projets'!G249)=0,\"\",'Détail des projets'!G249)","v":"13-Laval"},{"$f":"IF(LEN('Détail des projets'!K249)=0,\"\",'Détail des projets'!K249)","v":2550},0,"À la fin du projet (suite au dernier versement)",0,"QC-Québec","Oui",0,0,null,"Non","Oui"]
[null,{"$f":"IF(LEN('Détail des projets'!B250)=0,\"\",'Détail des projets'!B250)","v":"Construction du pavillon d'accueil du parc de la rivière des milles-iles"},{"$f":"IF(LEN('Détail des projets'!C250)=0,\"\",'Détail des projets'!C250)","v":"Ville de Laval"},{"$f":"IF(LEN('Détail des projets'!G250)=0,\"\",'Détail des projets'!G250)","v":"13-Laval"},{"$f":"IF(LEN('Détail des projets'!K250)=0,\"\",'Détail des projets'!K250)","v":77316.708000000013},111.597804483993,"À la fin du projet (suite au dernier versement)",27.712626913225566,"QC-Québec","Oui",25,17.842888632355301,93.754915851638103,"Non","Oui",0,null,0,null,0,null,0,null,0,null,25.307698831069501,null,111.29289244988399,null,110.987980415775,null,110.987980415775]
[null,{"$f":"IF(LEN('Détail des projets'!B251)=0,\"\",'Détail des projets'!B251)","v":"Implantation de mesures en efficacité énergétique et certification LEED"},{"$f":"IF(LEN('Détail des projets'!C251)=0,\"\",'Détail des projets'!C251)","v":"Société en commandite Gestion Tour de la Bourse"},{"$f":"IF(LEN('Détail des projets'!G251)=0,\"\",'Détail des projets'!G251)","v":"06-Montréal"},{"$f":"IF(LEN('Détail des projets'!K251)=0,\"\",'Détail des projets'!K251)","v":708914.07000000007},1417.82813674461,"À la fin du projet (suite au dernier versement)",20.0000000459208,"QC-Québec","Oui",25,1417.82813674461,null,"Non","Oui",0,null,0,null,0,null,0,null,0,null,995.57877361575402,null,1413.9542893764601,null,1410.08044200831,null,1410.08044200831]
[null,{"$f":"IF(LEN('Détail des projets'!B252)=0,\"\",'Détail des projets'!B252)","v":"Analyse de mesures éconergétiques pour l'édifice Québecor"},{"$f":"IF(LEN('Détail des projets'!C252)=0,\"\",'Détail des projets'!C252)","v":"Québecor inc."},{"$f":"IF(LEN('Détail des projets'!G252)=0,\"\",'Détail des projets'!G252)","v":"06-Montréal"},{"$f":"IF(LEN('Détail des projets'!K252)=0,\"\",'Détail des projets'!K252)","v":20566},0,"À la fin du projet (suite au dernier versement)",0,"QC-Québec","Oui",25,0,null,"Non","Oui"]
[null,{"$f":"IF(LEN('Détail des projets'!B253)=0,\"\",'Détail des projets'!B253)","v":"Implantation de projet d'efficacité énergétique"},{"$f":"IF(LEN('Détail des projets'!C253)=0,\"\",'Détail des projets'!C253)","v":"Québecor inc."},{"$f":"IF(LEN('Détail des projets'!G253)=0,\"\",'Détail des projets'!G253)","v":"06-Montréal"},{"$f":"IF(LEN('Détail des projets'!K253)=0,\"\",'Détail des projets'!K253)","v":301091.59500000003},229.40312372,"À la fin du projet (suite au dernier versement)",38.510952271408748,"QC-Québec","Oui",25,312.73347164,null,"Non","Oui",0,null,0,null,0,null,0,null,0,null,129.02391862743201,null,311.87900860273197,null,311.024545565464,null,311.024545565464]
[null,{"$f":"IF(LEN('Détail des projets'!B254)=0,\"\",'Détail des projets'!B254)","v":"Complexe des sciences - Site Outremont"},{"$f":"IF(LEN('Détail des projets'!C254)=0,\"\",'Détail des projets'!C254)","v":"Université de Montréal"},{"$f":"IF(LEN('Détail des projets'!G254)=0,\"\",'Détail des projets'!G254)","v":"06-Montréal"},{"$f":"IF(LEN('Détail des projets'!K254)=0,\"\",'Détail des projets'!K254)","v":1333829.4794999999},4009.5050323999999,"À la fin du projet (suite au dernier versement)",8.5793906270320139,"QC-Québec","Oui",33.693771362304702,4614.1769474000002,null,"Non","Oui",0,null,0,null,0,null,0,null,0,null,0,null,1348.9533698683099,null,4588.9628657202202,null,4588.9628657202202]
[null,{"$f":"IF(LEN('Détail des projets'!B255)=0,\"\",'Détail des projets'!B255)","v":"Projet d'économie d'énergie au Collège Champagneur"},{"$f":"IF(LEN('Détail des projets'!C255)=0,\"\",'Détail des projets'!C255)","v":"Collège Champagneur"},{"$f":"IF(LEN('Détail des projets'!G255)=0,\"\",'Détail des projets'!G255)","v":"14-Lanaudière"},{"$f":"IF(LEN('Détail des projets'!K255)=0,\"\",'Détail des projets'!K255)","v":88952.36},82.466660656000002,"À la fin du projet (suite au dernier versement)",32.315413571931956,"QC-Québec","Oui",33.374267578125,30.450967328000001,52.026632272000001,"Non","Oui",0,null,0,null,0,null,0,null,41.238799800000002,null,82.026902334426197,null,82.252250967213101,null,82.026902334426197,null,82.026902334426197]
[null,{"$f":"IF(LEN('Détail des projets'!B256)=0,\"\",'Détail des projets'!B256)","v":"Construction d’une ligne électrique à haute tension"},{"$f":"IF(LEN('Détail des projets'!C256)=0,\"\",'Détail des projets'!C256)","v":"La Seigneurie du Triton"},{"$f":"IF(LEN('Détail des projets'!G256)=0,\"\",'Détail des projets'!G256)","v":"04-Mauricie"},{"$f":"IF(LEN('Détail des projets'!K256)=0,\"\",'Détail des projets'!K256)","v":194452.44},155.5619485,"À la fin du projet (suite au dernier versement)",30.630721278700207,"QC-Québec","Oui",40,0,158.70703649999999,"Non","Oui",0,null,0,null,0,null,0,null,46.831584540983599,null,157.83978493442601,null,158.27341071721301,null,157.83978493442601,null,157.83978493442601]
[null,{"$f":"IF(LEN('Détail des projets'!B257)=0,\"\",'Détail des projets'!B257)","v":"Réfrigération CO2 avec récupération de chaleur - Super C - Baie St-Paul"},{"$f":"IF(LEN('Détail des projets'!C257)=0,\"\",'Détail des projets'!C257)","v":"Métro Richelieu inc."},{"$f":"IF(LEN('Détail des projets'!G257)=0,\"\",'Détail des projets'!G257)","v":"03-Capitale-Nationale"},{"$f":"IF(LEN('Détail des projets'!K257)=0,\"\",'Détail des projets'!K257)","v":0},1.04309688,"À la fin du projet (suite au dernier versement)",0,"QC-Québec","Oui",15,1.04309688,null,"Non","Oui",0,null,0,null,0,null,0.25934922426229501,null,1.03739689704918,null,1.03739689704918,null,1.0402468885245899,null,1.03739689704918,null,1.03739689704918]
[null,{"$f":"IF(LEN('Détail des projets'!B258)=0,\"\",'Détail des projets'!B258)","v":"Réfrigération CO2 avec récupération de chaleur - Metro Drummondville"},{"$f":"IF(LEN('Détail des projets'!C258)=0,\"\",'Détail des projets'!C258)","v":"Métro Richelieu inc."},{"$f":"IF(LEN('Détail des projets'!G258)=0,\"\",'Détail des projets'!G258)","v":"17-Centre-du-Québec"},{"$f":"IF(LEN('Détail des projets'!K258)=0,\"\",'Détail des projets'!K258)","v":0},97.741514084000002,"À la fin du projet (suite au dernier versement)",0,"QC-Québec","Oui",15,97.741514084000002,null,"Non","Oui",0,null,0,null,0,null,0,null,0,null,0,null,59.285836411606603,null,97.207407449661204,null,97.207407449661204]
[null,{"$f":"IF(LEN('Détail des projets'!B259)=0,\"\",'Détail des projets'!B259)","v":"Remplacement du système de réfrigération et amélioration de l’efficacité énergétique du complexe"},{"$f":"IF(LEN('Détail des projets'!C259)=0,\"\",'Détail des projets'!C259)","v":"Complexe sportif Kirkland"},{"$f":"IF(LEN('Détail des projets'!G259)=0,\"\",'Détail des projets'!G259)","v":"06-Montréal"},{"$f":"IF(LEN('Détail des projets'!K259)=0,\"\",'Détail des projets'!K259)","v":82366.805917499994},73.319783599999994,"À la fin du projet (suite au dernier versement)",44.935651401731633,"QC-Québec","Oui",25,73.319783599999994,null,"Non","Oui",0,null,0,null,0,null,0,null,15.625527652459001,null,72.919129044808699,null,73.119456322404403,null,72.919129044808699,null,72.919129044808699]
[null,{"$f":"IF(LEN('Détail des projets'!B260)=0,\"\",'Détail des projets'!B260)","v":"Réfrigération CO2 avec récupération de chaleur (8188)"},{"$f":"IF(LEN('Détail des projets'!C260)=0,\"\",'Détail des projets'!C260)","v":"Sobeys Capital Incorporée"},{"$f":"IF(LEN('Détail des projets'!G260)=0,\"\",'Détail des projets'!G260)","v":"03-Capitale-Nationale"},{"$f":"IF(LEN('Détail des projets'!K260)=0,\"\",'Détail des projets'!K260)","v":0},110.232564332,"À la fin du projet (suite au dernier versement)",0,"QC-Québec","Oui",13.9745540618896,115.94378976,null,"Non","Oui",0,null,0,null,0,null,0,null,0,null,16.156101851803299,null,115.62700344917999,null,115.310217138361,null,115.310217138361]
[null,{"$f":"IF(LEN('Détail des projets'!B261)=0,\"\",'Détail des projets'!B261)","v":"Réfrigération CO2 avec récupération de chaleur (08092)"},{"$f":"IF(LEN('Détail des projets'!C261)=0,\"\",'Détail des projets'!C261)","v":"Sobeys Capital Incorporée"},{"$f":"IF(LEN('Détail des projets'!G261)=0,\"\",'Détail des projets'!G261)","v":"05-Estrie"},{"$f":"IF(LEN('Détail des projets'!K261)=0,\"\",'Détail des projets'!K261)","v":0},166.61648575199999,"À la fin du projet (suite au dernier versement)",0,"QC-Québec","Oui",14.033415794372599,166.61648575199999,null,"Non","Oui",0,null,0,null,0,null,0,null,81.487297676524605,null,165.70601315226199,null,166.16124945213099,null,165.70601315226199,null,165.70601315226199]
[null,{"$f":"IF(LEN('Détail des projets'!B262)=0,\"\",'Détail des projets'!B262)","v":"Réfrigération CO2 avec récupération de chaleur (134)"},{"$f":"IF(LEN('Détail des projets'!C262)=0,\"\",'Détail des projets'!C262)","v":"Sobeys Capital Incorporée"},{"$f":"IF(LEN('Détail des projets'!G262)=0,\"\",'Détail des projets'!G262)","v":"03-Capitale-Nationale"},{"$f":"IF(LEN('Détail des projets'!K262)=0,\"\",'Détail des projets'!K262)","v":0},0,"À la fin du projet (suite au dernier versement)",0,"QC-Québec","Oui",14.955758094787599,0,2.0695024800000001,"Non","Oui",0,null,0,null,0,null,0,null,1.2156913475409801,null,2.05819372327869,null,2.0638481016393402,null,2.05819372327869,null,2.05819372327869]
[null,{"$f":"IF(LEN('Détail des projets'!B263)=0,\"\",'Détail des projets'!B263)","v":"Rénovation et agrandissement de la bibliothèque de Pierrefonds"},{"$f":"IF(LEN('Détail des projets'!C263)=0,\"\",'Détail des projets'!C263)","v":"Ville de Montréal"},{"$f":"IF(LEN('Détail des projets'!G263)=0,\"\",'Détail des projets'!G263)","v":"06-Montréal"},{"$f":"IF(LEN('Détail des projets'!K263)=0,\"\",'Détail des projets'!K263)","v":63986.15},64.650322599999996,"À la fin du projet (suite au dernier versement)",75.320368980699385,"QC-Québec","Oui",20,42.475993456959998,null,"Non","Oui",0,null,0,null,0,null,0,null,0,null,13.5783913509954,null,42.359938830028398,null,42.243884203096798,null,42.243884203096798]
[null,{"$f":"IF(LEN('Détail des projets'!B264)=0,\"\",'Détail des projets'!B264)","v":"Analyse énergétique Le Château Montebello"},{"$f":"IF(LEN('Détail des projets'!C264)=0,\"\",'Détail des projets'!C264)","v":"Le Château Montebello"},{"$f":"IF(LEN('Détail des projets'!G264)=0,\"\",'Détail des projets'!G264)","v":"07-Outaouais"},{"$f":"IF(LEN('Détail des projets'!K264)=0,\"\",'Détail des projets'!K264)","v":18367.5},0,"À la fin du projet (suite au dernier versement)",0,"QC-Québec","Oui",0,0,null,"Non","Oui"]
[null,{"$f":"IF(LEN('Détail des projets'!B265)=0,\"\",'Détail des projets'!B265)","v":"Construction d'un centre communautaire à Sainte-Dorothée"},{"$f":"IF(LEN('Détail des projets'!C265)=0,\"\",'Détail des projets'!C265)","v":"Ville de Laval"},{"$f":"IF(LEN('Détail des projets'!G265)=0,\"\",'Détail des projets'!G265)","v":"13-Laval"},{"$f":"IF(LEN('Détail des projets'!K265)=0,\"\",'Détail des projets'!K265)","v":2550},0,"À la fin du projet (suite au dernier versement)",0,"QC-Québec","Oui",22.523107528686499,0,null,"Non","Oui"]
[null,{"$f":"IF(LEN('Détail des projets'!B266)=0,\"\",'Détail des projets'!B266)","v":"Modification du système de ventilation UTA-01"},{"$f":"IF(LEN('Détail des projets'!C266)=0,\"\",'Détail des projets'!C266)","v":"Frontenac Hotel LP"},{"$f":"IF(LEN('Détail des projets'!G266)=0,\"\",'Détail des projets'!G266)","v":"03-Capitale-Nationale"},{"$f":"IF(LEN('Détail des projets'!K266)=0,\"\",'Détail des projets'!K266)","v":32959.550000000003},90.696331130104497,"À la fin du projet (suite au dernier versement)",17.848021772303653,"QC-Québec","Oui",30,61.555934919999999,null,"Non","Oui",0,null,0,null,0,null,1.6818561453551899,null,61.219563690929,null,61.219563690929,null,61.387749305464503,null,61.219563690929,null,61.219563690929]
[null,{"$f":"IF(LEN('Détail des projets'!B267)=0,\"\",'Détail des projets'!B267)","v":"Système de réfrigération CO2 avec récupération de chaleur - Super C Saint-Hyacinthe"},{"$f":"IF(LEN('Détail des projets'!C267)=0,\"\",'Détail des projets'!C267)","v":"Métro Richelieu inc."},{"$f":"IF(LEN('Détail des projets'!G267)=0,\"\",'Détail des projets'!G267)","v":"16-Montérégie"},{"$f":"IF(LEN('Détail des projets'!K267)=0,\"\",'Détail des projets'!K267)","v":0},108.76248443999999,"À la fin du projet (suite au dernier versement)",0,"QC-Québec","Oui",15,108.76248443999999,null,"Non","Oui",0,null,0,null,0,null,0,null,0,null,0,null,87.663751119672099,null,108.168153923934,null,108.168153923934]
[null,{"$f":"IF(LEN('Détail des projets'!B268)=0,\"\",'Détail des projets'!B268)","v":"Projet d'efficacité d'énergétique au local de la pharmacie Proxim de St-Jérôme"},{"$f":"IF(LEN('Détail des projets'!C268)=0,\"\",'Détail des projets'!C268)","v":"Innovo Pharma inc."},{"$f":"IF(LEN('Détail des projets'!G268)=0,\"\",'Détail des projets'!G268)","v":"15-Laurentides"},{"$f":"IF(LEN('Détail des projets'!K268)=0,\"\",'Détail des projets'!K268)","v":53681.120000000003},42.944895657936101,"À la fin du projet (suite au dernier versement)",48.458307799938979,"QC-Québec","Oui",25,44.311180012000001,null,"Non","Oui",0,null,0,null,0,null,0,null,27.603685909114802,null,44.069042416305997,null,44.190111214152999,null,44.069042416305997,null,44.069042416305997]
[null,{"$f":"IF(LEN('Détail des projets'!B269)=0,\"\",'Détail des projets'!B269)","v":"Projet d'efficacité énergétique au restaurant Harvey's"},{"$f":"IF(LEN('Détail des projets'!C269)=0,\"\",'Détail des projets'!C269)","v":"9264-0101 Québec inc."},{"$f":"IF(LEN('Détail des projets'!G269)=0,\"\",'Détail des projets'!G269)","v":"16-Montérégie"},{"$f":"IF(LEN('Détail des projets'!K269)=0,\"\",'Détail des projets'!K269)","v":59041},49.752188719999999,"À la fin du projet (suite au dernier versement)",74.226351709183135,"QC-Québec","Oui",17,21.872970639999998,24.916342319999998,"Non","Oui",0,null,0,null,0,null,0,null,43.337642331803302,null,46.533633654207698,null,46.661473307103797,null,46.533633654207598,null,46.533633654207698]
[null,{"$f":"IF(LEN('Détail des projets'!B270)=0,\"\",'Détail des projets'!B270)","v":"Réfrigération CO2 avec récupération de chaleur (88029)"},{"$f":"IF(LEN('Détail des projets'!C270)=0,\"\",'Détail des projets'!C270)","v":"Sobeys Capital Incorporée"},{"$f":"IF(LEN('Détail des projets'!G270)=0,\"\",'Détail des projets'!G270)","v":"16-Montérégie"},{"$f":"IF(LEN('Détail des projets'!K270)=0,\"\",'Détail des projets'!K270)","v":0},176.81956948000001,"À la fin du projet (suite au dernier versement)",0,"QC-Québec","Oui",15,175.34023192000001,null,"Non","Oui",0,null,0,null,0,null,0,null,136.05635482316899,null,174.38208857617499,null,174.861160248087,null,174.38208857617499,null,174.38208857617499]
[null,{"$f":"IF(LEN('Détail des projets'!B271)=0,\"\",'Détail des projets'!B271)","v":"Réfrigération CO2 avec récupération de chaleur (8340)"},{"$f":"IF(LEN('Détail des projets'!C271)=0,\"\",'Détail des projets'!C271)","v":"Sobeys Capital Incorporée"},{"$f":"IF(LEN('Détail des projets'!G271)=0,\"\",'Détail des projets'!G271)","v":"04-Mauricie"},{"$f":"IF(LEN('Détail des projets'!K271)=0,\"\",'Détail des projets'!K271)","v":0},106.947036852,"À la fin du projet (suite au dernier versement)",0,"QC-Québec","Oui",15,150.59580788,null,"Non","Oui",0,null,0,null,0,null,0,null,117.267227447541,null,149.77287996808701,null,150.18434392404399,null,149.77287996808701,null,149.77287996808701]
[null,{"$f":"IF(LEN('Détail des projets'!B272)=0,\"\",'Détail des projets'!B272)","v":"Analyse énergétique de l’École aux-Quatre-Vents"},{"$f":"IF(LEN('Détail des projets'!C272)=0,\"\",'Détail des projets'!C272)","v":"Centre de services scolaire des Affluents"},{"$f":"IF(LEN('Détail des projets'!G272)=0,\"\",'Détail des projets'!G272)","v":"14-Lanaudière"},{"$f":"IF(LEN('Détail des projets'!K272)=0,\"\",'Détail des projets'!K272)","v":3400},0,"À la fin du projet (suite au dernier versement)",0,"QC-Québec","Oui",20,0,0,"Non","Oui"]
[null,{"$f":"IF(LEN('Détail des projets'!B273)=0,\"\",'Détail des projets'!B273)","v":"Analyse énergétique de l'École de la Source"},{"$f":"IF(LEN('Détail des projets'!C273)=0,\"\",'Détail des projets'!C273)","v":"Centre de services scolaire des Affluents"},{"$f":"IF(LEN('Détail des projets'!G273)=0,\"\",'Détail des projets'!G273)","v":"14-Lanaudière"},{"$f":"IF(LEN('Détail des projets'!K273)=0,\"\",'Détail des projets'!K273)","v":3400},0,"À la fin du projet (suite au dernier versement)",0,"QC-Québec","Oui",20,0,0,"Non","Oui"]
[null,{"$f":"IF(LEN('Détail des projets'!B274)=0,\"\",'Détail des projets'!B274)","v":"Analyse énergétique de l'École Primaire Esther-Blondin"},{"$f":"IF(LEN('Détail des projets'!C274)=0,\"\",'Détail des projets'!C274)","v":"Centre de services scolaire des Affluents"},{"$f":"IF(LEN('Détail des projets'!G274)=0,\"\",'Détail des projets'!G274)","v":"14-Lanaudière"},{"$f":"IF(LEN('Détail des projets'!K274)=0,\"\",'Détail des projets'!K274)","v":3400},0,"À la fin du projet (suite au dernier versement)",0,"QC-Québec","Oui",20,0,0,"Non","Oui"]
[null,{"$f":"IF(LEN('Détail des projets'!B275)=0,\"\",'Détail des projets'!B275)","v":"Analyse énergétique de l’École Jean-De La Fontaine – Édifice Jean-De La Fontaine"},{"$f":"IF(LEN('Détail des projets'!C275)=0,\"\",'Détail des projets'!C275)","v":"Centre de services scolaire des Affluents"},{"$f":"IF(LEN('Détail des projets'!G275)=0,\"\",'Détail des projets'!G275)","v":"14-Lanaudière"},{"$f":"IF(LEN('Détail des projets'!K275)=0,\"\",'Détail des projets'!K275)","v":3650},0,"À la fin du projet (suite au dernier versement)",0,"QC-Québec","Oui",20,0,0,"Non","Oui"]
[null,{"$f":"IF(LEN('Détail des projets'!B276)=0,\"\",'Détail des projets'!B276)","v":"Analyse énergétique de l'École Mgr-Mongeau"},{"$f":"IF(LEN('Détail des projets'!C276)=0,\"\",'Détail des projets'!C276)","v":"Centre de services scolaire des Affluents"},{"$f":"IF(LEN('Détail des projets'!G276)=0,\"\",'Détail des projets'!G276)","v":"14-Lanaudière"},{"$f":"IF(LEN('Détail des projets'!K276)=0,\"\",'Détail des projets'!K276)","v":3650},0,"À la fin du projet (suite au dernier versement)",0,"QC-Québec","Oui",20,0,0,"Non","Oui"]
[null,{"$f":"IF(LEN('Détail des projets'!B277)=0,\"\",'Détail des projets'!B277)","v":"Analyse énergétique de l'École Jean-De La Fontaine – Édifice Saint-Charles"},{"$f":"IF(LEN('Détail des projets'!C277)=0,\"\",'Détail des projets'!C277)","v":"Centre de services scolaire des Affluents"},{"$f":"IF(LEN('Détail des projets'!G277)=0,\"\",'Détail des projets'!G277)","v":"14-Lanaudière"},{"$f":"IF(LEN('Détail des projets'!K277)=0,\"\",'Détail des projets'!K277)","v":3150},0,"À la fin du projet (suite au dernier versement)",0,"QC-Québec","Oui",20,0,0,"Non","Oui"]
[null,{"$f":"IF(LEN('Détail des projets'!B278)=0,\"\",'Détail des projets'!B278)","v":"Projet d'efficacité énergétique au Golf Summerlea"},{"$f":"IF(LEN('Détail des projets'!C278)=0,\"\",'Détail des projets'!C278)","v":"CLUB DE GOLF SUMMERLEA S.E.C."},{"$f":"IF(LEN('Détail des projets'!G278)=0,\"\",'Détail des projets'!G278)","v":"16-Montérégie"},{"$f":"IF(LEN('Détail des projets'!K278)=0,\"\",'Détail des projets'!K278)","v":127830.171},119.93099312,"À la fin du projet (suite au dernier versement)",41.377942095590683,"QC-Québec","Oui",25,123.573251376,null,"Non","Oui",0,null,0,null,0,null,0,null,0,null,0,null,91.160595277376999,null,122.897987707279,null,122.897987707279]
[null,{"$f":"IF(LEN('Détail des projets'!B279)=0,\"\",'Détail des projets'!B279)","v":"Projet d'économie d'énergie au 200 Ste-Foy"},{"$f":"IF(LEN('Détail des projets'!C279)=0,\"\",'Détail des projets'!C279)","v":"Édifice 200 Sainte-Foy inc."},{"$f":"IF(LEN('Détail des projets'!G279)=0,\"\",'Détail des projets'!G279)","v":"03-Capitale-Nationale"},{"$f":"IF(LEN('Détail des projets'!K279)=0,\"\",'Détail des projets'!K279)","v":530549.09},424.59686804,"À la fin du projet (suite au dernier versement)",45.232146404670402,"QC-Québec","Oui",23.337306976318398,453.35805637599998,49.247908228,"Non","Oui",0,null,0,null,0,null,0,null,248.55650162110399,null,499.85948392310399,null,501.23272426355197,null,499.85948392310399,null,499.85948392310399]
[null,{"$f":"IF(LEN('Détail des projets'!B280)=0,\"\",'Détail des projets'!B280)","v":"Projet d'économie d'énergie au 4200 Dorchester"},{"$f":"IF(LEN('Détail des projets'!C280)=0,\"\",'Détail des projets'!C280)","v":"Les immeubles Mitelman inc."},{"$f":"IF(LEN('Détail des projets'!G280)=0,\"\",'Détail des projets'!G280)","v":"06-Montréal"},{"$f":"IF(LEN('Détail des projets'!K280)=0,\"\",'Détail des projets'!K280)","v":98360.61},78.688489079999997,"À la fin du projet (suite au dernier versement)",35.714285224106924,"QC-Québec","Oui",35,78.688489079999997,null,"Non","Oui",0,null,0,null,0,null,0,null,2.36495458983606,null,78.258497336393404,null,78.4734932081967,null,78.258497336393404,null,78.258497336393404]
[null,{"$f":"IF(LEN('Détail des projets'!B281)=0,\"\",'Détail des projets'!B281)","v":"Projet d'efficacité énergétique D815 - Institut Philippe-Pinel de Montréal"},{"$f":"IF(LEN('Détail des projets'!C281)=0,\"\",'Détail des projets'!C281)","v":"Institut Philippe-Pinel de Montréal"},{"$f":"IF(LEN('Détail des projets'!G281)=0,\"\",'Détail des projets'!G281)","v":"06-Montréal"},{"$f":"IF(LEN('Détail des projets'!K281)=0,\"\",'Détail des projets'!K281)","v":778271.33},1556.5426636479999,"À la fin du projet (suite au dernier versement)",14.732279406708818,"QC-Québec","Oui",33.939079284667997,1316.6304207119999,239.91224293600001,"Non","Oui",0,null,0,null,0,null,0,null,0,null,888.84540082631702,null,1552.2898148402201,null,1548.03696603244,null,1548.03696603244]
[null,{"$f":"IF(LEN('Détail des projets'!B282)=0,\"\",'Détail des projets'!B282)","v":"Remplacement des unités de ventilation et chauffage du centre de service de la STTR"},{"$f":"IF(LEN('Détail des projets'!C282)=0,\"\",'Détail des projets'!C282)","v":"Société de transport de Trois-Rivières"},{"$f":"IF(LEN('Détail des projets'!G282)=0,\"\",'Détail des projets'!G282)","v":"04-Mauricie"},{"$f":"IF(LEN('Détail des projets'!K282)=0,\"\",'Détail des projets'!K282)","v":206204.37},212.07428067999999,"À la fin du projet (suite au dernier versement)",67.7706314848445,"QC-Québec","Oui",24.025648117065401,126.64300892,null,"Non","Oui",0,null,0,null,0,null,0,null,0,null,106.573898216831,null,126.296989769945,null,125.950970619891,null,125.950970619891]
[null,{"$f":"IF(LEN('Détail des projets'!B283)=0,\"\",'Détail des projets'!B283)","v":"Efficacité énergétique au 2250, rue Guy"},{"$f":"IF(LEN('Détail des projets'!C283)=0,\"\",'Détail des projets'!C283)","v":"2250 Guy inc."},{"$f":"IF(LEN('Détail des projets'!G283)=0,\"\",'Détail des projets'!G283)","v":"06-Montréal"},{"$f":"IF(LEN('Détail des projets'!K283)=0,\"\",'Détail des projets'!K283)","v":438180.94},360.91582540000002,"À la fin du projet (suite au dernier versement)",51.900949450015695,"QC-Québec","Oui",25,337.7055292,null,"Non","Oui",0,null,0,null,0,null,0,null,112.568509733333,null,335.86014379453599,null,336.78283649726802,null,335.86014379453599,null,335.86014379453599]
[null,{"$f":"IF(LEN('Détail des projets'!B284)=0,\"\",'Détail des projets'!B284)","v":"Étude d'efficacité énergétique avec Arbec/Médifice immobilier s.e.n.c."},{"$f":"IF(LEN('Détail des projets'!C284)=0,\"\",'Détail des projets'!C284)","v":"Arbec - Médifice Immobilier II s.e.n.c."},{"$f":"IF(LEN('Détail des projets'!G284)=0,\"\",'Détail des projets'!G284)","v":"14-Lanaudière"},{"$f":"IF(LEN('Détail des projets'!K284)=0,\"\",'Détail des projets'!K284)","v":15729},0,"À la fin du projet (suite au dernier versement)",0,"QC-Québec","Oui",0,0,null,"Non","Oui"]
[null,{"$f":"IF(LEN('Détail des projets'!B285)=0,\"\",'Détail des projets'!B285)","v":"Projet d'efficacité énergétique avec Arbec / Médifice immobilier s.e.n.c."},{"$f":"IF(LEN('Détail des projets'!C285)=0,\"\",'Détail des projets'!C285)","v":"Arbec - Médifice Immobilier II s.e.n.c."},{"$f":"IF(LEN('Détail des projets'!G285)=0,\"\",'Détail des projets'!G285)","v":"14-Lanaudière"},{"$f":"IF(LEN('Détail des projets'!K285)=0,\"\",'Détail des projets'!K285)","v":359574.07500000001},273.96119651480001,"À la fin du projet (suite au dernier versement)",54.687500695707556,"QC-Québec","Oui",24,273.96119651480001,null,"Non","Oui",0,null,0,null,0,null,0,null,0,null,14.9705571866011,null,273.21266865547,null,272.46414079613999,null,272.46414079613999]
[null,{"$f":"IF(LEN('Détail des projets'!B286)=0,\"\",'Détail des projets'!B286)","v":"Mise aux normes de l'Aréna Fleury (5858)"},{"$f":"IF(LEN('Détail des projets'!C286)=0,\"\",'Détail des projets'!C286)","v":"Ville de Montréal"},{"$f":"IF(LEN('Détail des projets'!G286)=0,\"\",'Détail des projets'!G286)","v":"06-Montréal"},{"$f":"IF(LEN('Détail des projets'!K286)=0,\"\",'Détail des projets'!K286)","v":162565.73550000001},207.90681261200001,"À la fin du projet (suite au dernier versement)",40.066344217601625,"QC-Québec","Oui",25,162.29654955999999,null,"Non","Oui",0,null,0,null,0,null,0,null,36.361522032568303,null,161.409683168962,null,161.853116364481,null,161.409683168962,null,161.409683168962]
[null,{"$f":"IF(LEN('Détail des projets'!B287)=0,\"\",'Détail des projets'!B287)","v":"Remplacement du système de chauffage au mazout par des systèmes électriques"},{"$f":"IF(LEN('Détail des projets'!C287)=0,\"\",'Détail des projets'!C287)","v":"Centre de services scolaire des Affluents"},{"$f":"IF(LEN('Détail des projets'!G287)=0,\"\",'Détail des projets'!G287)","v":"14-Lanaudière"},{"$f":"IF(LEN('Détail des projets'!K287)=0,\"\",'Détail des projets'!K287)","v":133814.95000000001},107.0519633182,"À la fin du projet (suite au dernier versement)",62.499997711391828,"QC-Québec","Oui",20,0,107.05196392000001,"Non","Oui",0,null,0,null,0,null,0,null,17.257010577267799,null,106.466980510601,null,106.759472215301,null,106.466980510601,null,106.466980510601]
[null,{"$f":"IF(LEN('Détail des projets'!B288)=0,\"\",'Détail des projets'!B288)","v":"Agrandissement Centre de distribution et entrepôt réfrigéré de Michal"},{"$f":"IF(LEN('Détail des projets'!C288)=0,\"\",'Détail des projets'!C288)","v":"Michal inc."},{"$f":"IF(LEN('Détail des projets'!G288)=0,\"\",'Détail des projets'!G288)","v":"06-Montréal"},{"$f":"IF(LEN('Détail des projets'!K288)=0,\"\",'Détail des projets'!K288)","v":0},0.12337919999999999,"À la fin du projet (suite au dernier versement)",0,"QC-Québec","Oui",25,0.12337919999999999,null,"Non","Oui",0,null,0,null,0,null,0,null,5.25878557377049E-2,null,0.12270499672131099,null,0.12304209836065599,null,0.12270499672131099,null,0.12270499672131099]
[null,{"$f":"IF(LEN('Détail des projets'!B289)=0,\"\",'Détail des projets'!B289)","v":"Projet d'économie d'énergie au Carrefour Providence"},{"$f":"IF(LEN('Détail des projets'!C289)=0,\"\",'Détail des projets'!C289)","v":"Carrefour Providence"},{"$f":"IF(LEN('Détail des projets'!G289)=0,\"\",'Détail des projets'!G289)","v":"06-Montréal"},{"$f":"IF(LEN('Détail des projets'!K289)=0,\"\",'Détail des projets'!K289)","v":518774.47},1072.96647136,"À la fin du projet (suite au dernier versement)",12.86997198442106,"QC-Québec","Oui",36.25,1111.9697758,null,"Non","Oui",0,null,0,null,0,null,0,null,0,null,0,null,571.17573183169395,null,1105.8934382273201,null,1105.8934382273201]
[null,{"$f":"IF(LEN('Détail des projets'!B290)=0,\"\",'Détail des projets'!B290)","v":"Conversion du système de chauffage au mazout à l'électricité"},{"$f":"IF(LEN('Détail des projets'!C290)=0,\"\",'Détail des projets'!C290)","v":"La Fabrique de la paroisse de Saint-Esprit des Pentes-Côtes"},{"$f":"IF(LEN('Détail des projets'!G290)=0,\"\",'Détail des projets'!G290)","v":"12-Chaudière-Appalaches"},{"$f":"IF(LEN('Détail des projets'!K290)=0,\"\",'Détail des projets'!K290)","v":59180.25},47.344200479999998,"À la fin du projet (suite au dernier versement)",62.499999366342671,"QC-Québec","Oui",20,0,47.344200479999998,"Non","Oui",0,null,0,null,0,null,0,null,20.050139547541001,null,47.085489001967197,null,47.214844740983601,null,47.085489001967197,null,47.085489001967197]
[null,{"$f":"IF(LEN('Détail des projets'!B291)=0,\"\",'Détail des projets'!B291)","v":"Conversion du chauffage au mazout pour du chauffage radiant électrique"},{"$f":"IF(LEN('Détail des projets'!C291)=0,\"\",'Détail des projets'!C291)","v":"Garage Éric Lavoie"},{"$f":"IF(LEN('Détail des projets'!G291)=0,\"\",'Détail des projets'!G291)","v":"02-Saguenay--Lac-Saint-Jean"},{"$f":"IF(LEN('Détail des projets'!K291)=0,\"\",'Détail des projets'!K291)","v":11119.710000000001},8.8957646399999994,"À la fin du projet (suite au dernier versement)",62.500023606739681,"QC-Québec","Oui",20,0,8.8957646399999994,"Non","Oui",0,null,0,null,0,null,0,null,0.437496621639344,null,8.8471539042622993,null,8.8714592721311494,null,8.8471539042622993,null,8.8471539042622993]
[null,{"$f":"IF(LEN('Détail des projets'!B292)=0,\"\",'Détail des projets'!B292)","v":"Analyse énergétique du Collège Jean-de-Brébeuf"},{"$f":"IF(LEN('Détail des projets'!C292)=0,\"\",'Détail des projets'!C292)","v":"La Corporation du Collège Jean-de-Brébeuf"},{"$f":"IF(LEN('Détail des projets'!G292)=0,\"\",'Détail des projets'!G292)","v":"06-Montréal"},{"$f":"IF(LEN('Détail des projets'!K292)=0,\"\",'Détail des projets'!K292)","v":2470},0,"À la fin du projet (suite au dernier versement)",0,"QC-Québec","Oui",20,0,null,"Non","Oui"]
[null,{"$f":"IF(LEN('Détail des projets'!B293)=0,\"\",'Détail des projets'!B293)","v":"Économie d'énergie - Carboneutralité"},{"$f":"IF(LEN('Détail des projets'!C293)=0,\"\",'Détail des projets'!C293)","v":"La Corporation du Collège Jean-de-Brébeuf"},{"$f":"IF(LEN('Détail des projets'!G293)=0,\"\",'Détail des projets'!G293)","v":"06-Montréal"},{"$f":"IF(LEN('Détail des projets'!K293)=0,\"\",'Détail des projets'!K293)","v":8526},0,"À la fin du projet (suite au dernier versement)",0,"QC-Québec","Oui",25,0,null,"Non","Oui"]
[null,{"$f":"IF(LEN('Détail des projets'!B294)=0,\"\",'Détail des projets'!B294)","v":"Projet de valorisation de la vapeur de l’incinérateur de la ville de Québec"},{"$f":"IF(LEN('Détail des projets'!C294)=0,\"\",'Détail des projets'!C294)","v":"Ville de Québec"},{"$f":"IF(LEN('Détail des projets'!G294)=0,\"\",'Détail des projets'!G294)","v":"03-Capitale-Nationale"},{"$f":"IF(LEN('Détail des projets'!K294)=0,\"\",'Détail des projets'!K294)","v":156081},0,"À la fin du projet (suite au dernier versement)",0,"QC-Québec","Oui",0,0,null,"Non","Oui"]
[null,{"$f":"IF(LEN('Détail des projets'!B295)=0,\"\",'Détail des projets'!B295)","v":"Étude écoénergétique type ASHRAE niveau 2"},{"$f":"IF(LEN('Détail des projets'!C295)=0,\"\",'Détail des projets'!C295)","v":"Centre de services scolaire des Chênes"},{"$f":"IF(LEN('Détail des projets'!G295)=0,\"\",'Détail des projets'!G295)","v":"17-Centre-du-Québec"},{"$f":"IF(LEN('Détail des projets'!K295)=0,\"\",'Détail des projets'!K295)","v":7360},0,"À la fin du projet (suite au dernier versement)",0,"QC-Québec","Oui",0,0,null,"Non","Oui"]
[null,{"$f":"IF(LEN('Détail des projets'!B296)=0,\"\",'Détail des projets'!B296)","v":"Récupération de chaleur sur système de réfrigération HFO"},{"$f":"IF(LEN('Détail des projets'!C296)=0,\"\",'Détail des projets'!C296)","v":"Municipalité de Saint-Isidore"},{"$f":"IF(LEN('Détail des projets'!G296)=0,\"\",'Détail des projets'!G296)","v":"12-Chaudière-Appalaches"},{"$f":"IF(LEN('Détail des projets'!K296)=0,\"\",'Détail des projets'!K296)","v":39898.58},41.8021238352,"À la fin du projet (suite au dernier versement)",81.585670989574282,"QC-Québec","Oui",15,32.602604122398397,null,"Non","Oui",0,null,0,null,0,null,0,null,6.4136270404718196,null,32.424447815718601,null,32.513525969058499,null,32.424447815718601,null,32.424447815718601]
[null,{"$f":"IF(LEN('Détail des projets'!B297)=0,\"\",'Détail des projets'!B297)","v":"Réfrigération CO2 avec récupération de chaleur (88093)"},{"$f":"IF(LEN('Détail des projets'!C297)=0,\"\",'Détail des projets'!C297)","v":"Sobeys Capital Incorporée"},{"$f":"IF(LEN('Détail des projets'!G297)=0,\"\",'Détail des projets'!G297)","v":"06-Montréal"},{"$f":"IF(LEN('Détail des projets'!K297)=0,\"\",'Détail des projets'!K297)","v":0},184.44297567999999,"À la fin du projet (suite au dernier versement)",0,"QC-Québec","Oui",15,269.59840672000001,null,"Non","Oui",0,null,0,null,0,null,0,null,0,null,0,null,220.98230059016399,null,268.125191382732,null,268.125191382732]
[null,{"$f":"IF(LEN('Détail des projets'!B298)=0,\"\",'Détail des projets'!B298)","v":"Étude d'efficacité énergétique chez Tropiques Nord"},{"$f":"IF(LEN('Détail des projets'!C298)=0,\"\",'Détail des projets'!C298)","v":"Syndicat des copropriétaires de Tropiques Nord1, Montréal, Phase 1"},{"$f":"IF(LEN('Détail des projets'!G298)=0,\"\",'Détail des projets'!G298)","v":"06-Montréal"},{"$f":"IF(LEN('Détail des projets'!K298)=0,\"\",'Détail des projets'!K298)","v":43990},0,"À la fin du projet (suite au dernier versement)",0,"QC-Québec","Oui",0,0,null,"Non","Oui"]
[null,{"$f":"IF(LEN('Détail des projets'!B299)=0,\"\",'Détail des projets'!B299)","v":"Projet d'efficacité énergétique chez Tropiques Nord"},{"$f":"IF(LEN('Détail des projets'!C299)=0,\"\",'Détail des projets'!C299)","v":"Syndicat des copropriétaires de Tropiques Nord1, Montréal, Phase 1"},{"$f":"IF(LEN('Détail des projets'!G299)=0,\"\",'Détail des projets'!G299)","v":"06-Montréal"},{"$f":"IF(LEN('Détail des projets'!K299)=0,\"\",'Détail des projets'!K299)","v":455683.87949999998},371.84404355999999,"À la fin du projet (suite au dernier versement)",49.042985573360482,"QC-Québec","Oui",25,371.66079852000001,null,"Non","Oui",0,null,0,null,0,null,0,null,0,null,89.361066310819695,null,370.64533185737702,null,369.62986519475402,null,369.62986519475402]
[null,{"$f":"IF(LEN('Détail des projets'!B300)=0,\"\",'Détail des projets'!B300)","v":"Remplacement de la fournaise au mazout léger par un système électrique zoné"},{"$f":"IF(LEN('Détail des projets'!C300)=0,\"\",'Détail des projets'!C300)","v":"La Fabrique de la paroisse de Sainte-Marguerite d'Youville"},{"$f":"IF(LEN('Détail des projets'!G300)=0,\"\",'Détail des projets'!G300)","v":"17-Centre-du-Québec"},{"$f":"IF(LEN('Détail des projets'!K300)=0,\"\",'Détail des projets'!K300)","v":23312.69},18.6501482,"À la fin du projet (suite au dernier versement)",41.641409448656006,"QC-Québec","Oui",30,0,18.661464079999998,"Non","Oui",0,null,0,null,0,null,0,null,4.18098375562841,null,18.559488866448099,null,18.610476473224001,null,18.559488866448099,null,18.559488866448099]
[null,{"$f":"IF(LEN('Détail des projets'!B301)=0,\"\",'Détail des projets'!B301)","v":"Système de réfrigération au CO2 avec récupération de chaleur"},{"$f":"IF(LEN('Détail des projets'!C301)=0,\"\",'Détail des projets'!C301)","v":"Distribution Alimentaire Aubut inc."},{"$f":"IF(LEN('Détail des projets'!G301)=0,\"\",'Détail des projets'!G301)","v":"13-Laval"},{"$f":"IF(LEN('Détail des projets'!K301)=0,\"\",'Détail des projets'!K301)","v":0},75.572800000000001,"À la fin du projet (suite au dernier versement)",0,"QC-Québec","Oui",29.496852874755898,75.572800000000001,null,"Non","Oui",0,null,0,null,0,null,0,null,27.049280874316899,null,75.159833879781402,null,75.366316939890694,null,75.159833879781402,null,75.159833879781402]
[null,{"$f":"IF(LEN('Détail des projets'!B302)=0,\"\",'Détail des projets'!B302)","v":"Conversion du système de chauffage central au mazout vers une système électrique par zone"},{"$f":"IF(LEN('Détail des projets'!C302)=0,\"\",'Détail des projets'!C302)","v":"La Fabrique de la paroisse Sainte-Cécile de Cloridorme"},{"$f":"IF(LEN('Détail des projets'!G302)=0,\"\",'Détail des projets'!G302)","v":"11-Gaspésie--Îles-de-la-Madeleine"},{"$f":"IF(LEN('Détail des projets'!K302)=0,\"\",'Détail des projets'!K302)","v":87412.5},70.872584384000007,"À la fin du projet (suite au dernier versement)",49.297695440509273,"QC-Québec","Oui",25,0,70.926236384000006,"Non","Oui",0,null,0,null,0,null,0,null,0,null,32.168730163234997,null,70.732448852896198,null,70.538661321792304,null,70.538661321792304]
[null,{"$f":"IF(LEN('Détail des projets'!B303)=0,\"\",'Détail des projets'!B303)","v":"Congrégation Notre-Dame"},{"$f":"IF(LEN('Détail des projets'!C303)=0,\"\",'Détail des projets'!C303)","v":"Les Soeurs de la Congrégation de Notre Dame"},{"$f":"IF(LEN('Détail des projets'!G303)=0,\"\",'Détail des projets'!G303)","v":"06-Montréal"},{"$f":"IF(LEN('Détail des projets'!K303)=0,\"\",'Détail des projets'!K303)","v":150150.18899999998},114.46812405999999,"À la fin du projet (suite au dernier versement)",77.275056259145614,"QC-Québec","Oui",16.591312408447301,47.612116640000004,69.501073779999999,"Non","Oui",0,null,0,null,0,null,0,null,0,null,0,null,97.274343955409805,null,116.47322763082001,null,116.47322763082001]
[null,{"$f":"IF(LEN('Détail des projets'!B304)=0,\"\",'Détail des projets'!B304)","v":"Implantation d'une système de réfrigération au CO2"},{"$f":"IF(LEN('Détail des projets'!C304)=0,\"\",'Détail des projets'!C304)","v":"Complexe Sportif Saint-Raphaël"},{"$f":"IF(LEN('Détail des projets'!G304)=0,\"\",'Détail des projets'!G304)","v":"06-Montréal"},{"$f":"IF(LEN('Détail des projets'!K304)=0,\"\",'Détail des projets'!K304)","v":0},1.53,"À la fin du projet (suite au dernier versement)",0,"QC-Québec","Oui",24.819625854492202,1.53,null,"Non","Oui",0,null,0,null,0,null,0,null,0.413852459016393,null,1.5216393442623,null,1.5258196721311501,null,1.5216393442623,null,1.5216393442623]
[null,{"$f":"IF(LEN('Détail des projets'!B305)=0,\"\",'Détail des projets'!B305)","v":"Réfrigération CO2 avec récupération de chaleur (075016)"},{"$f":"IF(LEN('Détail des projets'!C305)=0,\"\",'Détail des projets'!C305)","v":"Sobeys Capital Incorporée"},{"$f":"IF(LEN('Détail des projets'!G305)=0,\"\",'Détail des projets'!G305)","v":"06-Montréal"},{"$f":"IF(LEN('Détail des projets'!K305)=0,\"\",'Détail des projets'!K305)","v":0},147.813028452,"À la fin du projet (suite au dernier versement)",0,"QC-Québec","Oui",15,137.69742024000001,null,"Non","Oui",0,null,0,null,0,null,0,null,0,null,115.124072659672,null,137.32119778032799,null,136.944975320656,null,136.944975320656]
[null,{"$f":"IF(LEN('Détail des projets'!B306)=0,\"\",'Détail des projets'!B306)","v":"Mesures d'efficacité énergétique au nouveau complexe médical"},{"$f":"IF(LEN('Détail des projets'!C306)=0,\"\",'Détail des projets'!C306)","v":"Complexe médical Nord-de-l'Île"},{"$f":"IF(LEN('Détail des projets'!G306)=0,\"\",'Détail des projets'!G306)","v":"06-Montréal"},{"$f":"IF(LEN('Détail des projets'!K306)=0,\"\",'Détail des projets'!K306)","v":64411.09},51.52887312,"À la fin du projet (suite au dernier versement)",39.939216302007743,"QC-Québec","Oui",20,80.636396959999999,null,"Non","Oui",0,null,0,null,0,null,0,null,0,null,79.314488813114707,null,80.416078935519096,null,80.195760911038207,null,80.195760911038207]
[null,{"$f":"IF(LEN('Détail des projets'!B307)=0,\"\",'Détail des projets'!B307)","v":"Projet d'efficacité énergétique - Les appartements le Saphir I"},{"$f":"IF(LEN('Détail des projets'!C307)=0,\"\",'Détail des projets'!C307)","v":"Groupe immobilier Pertel inc."},{"$f":"IF(LEN('Détail des projets'!G307)=0,\"\",'Détail des projets'!G307)","v":"06-Montréal"},{"$f":"IF(LEN('Détail des projets'!K307)=0,\"\",'Détail des projets'!K307)","v":198633.92750000002},203.42456121977,"À la fin du projet (suite au dernier versement)",48.581415945513328,"QC-Québec","Oui",19.7882995605469,206.62115507999999,null,"Non","Oui",0,null,0,null,0,null,0,null,102.74603886491801,null,205.49207772983601,null,206.056616404918,null,205.49207772983601,null,205.49207772983601]
[null,{"$f":"IF(LEN('Détail des projets'!B308)=0,\"\",'Détail des projets'!B308)","v":"Étude en efficacité énergétique du bâtiment"},{"$f":"IF(LEN('Détail des projets'!C308)=0,\"\",'Détail des projets'!C308)","v":"Hôtel Chicoutimi (1994) enr."},{"$f":"IF(LEN('Détail des projets'!G308)=0,\"\",'Détail des projets'!G308)","v":"02-Saguenay--Lac-Saint-Jean"},{"$f":"IF(LEN('Détail des projets'!K308)=0,\"\",'Détail des projets'!K308)","v":8125},0,"À la fin du projet (suite au dernier versement)",0,"QC-Québec","Oui",0,0,null,"Non","Oui"]
[null,{"$f":"IF(LEN('Détail des projets'!B309)=0,\"\",'Détail des projets'!B309)","v":"Projet d'efficacité énergétique avec Arbec / Médifice immobilier s.e.n.c."},{"$f":"IF(LEN('Détail des projets'!C309)=0,\"\",'Détail des projets'!C309)","v":"Arbec - Médifice Immobilier II s.e.n.c."},{"$f":"IF(LEN('Détail des projets'!G309)=0,\"\",'Détail des projets'!G309)","v":"14-Lanaudière"},{"$f":"IF(LEN('Détail des projets'!K309)=0,\"\",'Détail des projets'!K309)","v":359574.07500000001},273.96119651480001,"À la fin du projet (suite au dernier versement)",54.687500695707556,"QC-Québec","Oui",24,273.96119651480001,null,"Non","Oui",0,null,0,null,0,null,0,null,0,null,0,null,231.295108532987,null,272.46414079613999,null,272.46414079613999]
[null,{"$f":"IF(LEN('Détail des projets'!B310)=0,\"\",'Détail des projets'!B310)","v":"Implantation du produit écoAZUR, confort du chef avec tableau de bord"},{"$f":"IF(LEN('Détail des projets'!C310)=0,\"\",'Détail des projets'!C310)","v":"9244-7770 Québec inc."},{"$f":"IF(LEN('Détail des projets'!G310)=0,\"\",'Détail des projets'!G310)","v":"02-Saguenay--Lac-Saint-Jean"},{"$f":"IF(LEN('Détail des projets'!K310)=0,\"\",'Détail des projets'!K310)","v":36669.599999999999},30.023561000000001,"À la fin du projet (suite au dernier versement)",131.19255206169368,"QC-Québec","Oui",10,27.950976959999998,null,"Non","Oui",0,null,0,null,0,null,0,null,0.91642547409836095,null,27.798239380983599,null,27.874608170491801,null,27.798239380983599,null,27.798239380983599]
[null,{"$f":"IF(LEN('Détail des projets'!B311)=0,\"\",'Détail des projets'!B311)","v":"Mise aux normes de l'aréna René Masson"},{"$f":"IF(LEN('Détail des projets'!C311)=0,\"\",'Détail des projets'!C311)","v":"Ville de Montréal"},{"$f":"IF(LEN('Détail des projets'!G311)=0,\"\",'Détail des projets'!G311)","v":"06-Montréal"},{"$f":"IF(LEN('Détail des projets'!K311)=0,\"\",'Détail des projets'!K311)","v":229486.95},406.87851096000003,"À la fin du projet (suite au dernier versement)",24.023323136973339,"QC-Québec","Oui",23.477949142456101,406.87851096000003,null,"Non","Oui",0,null,0,null,0,null,0,null,0,null,0,null,366.857673816393,null,404.65513111868898,null,404.65513111868898]
[null,{"$f":"IF(LEN('Détail des projets'!B312)=0,\"\",'Détail des projets'!B312)","v":"Optimisation du chauffage de l'eau chaude domestique"},{"$f":"IF(LEN('Détail des projets'!C312)=0,\"\",'Détail des projets'!C312)","v":"Hotellus Montreal Holding inc."},{"$f":"IF(LEN('Détail des projets'!G312)=0,\"\",'Détail des projets'!G312)","v":"06-Montréal"},{"$f":"IF(LEN('Détail des projets'!K312)=0,\"\",'Détail des projets'!K312)","v":114918.26},91.934608999999995,"À la fin du projet (suite au dernier versement)",49.999999456135171,"QC-Québec","Oui",25,0,91.934608999999995,"Non","Oui",0,null,0,null,0,null,0,null,0,null,59.531427139344302,null,91.683421543715895,null,91.432234087431695,null,91.432234087431695]
[null,{"$f":"IF(LEN('Détail des projets'!B313)=0,\"\",'Détail des projets'!B313)","v":"Système de réfrigération au CO2 avec récupération de chaleur"},{"$f":"IF(LEN('Détail des projets'!C313)=0,\"\",'Détail des projets'!C313)","v":"Métro Richelieu inc."},{"$f":"IF(LEN('Détail des projets'!G313)=0,\"\",'Détail des projets'!G313)","v":"07-Outaouais"},{"$f":"IF(LEN('Détail des projets'!K313)=0,\"\",'Détail des projets'!K313)","v":0},0.89707639319999999,"À la fin du projet (suite au dernier versement)",0,"QC-Québec","Oui",20,0.89707639319999999,null,"Non","Oui",0,null,0,null,0,null,0,null,0,null,0,null,0.475499508963935,null,0.89217433640655797,null,0.89217433640655797]
[null,{"$f":"IF(LEN('Détail des projets'!B314)=0,\"\",'Détail des projets'!B314)","v":"Réfection majeure - Garage municipal"},{"$f":"IF(LEN('Détail des projets'!C314)=0,\"\",'Détail des projets'!C314)","v":"Ville de Joliette"},{"$f":"IF(LEN('Détail des projets'!G314)=0,\"\",'Détail des projets'!G314)","v":"14-Lanaudière"},{"$f":"IF(LEN('Détail des projets'!K314)=0,\"\",'Détail des projets'!K314)","v":15203.82},0,"À la fin du projet (suite au dernier versement)",0,"QC-Québec","Oui",0,0,0,"Non","Oui"]
[null,{"$f":"IF(LEN('Détail des projets'!B315)=0,\"\",'Détail des projets'!B315)","v":"Agrandissement de l'École Louis-Cyr"},{"$f":"IF(LEN('Détail des projets'!C315)=0,\"\",'Détail des projets'!C315)","v":"Centre de services scolaire des Grandes-Seigneuries"},{"$f":"IF(LEN('Détail des projets'!G315)=0,\"\",'Détail des projets'!G315)","v":"16-Montérégie"},{"$f":"IF(LEN('Détail des projets'!K315)=0,\"\",'Détail des projets'!K315)","v":4975},0,"À la fin du projet (suite au dernier versement)",0,"QC-Québec","Oui",0,0,null,"Non","Oui"]
[null,{"$f":"IF(LEN('Détail des projets'!B316)=0,\"\",'Détail des projets'!B316)","v":"Agrandissement de l'École Louis-Cyr"},{"$f":"IF(LEN('Détail des projets'!C316)=0,\"\",'Détail des projets'!C316)","v":"Centre de services scolaire des Grandes-Seigneuries"},{"$f":"IF(LEN('Détail des projets'!G316)=0,\"\",'Détail des projets'!G316)","v":"16-Montérégie"},{"$f":"IF(LEN('Détail des projets'!K316)=0,\"\",'Détail des projets'!K316)","v":71827.391999999993},60.670118160000001,"À la fin du projet (suite au dernier versement)",48.528497023114447,"QC-Québec","Oui",25,59.204299663999997,null,"Non","Oui",0,null,0,null,0,null,0,null,0,null,0,null,25.072859147322401,null,58.8807789008087,null,58.8807789008087]
[null,{"$f":"IF(LEN('Détail des projets'!B317)=0,\"\",'Détail des projets'!B317)","v":"Analyse d'un programme de récupération de chaleur et de réduction des émissions de gaz à effet de serre au Casino de Charlevoix"},{"$f":"IF(LEN('Détail des projets'!C317)=0,\"\",'Détail des projets'!C317)","v":"Casiloc inc."},{"$f":"IF(LEN('Détail des projets'!G317)=0,\"\",'Détail des projets'!G317)","v":"03-Capitale-Nationale"},{"$f":"IF(LEN('Détail des projets'!K317)=0,\"\",'Détail des projets'!K317)","v":17390},0,"À la fin du projet (suite au dernier versement)",0,"QC-Québec","Oui",30,0,null,"Non","Oui"]
[null,{"$f":"IF(LEN('Détail des projets'!B318)=0,\"\",'Détail des projets'!B318)","v":"Projet d'efficacité énergétique"},{"$f":"IF(LEN('Détail des projets'!C318)=0,\"\",'Détail des projets'!C318)","v":"7037457 Canada inc."},{"$f":"IF(LEN('Détail des projets'!G318)=0,\"\",'Détail des projets'!G318)","v":"06-Montréal"},{"$f":"IF(LEN('Détail des projets'!K318)=0,\"\",'Détail des projets'!K318)","v":725028.41249999998},598.34530171999995,"À la fin du projet (suite au dernier versement)",44.062807150611938,"QC-Québec","Oui",23.451789855956999,701.62793255999998,null,"Non","Oui",0,null,0,null,0,null,0,null,0,null,0,null,57.510486275409797,null,697.79390014163903,null,697.79390014163903]
[null,{"$f":"IF(LEN('Détail des projets'!B319)=0,\"\",'Détail des projets'!B319)","v":"Implantation du produit écoAZUR, confort du chef avec tableau de bord"},{"$f":"IF(LEN('Détail des projets'!C319)=0,\"\",'Détail des projets'!C319)","v":"Bistro Ophélia inc."},{"$f":"IF(LEN('Détail des projets'!G319)=0,\"\",'Détail des projets'!G319)","v":"03-Capitale-Nationale"},{"$f":"IF(LEN('Détail des projets'!K319)=0,\"\",'Détail des projets'!K319)","v":18219.47},14.575579279999999,"À la fin du projet (suite au dernier versement)",110.45029414193299,"QC-Québec","Oui",10,16.495628320000002,null,"Non","Oui",0,null,0,null,0,null,0,null,12.484396296830599,null,16.4054882745355,null,16.450558297267801,null,16.4054882745355,null,16.4054882745355]
[null,{"$f":"IF(LEN('Détail des projets'!B320)=0,\"\",'Détail des projets'!B320)","v":"Étude d'efficacité énergétique en prévision du projet Agrandissement du Centre ÉPIC - Phase 2"},{"$f":"IF(LEN('Détail des projets'!C320)=0,\"\",'Détail des projets'!C320)","v":"Institut de Cardiologie de Montréal"},{"$f":"IF(LEN('Détail des projets'!G320)=0,\"\",'Détail des projets'!G320)","v":"06-Montréal"},{"$f":"IF(LEN('Détail des projets'!K320)=0,\"\",'Détail des projets'!K320)","v":9500},0,"À la fin du projet (suite au dernier versement)",0,"QC-Québec","Oui",0,0,null,"Non","Oui"]
[null,{"$f":"IF(LEN('Détail des projets'!B321)=0,\"\",'Détail des projets'!B321)","v":"Projet d'efficacité énergétique à l'agrandissement du Centre ÉPIC - Phase 2"},{"$f":"IF(LEN('Détail des projets'!C321)=0,\"\",'Détail des projets'!C321)","v":"Institut de Cardiologie de Montréal"},{"$f":"IF(LEN('Détail des projets'!G321)=0,\"\",'Détail des projets'!G321)","v":"06-Montréal"},{"$f":"IF(LEN('Détail des projets'!K321)=0,\"\",'Détail des projets'!K321)","v":158640.05849999998},121.61536286400001,"À la fin du projet (suite au dernier versement)",50.030733677971462,"QC-Québec","Oui",21.8115940093994,145.37461726399999,null,"Non","Oui",0,null,0,null,0,null,0,null,0,null,0,null,84.206062458928997,null,144.58022044834999,null,144.58022044834999]
[null,{"$f":"IF(LEN('Détail des projets'!B322)=0,\"\",'Détail des projets'!B322)","v":"Étude de faisabilité en efficacité énergétique - CSRJQ"},{"$f":"IF(LEN('Détail des projets'!C322)=0,\"\",'Détail des projets'!C322)","v":"Centre de services scolaire du Chemin-du-Roy"},{"$f":"IF(LEN('Détail des projets'!G322)=0,\"\",'Détail des projets'!G322)","v":"04-Mauricie"},{"$f":"IF(LEN('Détail des projets'!K322)=0,\"\",'Détail des projets'!K322)","v":13300},0,"À la fin du projet (suite au dernier versement)",0,"QC-Québec","Oui",0,0,null,"Non","Oui"]
[null,{"$f":"IF(LEN('Détail des projets'!B323)=0,\"\",'Détail des projets'!B323)","v":"Réfrigération CO2 avec récupération de chaleur"},{"$f":"IF(LEN('Détail des projets'!C323)=0,\"\",'Détail des projets'!C323)","v":"Métro Richelieu inc."},{"$f":"IF(LEN('Détail des projets'!G323)=0,\"\",'Détail des projets'!G323)","v":"07-Outaouais"},{"$f":"IF(LEN('Détail des projets'!K323)=0,\"\",'Détail des projets'!K323)","v":0},88.575100239999998,"À la fin du projet (suite au dernier versement)",0,"QC-Québec","Oui",16.013166427612301,88.575100239999998,null,"Non","Oui",0,null,0,null,0,null,0,null,0,null,0,null,55.661948238251398,null,88.091083298797798,null,88.091083298797798]
[null,{"$f":"IF(LEN('Détail des projets'!B324)=0,\"\",'Détail des projets'!B324)","v":"Analyse écoénergétique - Nouvelle construction d’une caserne incendie"},{"$f":"IF(LEN('Détail des projets'!C324)=0,\"\",'Détail des projets'!C324)","v":"Ville de Saint-Joseph-de-Beauce"},{"$f":"IF(LEN('Détail des projets'!G324)=0,\"\",'Détail des projets'!G324)","v":"12-Chaudière-Appalaches"},{"$f":"IF(LEN('Détail des projets'!K324)=0,\"\",'Détail des projets'!K324)","v":4000},0,"À la fin du projet (suite au dernier versement)",0,"QC-Québec","Oui",0,16.862181,0,"Non","Oui",null,null,null,null,null,null,null,null,null,null,2.67214890163934,null,16.816109467213099,null,16.770037934426199,null,16.770037934426199]
[null,{"$f":"IF(LEN('Détail des projets'!B325)=0,\"\",'Détail des projets'!B325)","v":"Nouveau bâtiment écoénergétique"},{"$f":"IF(LEN('Détail des projets'!C325)=0,\"\",'Détail des projets'!C325)","v":"Développements rue Dowd S.E.C."},{"$f":"IF(LEN('Détail des projets'!G325)=0,\"\",'Détail des projets'!G325)","v":"06-Montréal"},{"$f":"IF(LEN('Détail des projets'!K325)=0,\"\",'Détail des projets'!K325)","v":346946.22},325.50981852000001,"À la fin du projet (suite au dernier versement)",45.224689571474933,"QC-Québec","Oui",20.8472900390625,367.99079655999998,null,"Non","Oui",0,null,0,null,0,null,0,null,0,null,0,null,339.83849518382499,null,365.97991789027299,null,365.97991789027299]
[null,{"$f":"IF(LEN('Détail des projets'!B326)=0,\"\",'Détail des projets'!B326)","v":"Analyse écoénergétique - École de Sutton"},{"$f":"IF(LEN('Détail des projets'!C326)=0,\"\",'Détail des projets'!C326)","v":"Commission scolaire Eastern Townships"},{"$f":"IF(LEN('Détail des projets'!G326)=0,\"\",'Détail des projets'!G326)","v":"05-Estrie"},{"$f":"IF(LEN('Détail des projets'!K326)=0,\"\",'Détail des projets'!K326)","v":3800},0,"À la fin du projet (suite au dernier versement)",0,"QC-Québec","Oui",0,0,0,"Non","Oui"]
[null,{"$f":"IF(LEN('Détail des projets'!B327)=0,\"\",'Détail des projets'!B327)","v":"Analyse écoénergétique - École primaire 035 de la CSPO"},{"$f":"IF(LEN('Détail des projets'!C327)=0,\"\",'Détail des projets'!C327)","v":"Centre de services scolaire des Portages-de-l'Outaouais"},{"$f":"IF(LEN('Détail des projets'!G327)=0,\"\",'Détail des projets'!G327)","v":"07-Outaouais"},{"$f":"IF(LEN('Détail des projets'!K327)=0,\"\",'Détail des projets'!K327)","v":5900},0,"À la fin du projet (suite au dernier versement)",0,"QC-Québec","Oui",0,0,null,"Non","Oui"]
[null,{"$f":"IF(LEN('Détail des projets'!B328)=0,\"\",'Détail des projets'!B328)","v":"Projet d'efficacité énergétique à l\"École primaire 035"},{"$f":"IF(LEN('Détail des projets'!C328)=0,\"\",'Détail des projets'!C328)","v":"Centre de services scolaire des Portages-de-l'Outaouais"},{"$f":"IF(LEN('Détail des projets'!G328)=0,\"\",'Détail des projets'!G328)","v":"07-Outaouais"},{"$f":"IF(LEN('Détail des projets'!K328)=0,\"\",'Détail des projets'!K328)","v":36545.186999999998},145.03173211000001,"À la fin du projet (suite au dernier versement)",10.079225137373971,"QC-Québec","Oui",25,37.404757359999998,107.62697475,"Non","Oui",0,null,0,null,0,null,0,null,0,null,72.119604491857899,null,144.63547054685799,null,144.239208983716,null,144.239208983716]
[null,{"$f":"IF(LEN('Détail des projets'!B329)=0,\"\",'Détail des projets'!B329)","v":"Projet d'économie d'énergie aux Appartements Le Parc"},{"$f":"IF(LEN('Détail des projets'!C329)=0,\"\",'Détail des projets'!C329)","v":"Immoparc Holdings Two Canadian Propreties"},{"$f":"IF(LEN('Détail des projets'!G329)=0,\"\",'Détail des projets'!G329)","v":"06-Montréal"},{"$f":"IF(LEN('Détail des projets'!K329)=0,\"\",'Détail des projets'!K329)","v":754846.47},721.15444939999998,"À la fin du projet (suite au dernier versement)",39.147272334302137,"QC-Québec","Oui",28.142299652099599,685.16873648000001,null,"Non","Oui",0,null,0,null,0,null,0,null,0,null,200.30889290535501,null,683.29669075191202,null,681.42464502382495,null,681.42464502382495]
[null,{"$f":"IF(LEN('Détail des projets'!B330)=0,\"\",'Détail des projets'!B330)","v":"57, Crémazie, Gatineau - Neuf logements"},{"$f":"IF(LEN('Détail des projets'!C330)=0,\"\",'Détail des projets'!C330)","v":"Construction JPL"},{"$f":"IF(LEN('Détail des projets'!G330)=0,\"\",'Détail des projets'!G330)","v":"07-Outaouais"},{"$f":"IF(LEN('Détail des projets'!K330)=0,\"\",'Détail des projets'!K330)","v":2250},0,"À la fin du projet (suite au dernier versement)",0,"QC-Québec","Oui",0,0,null,"Non","Oui"]
[null,{"$f":"IF(LEN('Détail des projets'!B331)=0,\"\",'Détail des projets'!B331)","v":"Implantation du produit ecoAZUR"},{"$f":"IF(LEN('Détail des projets'!C331)=0,\"\",'Détail des projets'!C331)","v":"Boston Pizza Beauport"},{"$f":"IF(LEN('Détail des projets'!G331)=0,\"\",'Détail des projets'!G331)","v":"03-Capitale-Nationale"},{"$f":"IF(LEN('Détail des projets'!K331)=0,\"\",'Détail des projets'!K331)","v":27077.7},21.662163159999999,"À la fin du projet (suite au dernier versement)",101.67052890293492,"QC-Québec","Oui",10,26.632791520000001,null,"Non","Oui",0,null,0,null,0,null,0,null,10.987845681748601,null,26.4872571401093,null,26.560024330054599,null,26.4872571401093,null,26.4872571401093]
[null,{"$f":"IF(LEN('Détail des projets'!B332)=0,\"\",'Détail des projets'!B332)","v":"Projet d’efficacité énergétique à l'hôtel Le Sheraton de l'Aéroport de Montréal"},{"$f":"IF(LEN('Détail des projets'!C332)=0,\"\",'Détail des projets'!C332)","v":"Hôtel McMillan 555 inc."},{"$f":"IF(LEN('Détail des projets'!G332)=0,\"\",'Détail des projets'!G332)","v":"06-Montréal"},{"$f":"IF(LEN('Détail des projets'!K332)=0,\"\",'Détail des projets'!K332)","v":25000},0,"À la fin du projet (suite au dernier versement)",0,"QC-Québec","Oui",0,0,null,"Non","Oui"]
[null,{"$f":"IF(LEN('Détail des projets'!B333)=0,\"\",'Détail des projets'!B333)","v":"Projet d'efficacité énergétique pour l'hôtel Sheraton Aéroport Montréal"},{"$f":"IF(LEN('Détail des projets'!C333)=0,\"\",'Détail des projets'!C333)","v":"Hôtel McMillan 555 inc."},{"$f":"IF(LEN('Détail des projets'!G333)=0,\"\",'Détail des projets'!G333)","v":"06-Montréal"},{"$f":"IF(LEN('Détail des projets'!K333)=0,\"\",'Détail des projets'!K333)","v":1166933.355},923.45652891999998,"À la fin du projet (suite au dernier versement)",62.413052748684883,"QC-Québec","Oui",20.246696472168001,923.45652891999998,null,"Non","Oui",0,null,0,null,0,null,0,null,0,null,0,null,113.539737162295,null,918.41031837945297,null,918.41031837945297]
[null,{"$f":"IF(LEN('Détail des projets'!B334)=0,\"\",'Détail des projets'!B334)","v":"Projet d'efficacité énergétique à l'Hôtel Marriott - Chaudières à condensation"},{"$f":"IF(LEN('Détail des projets'!C334)=0,\"\",'Détail des projets'!C334)","v":"4328175 Canada inc."},{"$f":"IF(LEN('Détail des projets'!G334)=0,\"\",'Détail des projets'!G334)","v":"06-Montréal"},{"$f":"IF(LEN('Détail des projets'!K334)=0,\"\",'Détail des projets'!K334)","v":44047.489499999996},33.559991160000003,"À la fin du projet (suite au dernier versement)",65.62500164258087,"QC-Québec","Oui",20,33.559991160000003,null,"Non","Oui",0,null,0,null,0,null,0,null,0,null,22.648409334754099,null,33.468297195082002,null,33.376603230163902,null,33.376603230163902]
[null,{"$f":"IF(LEN('Détail des projets'!B335)=0,\"\",'Détail des projets'!B335)","v":"Analyse écoénergétique du Séminaire Salésien"},{"$f":"IF(LEN('Détail des projets'!C335)=0,\"\",'Détail des projets'!C335)","v":"Le Séminaire Salésien de Sherbrooke"},{"$f":"IF(LEN('Détail des projets'!G335)=0,\"\",'Détail des projets'!G335)","v":"05-Estrie"},{"$f":"IF(LEN('Détail des projets'!K335)=0,\"\",'Détail des projets'!K335)","v":4480},0,"À la fin du projet (suite au dernier versement)",0,"QC-Québec","Oui",0,0,null,"Non","Oui"]
[null,{"$f":"IF(LEN('Détail des projets'!B336)=0,\"\",'Détail des projets'!B336)","v":"Projet d'efficacité énergétique - Maison de la culture"},{"$f":"IF(LEN('Détail des projets'!C336)=0,\"\",'Détail des projets'!C336)","v":"Ville de Saint-Joseph-de-Beauce"},{"$f":"IF(LEN('Détail des projets'!G336)=0,\"\",'Détail des projets'!G336)","v":"12-Chaudière-Appalaches"},{"$f":"IF(LEN('Détail des projets'!K336)=0,\"\",'Détail des projets'!K336)","v":12540},10.03200384,"À la fin du projet (suite au dernier versement)",34.31905075590317,"QC-Québec","Oui",16.519111633300799,22.119514039999999,null,"Non","Oui",0,null,0,null,0,null,0,null,0,null,21.515155732896201,null,22.059078209289599,null,21.998642378579198,null,21.998642378579198]
[null,{"$f":"IF(LEN('Détail des projets'!B337)=0,\"\",'Détail des projets'!B337)","v":"Implantation du produit ecoAZUR"},{"$f":"IF(LEN('Détail des projets'!C337)=0,\"\",'Détail des projets'!C337)","v":"Restaurant Chez Gérard inc."},{"$f":"IF(LEN('Détail des projets'!G337)=0,\"\",'Détail des projets'!G337)","v":"12-Chaudière-Appalaches"},{"$f":"IF(LEN('Détail des projets'!K337)=0,\"\",'Détail des projets'!K337)","v":11920.57},9.5364589439999996,"À la fin du projet (suite au dernier versement)",83.008127312593317,"QC-Québec","Oui",10,14.360726336000001,null,"Non","Oui",0,null,0,null,0,null,0,null,7.2196001252021897,null,14.282252421595601,null,14.3214893787978,null,14.282252421595601,null,14.282252421595601]
[null,{"$f":"IF(LEN('Détail des projets'!B338)=0,\"\",'Détail des projets'!B338)","v":"Aréna du Collège Bourget - Remplacement du système de réfrigération"},{"$f":"IF(LEN('Détail des projets'!C338)=0,\"\",'Détail des projets'!C338)","v":"Collège Bourget"},{"$f":"IF(LEN('Détail des projets'!G338)=0,\"\",'Détail des projets'!G338)","v":"16-Montérégie"},{"$f":"IF(LEN('Détail des projets'!K338)=0,\"\",'Détail des projets'!K338)","v":73290},73.750082535999994,"À la fin du projet (suite au dernier versement)",29.071045629910998,"QC-Québec","Oui",25,100.842605984,null,"Non","Oui",0,null,0,null,0,null,0,null,0,null,8.2657873757377107,null,100.567079738142,null,100.291553492284,null,100.291553492284]
[null,{"$f":"IF(LEN('Détail des projets'!B339)=0,\"\",'Détail des projets'!B339)","v":"Projet d'efficacité énergétique et conversion vers l'électricité avec gestion de l'appel de puissance"},{"$f":"IF(LEN('Détail des projets'!C339)=0,\"\",'Détail des projets'!C339)","v":"Collège d'Anjou"},{"$f":"IF(LEN('Détail des projets'!G339)=0,\"\",'Détail des projets'!G339)","v":"06-Montréal"},{"$f":"IF(LEN('Détail des projets'!K339)=0,\"\",'Détail des projets'!K339)","v":158376.68},126.70134468000001,"À la fin du projet (suite au dernier versement)",30.804971900059311,"QC-Québec","Oui",40,77.409586959999999,51.122164759999997,"Non","Oui",0,null,0,null,0,null,0,null,0,null,60.402899715409802,null,128.18057207049199,null,127.82939242098399,null,127.82939242098399]
[null,{"$f":"IF(LEN('Détail des projets'!B340)=0,\"\",'Détail des projets'!B340)","v":"Installation d'un système de réfrigération au CO2 au Avril Supermarché Santé"},{"$f":"IF(LEN('Détail des projets'!C340)=0,\"\",'Détail des projets'!C340)","v":"Avril Supermarché Santé"},{"$f":"IF(LEN('Détail des projets'!G340)=0,\"\",'Détail des projets'!G340)","v":"13-Laval"},{"$f":"IF(LEN('Détail des projets'!K340)=0,\"\",'Détail des projets'!K340)","v":0},34.007759999999998,"À la fin du projet (suite au dernier versement)",0,"QC-Québec","Oui",15,34.007759999999998,null,"Non","Oui",0,null,0,null,0,null,0,null,0,null,24.4372701639344,null,33.9148426229508,null,33.821925245901603,null,33.821925245901603]
[null,{"$f":"IF(LEN('Détail des projets'!B341)=0,\"\",'Détail des projets'!B341)","v":"Réfrigération CO2 avec récupération de chaleur (089130)"},{"$f":"IF(LEN('Détail des projets'!C341)=0,\"\",'Détail des projets'!C341)","v":"Sobeys Capital Incorporée"},{"$f":"IF(LEN('Détail des projets'!G341)=0,\"\",'Détail des projets'!G341)","v":"06-Montréal"},{"$f":"IF(LEN('Détail des projets'!K341)=0,\"\",'Détail des projets'!K341)","v":0},125.9845809,"À la fin du projet (suite au dernier versement)",0,"QC-Québec","Oui",15,183.59656032000001,null,"Non","Oui",0,null,0,null,0,null,0,null,0,null,0,null,0,null,0,null,138.449865159344]
[null,{"$f":"IF(LEN('Détail des projets'!B342)=0,\"\",'Détail des projets'!B342)","v":"Réfrigération CO2 avec récupération de chaleur (088077)"},{"$f":"IF(LEN('Détail des projets'!C342)=0,\"\",'Détail des projets'!C342)","v":"Sobeys Capital Incorporée"},{"$f":"IF(LEN('Détail des projets'!G342)=0,\"\",'Détail des projets'!G342)","v":"06-Montréal"},{"$f":"IF(LEN('Détail des projets'!K342)=0,\"\",'Détail des projets'!K342)","v":0},125.98552556,"À la fin du projet (suite au dernier versement)",0,"QC-Québec","Oui",15,265.74608324000002,null,"Non","Oui",0,null,0,null,0,null,0,null,0,null,0,null,206.20734327912601,null,264.29391885070999,null,264.29391885070999]
[null,{"$f":"IF(LEN('Détail des projets'!B343)=0,\"\",'Détail des projets'!B343)","v":"Réfrigération au CO2 avec récupération de chaleur (08123)"},{"$f":"IF(LEN('Détail des projets'!C343)=0,\"\",'Détail des projets'!C343)","v":"Sobeys Capital Incorporée"},{"$f":"IF(LEN('Détail des projets'!G343)=0,\"\",'Détail des projets'!G343)","v":"14-Lanaudière"},{"$f":"IF(LEN('Détail des projets'!K343)=0,\"\",'Détail des projets'!K343)","v":0},168.326887148,"À la fin du projet (suite au dernier versement)",0,"QC-Québec","Oui",15,256.04593649600002,null,"Non","Oui",0,null,0,null,0,null,0,null,0,null,0,null,0,null,235.058564652066,null,254.64677837307099]
[null,{"$f":"IF(LEN('Détail des projets'!B344)=0,\"\",'Détail des projets'!B344)","v":"Étude de modernisation énergétique"},{"$f":"IF(LEN('Détail des projets'!C344)=0,\"\",'Détail des projets'!C344)","v":"Gestion 333 Chabanel (9315-3252 Québec inc.)"},{"$f":"IF(LEN('Détail des projets'!G344)=0,\"\",'Détail des projets'!G344)","v":"06-Montréal"},{"$f":"IF(LEN('Détail des projets'!K344)=0,\"\",'Détail des projets'!K344)","v":17500},0,"À la fin du projet (suite au dernier versement)",0,"QC-Québec","Oui",null,0,null,"Non","Oui"]
[null,{"$f":"IF(LEN('Détail des projets'!B345)=0,\"\",'Détail des projets'!B345)","v":"Modernisation énergétique -  Canada Goose"},{"$f":"IF(LEN('Détail des projets'!C345)=0,\"\",'Détail des projets'!C345)","v":"Gestion 333 Chabanel (9315-3252 Québec inc.)"},{"$f":"IF(LEN('Détail des projets'!G345)=0,\"\",'Détail des projets'!G345)","v":"06-Montréal"},{"$f":"IF(LEN('Détail des projets'!K345)=0,\"\",'Détail des projets'!K345)","v":276001.88699999999},210.28714924959999,"À la fin du projet (suite au dernier versement)",52.500000686661075,"QC-Québec","Oui",25,210.28714924959999,null,"Non","Oui",0,null,0,null,0,null,0,null,0,null,0,null,0,null,91.354253362531196,null,209.13803914441101]
[null,{"$f":"IF(LEN('Détail des projets'!B346)=0,\"\",'Détail des projets'!B346)","v":"Projet d'efficacité énergétique Collège de Lévis"},{"$f":"IF(LEN('Détail des projets'!C346)=0,\"\",'Détail des projets'!C346)","v":"Collège de Lévis"},{"$f":"IF(LEN('Détail des projets'!G346)=0,\"\",'Détail des projets'!G346)","v":"12-Chaudière-Appalaches"},{"$f":"IF(LEN('Détail des projets'!K346)=0,\"\",'Détail des projets'!K346)","v":342634.56150000001},267.56014283000002,"À la fin du projet (suite au dernier versement)",30.366783055136739,"QC-Québec","Oui",27.300745010376001,406.78759988000002,6.5052411499999998,"Non","Oui",0,null,0,null,0,null,0,null,0,null,89.208017599371601,null,412.16362561735002,null,411.03441020469899,null,411.03441020469899]
[null,{"$f":"IF(LEN('Détail des projets'!B347)=0,\"\",'Détail des projets'!B347)","v":"Projet d'efficacité énergétique au 5740, boulevard Cavendish"},{"$f":"IF(LEN('Détail des projets'!C347)=0,\"\",'Détail des projets'!C347)","v":"CAPREIT Apartments Inc."},{"$f":"IF(LEN('Détail des projets'!G347)=0,\"\",'Détail des projets'!G347)","v":"06-Montréal"},{"$f":"IF(LEN('Détail des projets'!K347)=0,\"\",'Détail des projets'!K347)","v":314432.56},251.54604699999999,"À la fin du projet (suite au dernier versement)",70.908502163801046,"QC-Québec","Oui",16.428146362304702,269.92346264000003,null,"Non","Oui",0,null,0,null,0,null,0,null,0,null,223.46122726754101,null,269.185966840437,null,268.44847104087398,null,268.44847104087398]
[null,{"$f":"IF(LEN('Détail des projets'!B348)=0,\"\",'Détail des projets'!B348)","v":"Projet d'économie d'énergie à la résidence Jardins Le Flandre"},{"$f":"IF(LEN('Détail des projets'!C348)=0,\"\",'Détail des projets'!C348)","v":"Résidences Les Jardins, société en commandite"},{"$f":"IF(LEN('Détail des projets'!G348)=0,\"\",'Détail des projets'!G348)","v":"03-Capitale-Nationale"},{"$f":"IF(LEN('Détail des projets'!K348)=0,\"\",'Détail des projets'!K348)","v":60568.15},94.147736428000002,"À la fin du projet (suite au dernier versement)",33.342475440681184,"QC-Québec","Oui",17.393100738525401,104.44062364,null,"Non","Oui",0,null,0,null,0,null,0,null,38.808537746010899,null,103.869909849617,null,104.155266744809,null,103.869909849617,null,103.869909849617]
[null,{"$f":"IF(LEN('Détail des projets'!B349)=0,\"\",'Détail des projets'!B349)","v":"Projet d'efficacité énergétique - Burak Édifice Lafontaine"},{"$f":"IF(LEN('Détail des projets'!C349)=0,\"\",'Détail des projets'!C349)","v":"Entreprises Burak inc."},{"$f":"IF(LEN('Détail des projets'!G349)=0,\"\",'Détail des projets'!G349)","v":"06-Montréal"},{"$f":"IF(LEN('Détail des projets'!K349)=0,\"\",'Détail des projets'!K349)","v":279821.51},231.44261030749999,"À la fin du projet (suite au dernier versement)",43.031599175286452,"QC-Québec","Oui",24.229892730712901,268.37503766750001,null,"Non","Oui",0,null,0,null,0,null,0,null,0,null,200.181380555266,null,267.64177253726098,null,266.908507407022,null,266.908507407022]
[null,{"$f":"IF(LEN('Détail des projets'!B350)=0,\"\",'Détail des projets'!B350)","v":"Analyse énergétique du projet de quartier AGORA Village Urbain"},{"$f":"IF(LEN('Détail des projets'!C350)=0,\"\",'Détail des projets'!C350)","v":"10303712 Canada inc."},{"$f":"IF(LEN('Détail des projets'!G350)=0,\"\",'Détail des projets'!G350)","v":"07-Outaouais"},{"$f":"IF(LEN('Détail des projets'!K350)=0,\"\",'Détail des projets'!K350)","v":19650},0,"À la fin du projet (suite au dernier versement)",0,"QC-Québec","Oui",22.092063903808601,0,null,"Non","Oui"]
[null,{"$f":"IF(LEN('Détail des projets'!B351)=0,\"\",'Détail des projets'!B351)","v":"Analyse énergétique pour la modernisation de la chaufferie"},{"$f":"IF(LEN('Détail des projets'!C351)=0,\"\",'Détail des projets'!C351)","v":"Centre de services Scolaire de la Beauce-Etchemin"},{"$f":"IF(LEN('Détail des projets'!G351)=0,\"\",'Détail des projets'!G351)","v":"12-Chaudière-Appalaches"},{"$f":"IF(LEN('Détail des projets'!K351)=0,\"\",'Détail des projets'!K351)","v":16000},0,"À la fin du projet (suite au dernier versement)",0,"QC-Québec","Oui",30,0,149.55368000000001,"Non","Oui",null,null,null,null,null,null,null,null,null,null,null,null,142.60719759562801,null,148.73644677595601,null,148.73644677595601]
[null,{"$f":"IF(LEN('Détail des projets'!B352)=0,\"\",'Détail des projets'!B352)","v":"Réfrigération CO2 avec récupération de chaleur (000110)"},{"$f":"IF(LEN('Détail des projets'!C352)=0,\"\",'Détail des projets'!C352)","v":"Sobeys Capital Incorporée"},{"$f":"IF(LEN('Détail des projets'!G352)=0,\"\",'Détail des projets'!G352)","v":"16-Montérégie"},{"$f":"IF(LEN('Détail des projets'!K352)=0,\"\",'Détail des projets'!K352)","v":0},125.9845809,"À la fin du projet (suite au dernier versement)",0,"QC-Québec","Oui",15,125.9845809,null,"Non","Oui",0,null,0,null,0,null,0,null,0,null,0,null,14.113026822131101,null,125.296140567213,null,125.296140567213]
[null,{"$f":"IF(LEN('Détail des projets'!B353)=0,\"\",'Détail des projets'!B353)","v":"Projet d'efficacité énergétique au nouveau CHSLD à Blainville"},{"$f":"IF(LEN('Détail des projets'!C353)=0,\"\",'Détail des projets'!C353)","v":"Arbec - Médifice Immobilier II s.e.n.c."},{"$f":"IF(LEN('Détail des projets'!G353)=0,\"\",'Détail des projets'!G353)","v":"15-Laurentides"},{"$f":"IF(LEN('Détail des projets'!K353)=0,\"\",'Détail des projets'!K353)","v":382218.17599999998},292.84073984000003,"À la fin du projet (suite au dernier versement)",52.208333609433346,"QC-Québec","Oui",25,292.84073984000003,null,"Non","Oui",0,null,0,null,0,null,0,null,0,null,0,null,292.04062852896197,null,291.24051721792398,null,291.24051721792398]
[null,{"$f":"IF(LEN('Détail des projets'!B354)=0,\"\",'Détail des projets'!B354)","v":"Projet d'efficacité énergétique au nouveau CHSLD à Saint-Hubert"},{"$f":"IF(LEN('Détail des projets'!C354)=0,\"\",'Détail des projets'!C354)","v":"Arbec - Médifice Immobilier II s.e.n.c."},{"$f":"IF(LEN('Détail des projets'!G354)=0,\"\",'Détail des projets'!G354)","v":"16-Montérégie"},{"$f":"IF(LEN('Détail des projets'!K354)=0,\"\",'Détail des projets'!K354)","v":326192.49600000004},248.52761296,"À la fin du projet (suite au dernier versement)",52.500000642182165,"QC-Québec","Oui",25,248.52761296,null,"Non","Oui",0,null,0,null,0,null,0,null,0,null,0,null,247.84857576612001,null,247.16953857223999,null,247.16953857223999]
[null,{"$f":"IF(LEN('Détail des projets'!B355)=0,\"\",'Détail des projets'!B355)","v":"Système de réfrigération au CO2 avec récupération de chaleur"},{"$f":"IF(LEN('Détail des projets'!C355)=0,\"\",'Détail des projets'!C355)","v":"Avril Supermarché Santé"},{"$f":"IF(LEN('Détail des projets'!G355)=0,\"\",'Détail des projets'!G355)","v":"05-Estrie"},{"$f":"IF(LEN('Détail des projets'!K355)=0,\"\",'Détail des projets'!K355)","v":75095.247427599999},60.076597360000001,"À la fin du projet (suite au dernier versement)",83.332779293522009,"QC-Québec","Oui",15,60.076597360000001,null,"Non","Oui",0,null,0,null,0,null,0,null,0,null,0,null,0,null,44.975376165683102,null,59.748309942732199]
[null,{"$f":"IF(LEN('Détail des projets'!B356)=0,\"\",'Détail des projets'!B356)","v":"Loews Hôtel Vogue, Économie d'énergie"},{"$f":"IF(LEN('Détail des projets'!C356)=0,\"\",'Détail des projets'!C356)","v":"Loews Hotel Vogue"},{"$f":"IF(LEN('Détail des projets'!G356)=0,\"\",'Détail des projets'!G356)","v":"06-Montréal"},{"$f":"IF(LEN('Détail des projets'!K356)=0,\"\",'Détail des projets'!K356)","v":13005},0,"À la fin du projet (suite au dernier versement)",0,"QC-Québec","Oui",null,0,null,"Non","Oui"]
[null,{"$f":"IF(LEN('Détail des projets'!B357)=0,\"\",'Détail des projets'!B357)","v":"Analyse éco-énergétique relative aux systèmes de chauffage et de refroidissement"},{"$f":"IF(LEN('Détail des projets'!C357)=0,\"\",'Détail des projets'!C357)","v":"Centre de services scolaire des Affluents"},{"$f":"IF(LEN('Détail des projets'!G357)=0,\"\",'Détail des projets'!G357)","v":"14-Lanaudière"},{"$f":"IF(LEN('Détail des projets'!K357)=0,\"\",'Détail des projets'!K357)","v":25000},0,"À la fin du projet (suite au dernier versement)",0,"QC-Québec","Oui",null,0,null,"Non","Oui"]
[null,{"$f":"IF(LEN('Détail des projets'!B358)=0,\"\",'Détail des projets'!B358)","v":"Remplacement d'un compensateur et d'une hotte pour des équipements à débit variable"},{"$f":"IF(LEN('Détail des projets'!C358)=0,\"\",'Détail des projets'!C358)","v":"Alessa Trattoria inc."},{"$f":"IF(LEN('Détail des projets'!G358)=0,\"\",'Détail des projets'!G358)","v":"05-Estrie"},{"$f":"IF(LEN('Détail des projets'!K358)=0,\"\",'Détail des projets'!K358)","v":21665.731499999998},16.5072276,"À la fin du projet (suite au dernier versement)",87.499980917449747,"QC-Québec","Oui",15,16.5072276,null,"Non","Oui",0,null,0,null,0,null,0,null,0,null,15.5600915901639,null,16.4621258852459,null,16.4170241704918,null,16.4170241704918]
[null,{"$f":"IF(LEN('Détail des projets'!B359)=0,\"\",'Détail des projets'!B359)","v":"Projet d'efficacité énergétique au nouveau Strom Spa à Québec"},{"$f":"IF(LEN('Détail des projets'!C359)=0,\"\",'Détail des projets'!C359)","v":"Strom Spa Québec inc."},{"$f":"IF(LEN('Détail des projets'!G359)=0,\"\",'Détail des projets'!G359)","v":"03-Capitale-Nationale"},{"$f":"IF(LEN('Détail des projets'!K359)=0,\"\",'Détail des projets'!K359)","v":530406.93000000005},954.91498967999996,"À la fin du projet (suite au dernier versement)",27.376564479369705,"QC-Québec","Oui",20.289228439331101,97.213071279999994,857.70191839999995,"Non","Oui",0,null,0,null,0,null,0,null,0,null,409.622003769836,null,952.30593233114701,null,949.69687498229496,null,949.69687498229496]
[null,{"$f":"IF(LEN('Détail des projets'!B360)=0,\"\",'Détail des projets'!B360)","v":"Projet d’amélioration énergétique - École Notre-Dame du Rosaire"},{"$f":"IF(LEN('Détail des projets'!C360)=0,\"\",'Détail des projets'!C360)","v":"Centre de services scolaire de l'Or-et-des-Bois"},{"$f":"IF(LEN('Détail des projets'!G360)=0,\"\",'Détail des projets'!G360)","v":"08-Abitibi-Témiscamingue"},{"$f":"IF(LEN('Détail des projets'!K360)=0,\"\",'Détail des projets'!K360)","v":27635.370000000003},23.965532664000001,"À la fin du projet (suite au dernier versement)",21.942718118313721,"QC-Québec","Oui",21.254146575927699,13.957181544000001,45.298662440000001,"Non","Oui",0,null,0,null,0,null,0,null,0,null,24.447083173726799,null,59.093942770928997,null,58.9320415578579,null,58.9320415578579]
[null,{"$f":"IF(LEN('Détail des projets'!B361)=0,\"\",'Détail des projets'!B361)","v":"Étude technico-économique pour le remplacement du mazout comme source de chauffage"},{"$f":"IF(LEN('Détail des projets'!C361)=0,\"\",'Détail des projets'!C361)","v":"Centre de services scolaire des Hauts-Cantons"},{"$f":"IF(LEN('Détail des projets'!G361)=0,\"\",'Détail des projets'!G361)","v":"05-Estrie"},{"$f":"IF(LEN('Détail des projets'!K361)=0,\"\",'Détail des projets'!K361)","v":3750},0,"À la fin du projet (suite au dernier versement)",0,"QC-Québec","Oui",30,0,0,"Non","Oui"]
[null,{"$f":"IF(LEN('Détail des projets'!B362)=0,\"\",'Détail des projets'!B362)","v":"Remplacement du mazout comme source de chauffage par un système électrique"},{"$f":"IF(LEN('Détail des projets'!C362)=0,\"\",'Détail des projets'!C362)","v":"Centre de services scolaire des Hauts-Cantons"},{"$f":"IF(LEN('Détail des projets'!G362)=0,\"\",'Détail des projets'!G362)","v":"05-Estrie"},{"$f":"IF(LEN('Détail des projets'!K362)=0,\"\",'Détail des projets'!K362)","v":97762.95},78.210358944000006,"À la fin du projet (suite au dernier versement)",41.666667229251985,"QC-Québec","Oui",30,0,78.210358944000006,"Non","Oui",0,null,0,null,0,null,0,null,0,null,38.677800461376997,null,77.9966694386885,null,77.782979933377007,null,77.782979933377007]
[null,{"$f":"IF(LEN('Détail des projets'!B363)=0,\"\",'Détail des projets'!B363)","v":"Projet d’amélioration énergétique - École Saint-Isidore"},{"$f":"IF(LEN('Détail des projets'!C363)=0,\"\",'Détail des projets'!C363)","v":"Centre de services scolaire de l'Or-et-des-Bois"},{"$f":"IF(LEN('Détail des projets'!G363)=0,\"\",'Détail des projets'!G363)","v":"08-Abitibi-Témiscamingue"},{"$f":"IF(LEN('Détail des projets'!K363)=0,\"\",'Détail des projets'!K363)","v":46615.726499999997},52.889270224000001,"À la fin du projet (suite au dernier versement)",20.804861147891515,"QC-Québec","Oui",36,62.239362352000001,null,"Non","Oui",0,null,0,null,0,null,0,null,0,null,0,null,54.927087540153003,null,61.899256546797801,null,61.899256546797801]
[null,{"$f":"IF(LEN('Détail des projets'!B364)=0,\"\",'Détail des projets'!B364)","v":"Projet d’amélioration énergétique - École Sainte-Lucie"},{"$f":"IF(LEN('Détail des projets'!C364)=0,\"\",'Détail des projets'!C364)","v":"Centre de services scolaire de l'Or-et-des-Bois"},{"$f":"IF(LEN('Détail des projets'!G364)=0,\"\",'Détail des projets'!G364)","v":"08-Abitibi-Témiscamingue"},{"$f":"IF(LEN('Détail des projets'!K364)=0,\"\",'Détail des projets'!K364)","v":19038.7575},14.5057236,"À la fin du projet (suite au dernier versement)",44.290023913736938,"QC-Québec","Oui",24.944995880126999,17.23253824,null,"Non","Oui",0,null,0,null,0,null,0,null,0,null,0,null,12.9479453989071,null,17.138371364371601,null,17.138371364371601]
[null,{"$f":"IF(LEN('Détail des projets'!B365)=0,\"\",'Détail des projets'!B365)","v":"Projet d'efficacité énergétique - Les Jardins Champfleury"},{"$f":"IF(LEN('Détail des projets'!C365)=0,\"\",'Détail des projets'!C365)","v":"Résidences Les Jardins, société en commandite"},{"$f":"IF(LEN('Détail des projets'!G365)=0,\"\",'Détail des projets'!G365)","v":"03-Capitale-Nationale"},{"$f":"IF(LEN('Détail des projets'!K365)=0,\"\",'Détail des projets'!K365)","v":61182.912000000004},79.344351621200005,"À la fin du projet (suite au dernier versement)",25.627864949324096,"QC-Québec","Oui",32.865379333496101,72.640540560000005,null,"Non","Oui",0,null,0,null,0,null,0,null,0,null,0,null,60.335312377704902,null,72.243597715409805,null,72.243597715409805]
[null,{"$f":"IF(LEN('Détail des projets'!B366)=0,\"\",'Détail des projets'!B366)","v":"Projet d'efficacité énergétique au 5000 Buchan"},{"$f":"IF(LEN('Détail des projets'!C366)=0,\"\",'Détail des projets'!C366)","v":"Édifice 5000 Buchan Inc."},{"$f":"IF(LEN('Détail des projets'!G366)=0,\"\",'Détail des projets'!G366)","v":"03-Capitale-Nationale"},{"$f":"IF(LEN('Détail des projets'!K366)=0,\"\",'Détail des projets'!K366)","v":161771.57999999999},129.41726004,"À la fin du projet (suite au dernier versement)",61.872289460975303,"QC-Québec","Oui",25,104.58418876,null,"Non","Oui",0,null,0,null,0,null,0,null,0,null,20.8596879220765,null,104.298439610383,null,104.012690460765,null,104.012690460765]
[null,{"$f":"IF(LEN('Détail des projets'!B367)=0,\"\",'Détail des projets'!B367)","v":"Analyse éco-énergétique - Site rue Sherbrooke Est"},{"$f":"IF(LEN('Détail des projets'!C367)=0,\"\",'Détail des projets'!C367)","v":"Société d'habitation populaire de l'Est de Montréal"},{"$f":"IF(LEN('Détail des projets'!G367)=0,\"\",'Détail des projets'!G367)","v":"06-Montréal"},{"$f":"IF(LEN('Détail des projets'!K367)=0,\"\",'Détail des projets'!K367)","v":9260},0,"À la fin du projet (suite au dernier versement)",0,"QC-Québec","Oui",null,0,null,"Non","Oui"]
[null,{"$f":"IF(LEN('Détail des projets'!B368)=0,\"\",'Détail des projets'!B368)","v":"Remplacement la chaudière au mazout par une chaudière électrique et au mazout de l'église"},{"$f":"IF(LEN('Détail des projets'!C368)=0,\"\",'Détail des projets'!C368)","v":"Municipalité de Sainte-Luce"},{"$f":"IF(LEN('Détail des projets'!G368)=0,\"\",'Détail des projets'!G368)","v":"01-Bas-Saint-Laurent"},{"$f":"IF(LEN('Détail des projets'!K368)=0,\"\",'Détail des projets'!K368)","v":95217.32},76.173853280000003,"À la fin du projet (suite au dernier versement)",55.997375254837124,"QC-Québec","Oui",25,0,68.015559348400004,"Non","Oui",0,null,0,null,0,null,0,null,27.875229241147501,null,67.643889625184698,null,67.829724486792301,null,67.643889625184698,null,67.643889625184698]
[null,{"$f":"IF(LEN('Détail des projets'!B369)=0,\"\",'Détail des projets'!B369)","v":"Récupération de chaleur sur système de réfrigération"},{"$f":"IF(LEN('Détail des projets'!C369)=0,\"\",'Détail des projets'!C369)","v":"Métro Richelieu inc."},{"$f":"IF(LEN('Détail des projets'!G369)=0,\"\",'Détail des projets'!G369)","v":"06-Montréal"},{"$f":"IF(LEN('Détail des projets'!K369)=0,\"\",'Détail des projets'!K369)","v":27610.69},22.0885502364,"À la fin du projet (suite au dernier versement)",30.189407919528207,"QC-Québec","Oui",20.73708152771,44.1037003908,null,"Non","Oui",0,null,0,null,0,null,0,null,0,null,0,null,0,null,0,null,20.967332972675401]
[null,{"$f":"IF(LEN('Détail des projets'!B370)=0,\"\",'Détail des projets'!B370)","v":"Analyse énergétique"},{"$f":"IF(LEN('Détail des projets'!C370)=0,\"\",'Détail des projets'!C370)","v":"Buanderie progrès hygiénique inc."},{"$f":"IF(LEN('Détail des projets'!G370)=0,\"\",'Détail des projets'!G370)","v":"06-Montréal"},{"$f":"IF(LEN('Détail des projets'!K370)=0,\"\",'Détail des projets'!K370)","v":3275},0,"À la fin du projet (suite au dernier versement)",0,"QC-Québec","Oui",20,0,null,"Non","Oui"]
[null,{"$f":"IF(LEN('Détail des projets'!B371)=0,\"\",'Détail des projets'!B371)","v":"Analyse écoénergétique"},{"$f":"IF(LEN('Détail des projets'!C371)=0,\"\",'Détail des projets'!C371)","v":"Best Western Plus Centre-ville Québec"},{"$f":"IF(LEN('Détail des projets'!G371)=0,\"\",'Détail des projets'!G371)","v":"03-Capitale-Nationale"},{"$f":"IF(LEN('Détail des projets'!K371)=0,\"\",'Détail des projets'!K371)","v":4450},0,"À la fin du projet (suite au dernier versement)",0,"QC-Québec","Oui",null,0,null,"Non","Oui"]
[null,{"$f":"IF(LEN('Détail des projets'!B372)=0,\"\",'Détail des projets'!B372)","v":"Modernisation Énergétique - Transport XTL"},{"$f":"IF(LEN('Détail des projets'!C372)=0,\"\",'Détail des projets'!C372)","v":"Immeuble XTL & SL S.E.C."},{"$f":"IF(LEN('Détail des projets'!G372)=0,\"\",'Détail des projets'!G372)","v":"06-Montréal"},{"$f":"IF(LEN('Détail des projets'!K372)=0,\"\",'Détail des projets'!K372)","v":290965.185},233.37258503999999,"À la fin du projet (suite au dernier versement)",47.348612158573935,"QC-Québec","Oui",20.030834197998001,306.78543506455998,null,"Non","Oui",0,null,0,null,0,null,0,null,0,null,49.454482701663999,null,305.94722349334501,null,305.109011922131,null,305.109011922131]
[null,{"$f":"IF(LEN('Détail des projets'!B373)=0,\"\",'Détail des projets'!B373)","v":"Efficacité énergétique"},{"$f":"IF(LEN('Détail des projets'!C373)=0,\"\",'Détail des projets'!C373)","v":"Compagnie SB-Montréal 2000 inc."},{"$f":"IF(LEN('Détail des projets'!G373)=0,\"\",'Détail des projets'!G373)","v":"06-Montréal"},{"$f":"IF(LEN('Détail des projets'!K373)=0,\"\",'Détail des projets'!K373)","v":248725.75},198.98059892000001,"À la fin du projet (suite au dernier versement)",50.0167961269877,"QC-Québec","Oui",26.613664627075199,186.85305384,null,"Non","Oui",0,null,0,null,0,null,0,null,0,null,0,null,168.47406493770501,null,185.83199890098399,null,185.83199890098399]
[null,{"$f":"IF(LEN('Détail des projets'!B374)=0,\"\",'Détail des projets'!B374)","v":"Implantation du produit ecoAZUR avec Confort du Chef"},{"$f":"IF(LEN('Détail des projets'!C374)=0,\"\",'Détail des projets'!C374)","v":"La Promenade"},{"$f":"IF(LEN('Détail des projets'!G374)=0,\"\",'Détail des projets'!G374)","v":"09-Côte-Nord"},{"$f":"IF(LEN('Détail des projets'!K374)=0,\"\",'Détail des projets'!K374)","v":23127.46},18.924318752000001,"À la fin du projet (suite au dernier versement)",122.21026449132174,"QC-Québec","Oui",10,18.924318752000001,null,"Non","Oui",0,null,0,null,0,null,0,null,0,null,10.4445693658579,null,18.872612963060099,null,18.820907174120201,null,18.820907174120201]
[null,{"$f":"IF(LEN('Détail des projets'!B375)=0,\"\",'Détail des projets'!B375)","v":"Implantation du produit ecoAZUR avec Confort du Chef"},{"$f":"IF(LEN('Détail des projets'!C375)=0,\"\",'Détail des projets'!C375)","v":"Les Pétroles Alcasyna (1993) inc."},{"$f":"IF(LEN('Détail des projets'!G375)=0,\"\",'Détail des projets'!G375)","v":"08-Abitibi-Témiscamingue"},{"$f":"IF(LEN('Détail des projets'!K375)=0,\"\",'Détail des projets'!K375)","v":15210.32},12.168258120000001,"À la fin du projet (suite au dernier versement)",102.15903068134777,"QC-Québec","Oui",10,14.88886484,null,"Non","Oui",0,null,0,null,0,null,0,null,0,null,11.7971879879781,null,14.848184881420799,null,14.807504922841501,null,14.807504922841501]
[null,{"$f":"IF(LEN('Détail des projets'!B376)=0,\"\",'Détail des projets'!B376)","v":"Étude de modernisation énergétique"},{"$f":"IF(LEN('Détail des projets'!C376)=0,\"\",'Détail des projets'!C376)","v":"9315-3252 Québec inc.(Gestion 433 Chabanel)"},{"$f":"IF(LEN('Détail des projets'!G376)=0,\"\",'Détail des projets'!G376)","v":"06-Montréal"},{"$f":"IF(LEN('Détail des projets'!K376)=0,\"\",'Détail des projets'!K376)","v":17500},0,"À la fin du projet (suite au dernier versement)",0,"QC-Québec","Oui",null,0,null,"Non","Oui"]
[null,{"$f":"IF(LEN('Détail des projets'!B377)=0,\"\",'Détail des projets'!B377)","v":"Implantation du produit ecoAZUR - Comptoir Harvey's / St-Hubert Express Matane"},{"$f":"IF(LEN('Détail des projets'!C377)=0,\"\",'Détail des projets'!C377)","v":"Les Rôtisseries St-Hubert ltée"},{"$f":"IF(LEN('Détail des projets'!G377)=0,\"\",'Détail des projets'!G377)","v":"01-Bas-Saint-Laurent"},{"$f":"IF(LEN('Détail des projets'!K377)=0,\"\",'Détail des projets'!K377)","v":35122.667999999998},26.760126256,"À la fin du projet (suite au dernier versement)",110.72312564206385,"QC-Québec","Oui",10,31.721167368,null,"Non","Oui",0,null,0,null,0,null,0,null,0,null,23.9208803102951,null,31.6344975118033,null,31.5478276556066,null,31.5478276556066]
[null,{"$f":"IF(LEN('Détail des projets'!B378)=0,\"\",'Détail des projets'!B378)","v":"Efficacité énergétique au 2555, Benny"},{"$f":"IF(LEN('Détail des projets'!C378)=0,\"\",'Détail des projets'!C378)","v":"Corporation de l'édifice St-Régis"},{"$f":"IF(LEN('Détail des projets'!G378)=0,\"\",'Détail des projets'!G378)","v":"06-Montréal"},{"$f":"IF(LEN('Détail des projets'!K378)=0,\"\",'Détail des projets'!K378)","v":253289},202.63119852,"À la fin du projet (suite au dernier versement)",58.326004595137846,"QC-Québec","Oui",25,173.70570932000001,null,"Non","Oui",0,null,0,null,0,null,0,null,0,null,29.425557316502701,null,173.23110355683099,null,172.756497793661,null,172.756497793661]
[null,{"$f":"IF(LEN('Détail des projets'!B379)=0,\"\",'Détail des projets'!B379)","v":"Implantation du produit ecoAZUR avec Confort du Chef"},{"$f":"IF(LEN('Détail des projets'!C379)=0,\"\",'Détail des projets'!C379)","v":"Les Entreprises JM Benjamin inc."},{"$f":"IF(LEN('Détail des projets'!G379)=0,\"\",'Détail des projets'!G379)","v":"16-Montérégie"},{"$f":"IF(LEN('Détail des projets'!K379)=0,\"\",'Détail des projets'!K379)","v":30280.06},26.38005064,"À la fin du projet (suite au dernier versement)",105.65476098467937,"QC-Québec","Oui",10,28.659437319999999,null,"Non","Oui",0,null,0,null,0,null,0,null,0,null,25.527258377923499,null,28.581132846448099,null,28.5028283728962,null,28.5028283728962]
[null,{"$f":"IF(LEN('Détail des projets'!B380)=0,\"\",'Détail des projets'!B380)","v":"Modernisation énergétique - 3333 Queen-Mary"},{"$f":"IF(LEN('Détail des projets'!C380)=0,\"\",'Détail des projets'!C380)","v":"9282-5645 Québec inc."},{"$f":"IF(LEN('Détail des projets'!G380)=0,\"\",'Détail des projets'!G380)","v":"06-Montréal"},{"$f":"IF(LEN('Détail des projets'!K380)=0,\"\",'Détail des projets'!K380)","v":102001.42},81.601139660000001,"À la fin du projet (suite au dernier versement)",45.751525240270333,"QC-Québec","Oui",23.625917434692401,94.365220480000005,null,"Non","Oui",0,null,0,null,0,null,0,null,0,null,23.2045624131148,null,94.107392008743204,null,93.849563537486304,null,93.849563537486304]
[null,{"$f":"IF(LEN('Détail des projets'!B381)=0,\"\",'Détail des projets'!B381)","v":"Étude réseau vapeur"},{"$f":"IF(LEN('Détail des projets'!C381)=0,\"\",'Détail des projets'!C381)","v":"Hôpital du Sûroit"},{"$f":"IF(LEN('Détail des projets'!G381)=0,\"\",'Détail des projets'!G381)","v":"16-Montérégie"},{"$f":"IF(LEN('Détail des projets'!K381)=0,\"\",'Détail des projets'!K381)","v":8765.5},0,"À la fin du projet (suite au dernier versement)",0,"QC-Québec","Oui",null,0,null,"Non","Oui"]
[null,{"$f":"IF(LEN('Détail des projets'!B382)=0,\"\",'Détail des projets'!B382)","v":"Analyse technique d’efficacité et d’approvisionnement énergétique renouvelable appliquée"},{"$f":"IF(LEN('Détail des projets'!C382)=0,\"\",'Détail des projets'!C382)","v":"9274-5124 Québec inc."},{"$f":"IF(LEN('Détail des projets'!G382)=0,\"\",'Détail des projets'!G382)","v":"03-Capitale-Nationale"},{"$f":"IF(LEN('Détail des projets'!K382)=0,\"\",'Détail des projets'!K382)","v":5365},0,"À la fin du projet (suite au dernier versement)",0,"QC-Québec","Oui",null,0,null,"Non","Oui"]
[null,{"$f":"IF(LEN('Détail des projets'!B383)=0,\"\",'Détail des projets'!B383)","v":"Implantation du produit ecoAZUR"},{"$f":"IF(LEN('Détail des projets'!C383)=0,\"\",'Détail des projets'!C383)","v":"Archibald Blainville"},{"$f":"IF(LEN('Détail des projets'!G383)=0,\"\",'Détail des projets'!G383)","v":"15-Laurentides"},{"$f":"IF(LEN('Détail des projets'!K383)=0,\"\",'Détail des projets'!K383)","v":38547.61},526.91056547999995,"À la fin du projet (suite au dernier versement)",110.8756369893952,"QC-Québec","Oui",10,34.766528559999998,null,"Non","Oui",0,null,0,null,0,null,0,null,0,null,22.512752100327901,null,34.671538044808699,null,34.5765475296175,null,34.5765475296175]
[null,{"$f":"IF(LEN('Détail des projets'!B384)=0,\"\",'Détail des projets'!B384)","v":"Implantation du produit ecoAZUR pour le contrôle de la ventilation des hottes de cuisine"},{"$f":"IF(LEN('Détail des projets'!C384)=0,\"\",'Détail des projets'!C384)","v":"CISSS du Bas-Saint-Laurent"},{"$f":"IF(LEN('Détail des projets'!G384)=0,\"\",'Détail des projets'!G384)","v":"01-Bas-Saint-Laurent"},{"$f":"IF(LEN('Détail des projets'!K384)=0,\"\",'Détail des projets'!K384)","v":15215.854499999999},18.797820135999999,"À la fin du projet (suite au dernier versement)",76.133165950045381,"QC-Québec","Oui",10,19.98584232,null,"Non","Oui",0,null,0,null,0,null,0,null,0,null,0,null,14.7436541704918,null,19.876630066885198,null,19.876630066885198]
[null,{"$f":"IF(LEN('Détail des projets'!B385)=0,\"\",'Détail des projets'!B385)","v":"Réfrigération CO2 avec récupération de chaleur"},{"$f":"IF(LEN('Détail des projets'!C385)=0,\"\",'Détail des projets'!C385)","v":"Métro Richelieu inc."},{"$f":"IF(LEN('Détail des projets'!G385)=0,\"\",'Détail des projets'!G385)","v":"06-Montréal"},{"$f":"IF(LEN('Détail des projets'!K385)=0,\"\",'Détail des projets'!K385)","v":3882.3357719999999},57.214277559999999,"À la fin du projet (suite au dernier versement)",4.5237377074031171,"QC-Québec","Oui",15,57.214277559999999,null,"Non","Oui",0,null,0,null,0,null,0,null,0,null,0,null,7.8161581366120201,null,56.9016312345355,null,56.9016312345355]
[null,{"$f":"IF(LEN('Détail des projets'!B386)=0,\"\",'Détail des projets'!B386)","v":"Étude en efficacité énergétique"},{"$f":"IF(LEN('Détail des projets'!C386)=0,\"\",'Détail des projets'!C386)","v":"Les Immeubles Perron"},{"$f":"IF(LEN('Détail des projets'!G386)=0,\"\",'Détail des projets'!G386)","v":"02-Saguenay--Lac-Saint-Jean"},{"$f":"IF(LEN('Détail des projets'!K386)=0,\"\",'Détail des projets'!K386)","v":5300},0,"À la fin du projet (suite au dernier versement)",0,"QC-Québec","Oui",null,0,null,"Non","Oui"]
[null,{"$f":"IF(LEN('Détail des projets'!B387)=0,\"\",'Détail des projets'!B387)","v":"Réfrigération CO2 avec récupération de chaleur (089125)"},{"$f":"IF(LEN('Détail des projets'!C387)=0,\"\",'Détail des projets'!C387)","v":"Sobeys Capital Incorporée"},{"$f":"IF(LEN('Détail des projets'!G387)=0,\"\",'Détail des projets'!G387)","v":"06-Montréal"},{"$f":"IF(LEN('Détail des projets'!K387)=0,\"\",'Détail des projets'!K387)","v":0},118.240636084,"À la fin du projet (suite au dernier versement)",0,"QC-Québec","Oui",15,238.74014316,null,"Non","Oui",0,null,0,null,0,null,0,null,0,null,0,null,65.881842784590205,null,237.43555221376999,null,237.43555221376999]
[null,{"$f":"IF(LEN('Détail des projets'!B388)=0,\"\",'Détail des projets'!B388)","v":"Projet d'économie d'énergie au Centre international Providence"},{"$f":"IF(LEN('Détail des projets'!C388)=0,\"\",'Détail des projets'!C388)","v":"Soeurs de la Providence"},{"$f":"IF(LEN('Détail des projets'!G388)=0,\"\",'Détail des projets'!G388)","v":"06-Montréal"},{"$f":"IF(LEN('Détail des projets'!K388)=0,\"\",'Détail des projets'!K388)","v":50197.21},48.128537680000001,"À la fin du projet (suite au dernier versement)",26.074555980567244,"QC-Québec","Oui",40,48.128537680000001,null,"Non","Oui",0,null,0,null,0,null,0,null,0,null,0,null,44.709570522404398,null,47.8655402063388,null,47.8655402063388]
[null,{"$f":"IF(LEN('Détail des projets'!B389)=0,\"\",'Détail des projets'!B389)","v":"Projet d'optimisation énergétique Bayside"},{"$f":"IF(LEN('Détail des projets'!C389)=0,\"\",'Détail des projets'!C389)","v":"80 Chemin du Bord-du-Lac inc."},{"$f":"IF(LEN('Détail des projets'!G389)=0,\"\",'Détail des projets'!G389)","v":"06-Montréal"},{"$f":"IF(LEN('Détail des projets'!K389)=0,\"\",'Détail des projets'!K389)","v":245009.21},215.26696268000001,"À la fin du projet (suite au dernier versement)",52.74642387275145,"QC-Québec","Oui",21.290035247802699,218.17903124,null,"Non","Oui",0,null,0,null,0,null,0,null,0,null,0,null,199.103268945792,null,216.98679609661201,null,216.98679609661201]
[null,{"$f":"IF(LEN('Détail des projets'!B390)=0,\"\",'Détail des projets'!B390)","v":"Implantation du produit ecoAZUR avec Confort du Chef au restaurant La Voie Maltée - Laurier"},{"$f":"IF(LEN('Détail des projets'!C390)=0,\"\",'Détail des projets'!C390)","v":"La Voie Maltée - Laurier"},{"$f":"IF(LEN('Détail des projets'!G390)=0,\"\",'Détail des projets'!G390)","v":"03-Capitale-Nationale"},{"$f":"IF(LEN('Détail des projets'!K390)=0,\"\",'Détail des projets'!K390)","v":34416.21},27.53296628,"À la fin du projet (suite au dernier versement)",119.15122684467075,"QC-Québec","Oui",10,28.884478080000001,null,"Non","Oui",0,null,0,null,0,null,0,null,0,null,21.387140873442601,null,28.805558740983599,null,28.726639401967201,null,28.726639401967201]
[null,{"$f":"IF(LEN('Détail des projets'!B391)=0,\"\",'Détail des projets'!B391)","v":"Économie d'énergie"},{"$f":"IF(LEN('Détail des projets'!C391)=0,\"\",'Détail des projets'!C391)","v":"Holiday Inn (MC) Montréal Centre-ville"},{"$f":"IF(LEN('Détail des projets'!G391)=0,\"\",'Détail des projets'!G391)","v":"06-Montréal"},{"$f":"IF(LEN('Détail des projets'!K391)=0,\"\",'Détail des projets'!K391)","v":9850},0,"À la fin du projet (suite au dernier versement)",0,"QC-Québec","Oui",null,0,null,"Non","Oui"]
[null,{"$f":"IF(LEN('Détail des projets'!B392)=0,\"\",'Détail des projets'!B392)","v":"Modernisation de la chaufferie principale"},{"$f":"IF(LEN('Détail des projets'!C392)=0,\"\",'Détail des projets'!C392)","v":"Investissement Woodcrest inc."},{"$f":"IF(LEN('Détail des projets'!G392)=0,\"\",'Détail des projets'!G392)","v":"06-Montréal"},{"$f":"IF(LEN('Détail des projets'!K392)=0,\"\",'Détail des projets'!K392)","v":44351.79},35.481429599999998,"À la fin du projet (suite au dernier versement)",72.700531396323584,"QC-Québec","Oui",25,24.402457120000001,null,"Non","Oui",0,null,0,null,0,null,0,null,0,null,10.0010070163934,null,24.335783739890701,null,24.269110359781401,null,24.269110359781401]
[null,{"$f":"IF(LEN('Détail des projets'!B393)=0,\"\",'Détail des projets'!B393)","v":"Projet d’efficacité énergétique du CRSSS de la Baie-James"},{"$f":"IF(LEN('Détail des projets'!C393)=0,\"\",'Détail des projets'!C393)","v":"Centre régional de santé et de services sociaux de la Baie-James"},{"$f":"IF(LEN('Détail des projets'!G393)=0,\"\",'Détail des projets'!G393)","v":"10-Nord-du-Québec"},{"$f":"IF(LEN('Détail des projets'!K393)=0,\"\",'Détail des projets'!K393)","v":101557.5},84.747788605599993,"À la fin du projet (suite au dernier versement)",59.922395697584612,"QC-Québec","Oui",20,84.740854248000005,null,"Non","Oui",0,null,0,null,0,null,0,null,0,null,6.9459716596721304,null,84.509321859344297,null,84.277789470688504,null,84.277789470688504]
[null,{"$f":"IF(LEN('Détail des projets'!B394)=0,\"\",'Détail des projets'!B394)","v":"Efficacité énergétique au 65, rue Sherbrooke"},{"$f":"IF(LEN('Détail des projets'!C394)=0,\"\",'Détail des projets'!C394)","v":"Appartements CAPREIT"},{"$f":"IF(LEN('Détail des projets'!G394)=0,\"\",'Détail des projets'!G394)","v":"06-Montréal"},{"$f":"IF(LEN('Détail des projets'!K394)=0,\"\",'Détail des projets'!K394)","v":232500},196.96694335999999,"À la fin du projet (suite au dernier versement)",59.020055861621316,"QC-Québec","Oui",20,196.96694335999999,null,"Non","Oui",0,null,0,null,0,null,0,null,0,null,0,null,0,null,31.213340751038299,null,195.89062126513701]
[null,{"$f":"IF(LEN('Détail des projets'!B395)=0,\"\",'Détail des projets'!B395)","v":"Audit énergétique ASHRAE Niv.2 Centre de formation professionnelle Paul-Rousseau"},{"$f":"IF(LEN('Détail des projets'!C395)=0,\"\",'Détail des projets'!C395)","v":"Centre de services scolaire des Chênes"},{"$f":"IF(LEN('Détail des projets'!G395)=0,\"\",'Détail des projets'!G395)","v":"17-Centre-du-Québec"},{"$f":"IF(LEN('Détail des projets'!K395)=0,\"\",'Détail des projets'!K395)","v":6900},0,"À la fin du projet (suite au dernier versement)",0,"QC-Québec","Oui",null,0,null,"Non","Oui"]
[null,{"$f":"IF(LEN('Détail des projets'!B396)=0,\"\",'Détail des projets'!B396)","v":"Agrandissement et réaménagement de l'École Saint-René (Analyse)"},{"$f":"IF(LEN('Détail des projets'!C396)=0,\"\",'Détail des projets'!C396)","v":"Centre de services scolaire des Grandes-Seigneuries"},{"$f":"IF(LEN('Détail des projets'!G396)=0,\"\",'Détail des projets'!G396)","v":"16-Montérégie"},{"$f":"IF(LEN('Détail des projets'!K396)=0,\"\",'Détail des projets'!K396)","v":5625},0,"À la fin du projet (suite au dernier versement)",0,"QC-Québec","Oui",null,0,null,"Non","Oui"]
[null,{"$f":"IF(LEN('Détail des projets'!B397)=0,\"\",'Détail des projets'!B397)","v":"Réaménagement de l'École St-Viateur-Clotilde-Raymond, édifice St-Viateur (Analyse)"},{"$f":"IF(LEN('Détail des projets'!C397)=0,\"\",'Détail des projets'!C397)","v":"Centre de services scolaire des Grandes-Seigneuries"},{"$f":"IF(LEN('Détail des projets'!G397)=0,\"\",'Détail des projets'!G397)","v":"16-Montérégie"},{"$f":"IF(LEN('Détail des projets'!K397)=0,\"\",'Détail des projets'!K397)","v":4600},0,"À la fin du projet (suite au dernier versement)",0,"QC-Québec","Oui",25,0,null,"Non","Oui",null,null,null,null,null,null,null,null,null,null,null,null,28.338670918244599,null,32.083854087431703,null,32.083854087431703]
[null,{"$f":"IF(LEN('Détail des projets'!B398)=0,\"\",'Détail des projets'!B398)","v":"Projet des Cascades - Agrandissement"},{"$f":"IF(LEN('Détail des projets'!C398)=0,\"\",'Détail des projets'!C398)","v":"Domaine des Cascades inc."},{"$f":"IF(LEN('Détail des projets'!G398)=0,\"\",'Détail des projets'!G398)","v":"16-Montérégie"},{"$f":"IF(LEN('Détail des projets'!K398)=0,\"\",'Détail des projets'!K398)","v":124347.9825},94.741319559999994,"À la fin du projet (suite au dernier versement)",37.494601454167828,"QC-Québec","Oui",35,94.754961039999998,null,"Non","Oui",0,null,0,null,0,null,0,null,0,null,7.2490134128961703,null,94.496067703825105,null,94.237174367650297,null,94.237174367650297]
[null,{"$f":"IF(LEN('Détail des projets'!B399)=0,\"\",'Détail des projets'!B399)","v":"075023 IGA - Ville Mont-Royal -Montréal"},{"$f":"IF(LEN('Détail des projets'!C399)=0,\"\",'Détail des projets'!C399)","v":"Sobeys Capital Incorporée"},{"$f":"IF(LEN('Détail des projets'!G399)=0,\"\",'Détail des projets'!G399)","v":"06-Montréal"},{"$f":"IF(LEN('Détail des projets'!K399)=0,\"\",'Détail des projets'!K399)","v":0},2.4508713000000002,"À la fin du projet (suite au dernier versement)",0,"QC-Québec","Oui",15,2.4508713000000002,null,"Non","Oui",0,null,0,null,0,null,0,null,0,null,0,null,0.45535313770491798,null,2.4374785606557401,null,2.4374785606557401]
[null,{"$f":"IF(LEN('Détail des projets'!B400)=0,\"\",'Détail des projets'!B400)","v":"Étude énergétique pourvoirie Waban-Aki"},{"$f":"IF(LEN('Détail des projets'!C400)=0,\"\",'Détail des projets'!C400)","v":"Pourvoirie Waban-Aki (2008) inc."},{"$f":"IF(LEN('Détail des projets'!G400)=0,\"\",'Détail des projets'!G400)","v":"04-Mauricie"},{"$f":"IF(LEN('Détail des projets'!K400)=0,\"\",'Détail des projets'!K400)","v":2000},0,"À la fin du projet (suite au dernier versement)",0,"QC-Québec","Oui",null,0,0,"Non","Oui"]
[null,{"$f":"IF(LEN('Détail des projets'!B401)=0,\"\",'Détail des projets'!B401)","v":"Étude de faisabilité - Efficacité énergétique dans un Edifice Multi-Logements"},{"$f":"IF(LEN('Détail des projets'!C401)=0,\"\",'Détail des projets'!C401)","v":"Syndicat des copropriétaires de Manoir Trois"},{"$f":"IF(LEN('Détail des projets'!G401)=0,\"\",'Détail des projets'!G401)","v":"06-Montréal"},{"$f":"IF(LEN('Détail des projets'!K401)=0,\"\",'Détail des projets'!K401)","v":9000},0,"À la fin du projet (suite au dernier versement)",0,"QC-Québec","Oui",null,0,0,"Non","Oui"]
[null,{"$f":"IF(LEN('Détail des projets'!B402)=0,\"\",'Détail des projets'!B402)","v":"Agrandissement de l'école Sainte-Marguerite-Bourgeoys"},{"$f":"IF(LEN('Détail des projets'!C402)=0,\"\",'Détail des projets'!C402)","v":"Centre de services scolaire de la Pointe-de-l'Île"},{"$f":"IF(LEN('Détail des projets'!G402)=0,\"\",'Détail des projets'!G402)","v":"06-Montréal"},{"$f":"IF(LEN('Détail des projets'!K402)=0,\"\",'Détail des projets'!K402)","v":6350},0,"À la fin du projet (suite au dernier versement)",0,"QC-Québec","Oui",null,0,null,"Non","Oui"]
[null,{"$f":"IF(LEN('Détail des projets'!B403)=0,\"\",'Détail des projets'!B403)","v":"Optimisation de ventilation, récupération de chaleur de ventilation et remplacement du système de chauffage d'eau domestique"},{"$f":"IF(LEN('Détail des projets'!C403)=0,\"\",'Détail des projets'!C403)","v":"Syndicat de la copropriété QB"},{"$f":"IF(LEN('Détail des projets'!G403)=0,\"\",'Détail des projets'!G403)","v":"03-Capitale-Nationale"},{"$f":"IF(LEN('Détail des projets'!K403)=0,\"\",'Détail des projets'!K403)","v":740997.36},606.07840455999997,"À la fin du projet (suite au dernier versement)",44.449237532977541,"QC-Québec","Oui",25,666.82571052000003,null,"Non","Oui",0,null,0,null,0,null,0,null,0,null,0,null,10.931569024918,null,663.18185417836105,null,663.18185417836105]
[null,{"$f":"IF(LEN('Détail des projets'!B404)=0,\"\",'Détail des projets'!B404)","v":"Installation d'un système de hotte variable"},{"$f":"IF(LEN('Détail des projets'!C404)=0,\"\",'Détail des projets'!C404)","v":"Le Renaissance Cowansville, S.E.C."},{"$f":"IF(LEN('Détail des projets'!G404)=0,\"\",'Détail des projets'!G404)","v":"05-Estrie"},{"$f":"IF(LEN('Détail des projets'!K404)=0,\"\",'Détail des projets'!K404)","v":10922.9295},8.3222287999999995,"À la fin du projet (suite au dernier versement)",65.734816578421245,"QC-Québec","Oui",15,11.07777184,null,"Non","Oui",0,null,0,null,0,null,0,null,0,null,0,null,4.6006046985792297,null,11.0172375676503,null,11.0172375676503]
[null,{"$f":"IF(LEN('Détail des projets'!B405)=0,\"\",'Détail des projets'!B405)","v":"Analyse écoénergétique de dix écoles de la Commission scolaire Eastern Townships"},{"$f":"IF(LEN('Détail des projets'!C405)=0,\"\",'Détail des projets'!C405)","v":"Commission scolaire Eastern Townships"},{"$f":"IF(LEN('Détail des projets'!G405)=0,\"\",'Détail des projets'!G405)","v":"05-Estrie"},{"$f":"IF(LEN('Détail des projets'!K405)=0,\"\",'Détail des projets'!K405)","v":48300},0,"À la fin du projet (suite au dernier versement)",0,"QC-Québec","Oui",null,0,0,"Non","Oui"]
[null,{"$f":"IF(LEN('Détail des projets'!B406)=0,\"\",'Détail des projets'!B406)","v":"Audit énergétique ASHRAE (Niveau 2) au Centre de formation professionnelle - Mécanique de Véhicules Lourds Routiers"},{"$f":"IF(LEN('Détail des projets'!C406)=0,\"\",'Détail des projets'!C406)","v":"Centre de services scolaire des Chênes"},{"$f":"IF(LEN('Détail des projets'!G406)=0,\"\",'Détail des projets'!G406)","v":"17-Centre-du-Québec"},{"$f":"IF(LEN('Détail des projets'!K406)=0,\"\",'Détail des projets'!K406)","v":12000},0,"À la fin du projet (suite au dernier versement)",0,"QC-Québec","Oui",null,14.71366328,16.911306320000001,"Non","Oui",null,null,null,null,null,null,null,null,null,null,null,null,5.3077852695066401,null,31.45215555847,null,31.452155558469901]
[null,{"$f":"IF(LEN('Détail des projets'!B407)=0,\"\",'Détail des projets'!B407)","v":"Réfection du système de chauffage de l'école secondaire Curé-Hébert"},{"$f":"IF(LEN('Détail des projets'!C407)=0,\"\",'Détail des projets'!C407)","v":"Centre de services scolaire du Lac-Saint-Jean"},{"$f":"IF(LEN('Détail des projets'!G407)=0,\"\",'Détail des projets'!G407)","v":"02-Saguenay--Lac-Saint-Jean"},{"$f":"IF(LEN('Détail des projets'!K407)=0,\"\",'Détail des projets'!K407)","v":133995.09900000002},143.21255167999999,"À la fin du projet (suite au dernier versement)",41.042302197416973,"QC-Québec","Oui",22.796916961669901,143.21255167999999,null,"Non","Oui",0,null,0,null,0,null,0,null,0,null,0,null,26.607796486994499,null,142.42996943038199,null,142.42996943038199]
[null,{"$f":"IF(LEN('Détail des projets'!B408)=0,\"\",'Détail des projets'!B408)","v":"Implantation du produit ecoAZUR avec Confort du Chef - Relais La Sarre"},{"$f":"IF(LEN('Détail des projets'!C408)=0,\"\",'Détail des projets'!C408)","v":"Les Pétroles Alcasyna (1993) inc."},{"$f":"IF(LEN('Détail des projets'!G408)=0,\"\",'Détail des projets'!G408)","v":"08-Abitibi-Témiscamingue"},{"$f":"IF(LEN('Détail des projets'!K408)=0,\"\",'Détail des projets'!K408)","v":17462.140500000001},13.304486568,"À la fin du projet (suite au dernier versement)",131.25001412681348,"QC-Québec","Oui",10,13.304486568,null,"Non","Oui",0,null,0,null,0,null,0,null,0,null,2.6536271023606601,null,13.268135511803299,null,13.231784455606601,null,13.231784455606601]
[null,{"$f":"IF(LEN('Détail des projets'!B409)=0,\"\",'Détail des projets'!B409)","v":"Analyse de faisabilité pour l'amélioration des systèmes de chauffage, de géothermie et de régulation"},{"$f":"IF(LEN('Détail des projets'!C409)=0,\"\",'Détail des projets'!C409)","v":"Collège de Sainte-Anne-de-la-Pocatière"},{"$f":"IF(LEN('Détail des projets'!G409)=0,\"\",'Détail des projets'!G409)","v":"01-Bas-Saint-Laurent"},{"$f":"IF(LEN('Détail des projets'!K409)=0,\"\",'Détail des projets'!K409)","v":10090},0,"À la fin du projet (suite au dernier versement)",0,"QC-Québec","Oui",null,0,null,"Non","Oui"]
[null,{"$f":"IF(LEN('Détail des projets'!B410)=0,\"\",'Détail des projets'!B410)","v":"Analyse énergétique pour réduire les consommations de produits pétroliers (diesel, propane)"},{"$f":"IF(LEN('Détail des projets'!C410)=0,\"\",'Détail des projets'!C410)","v":"Pourvoirie Lac Dumoulin"},{"$f":"IF(LEN('Détail des projets'!G410)=0,\"\",'Détail des projets'!G410)","v":"04-Mauricie"},{"$f":"IF(LEN('Détail des projets'!K410)=0,\"\",'Détail des projets'!K410)","v":2500},0,"À la fin du projet (suite au dernier versement)",0,"QC-Québec","Oui",null,0,0,"Non","Oui"]
[null,{"$f":"IF(LEN('Détail des projets'!B411)=0,\"\",'Détail des projets'!B411)","v":"Projet d'efficacité énergétique à La Tour Belvédère"},{"$f":"IF(LEN('Détail des projets'!C411)=0,\"\",'Détail des projets'!C411)","v":"La Tour Belvédère inc."},{"$f":"IF(LEN('Détail des projets'!G411)=0,\"\",'Détail des projets'!G411)","v":"06-Montréal"},{"$f":"IF(LEN('Détail des projets'!K411)=0,\"\",'Détail des projets'!K411)","v":399255.06599999999},328.37291219999997,"À la fin du projet (suite au dernier versement)",57.51990108434822,"QC-Québec","Oui",25,277.64655951999998,null,"Non","Oui",0,null,0,null,0,null,0,null,0,null,0,null,120.616947988197,null,276.12936520568297,null,276.12936520568297]
[null,{"$f":"IF(LEN('Détail des projets'!B412)=0,\"\",'Détail des projets'!B412)","v":"Métro Beaumont - Ville Mont-Royal"},{"$f":"IF(LEN('Détail des projets'!C412)=0,\"\",'Détail des projets'!C412)","v":"Métro Richelieu inc."},{"$f":"IF(LEN('Détail des projets'!G412)=0,\"\",'Détail des projets'!G412)","v":"06-Montréal"},{"$f":"IF(LEN('Détail des projets'!K412)=0,\"\",'Détail des projets'!K412)","v":0},80.933367636,"À la fin du projet (suite au dernier versement)",0,"QC-Québec","Oui",25,80.934690160000002,null,"Non","Oui",0,null,0,null,0,null,0,null,0,null,0,null,9.0664543621857892,null,80.492424093551904,null,80.492424093551904]
[null,{"$f":"IF(LEN('Détail des projets'!B413)=0,\"\",'Détail des projets'!B413)","v":"Étude de conversion à l'électricité du chauffage"},{"$f":"IF(LEN('Détail des projets'!C413)=0,\"\",'Détail des projets'!C413)","v":"Ville de Saint-Jean-sur-Richelieu"},{"$f":"IF(LEN('Détail des projets'!G413)=0,\"\",'Détail des projets'!G413)","v":"16-Montérégie"},{"$f":"IF(LEN('Détail des projets'!K413)=0,\"\",'Détail des projets'!K413)","v":10675},0,"À la fin du projet (suite au dernier versement)",0,"QC-Québec","Oui",null,0,null,"Non","Oui"]
[null,{"$f":"IF(LEN('Détail des projets'!B414)=0,\"\",'Détail des projets'!B414)","v":"Étude de la consommation énergétique"},{"$f":"IF(LEN('Détail des projets'!C414)=0,\"\",'Détail des projets'!C414)","v":"Syndicat des copropriétaires Le Sieur Lafontaine"},{"$f":"IF(LEN('Détail des projets'!G414)=0,\"\",'Détail des projets'!G414)","v":"06-Montréal"},{"$f":"IF(LEN('Détail des projets'!K414)=0,\"\",'Détail des projets'!K414)","v":3600},0,"À la fin du projet (suite au dernier versement)",0,"QC-Québec","Oui",null,0,null,"Non","Oui"]
[null,{"$f":"IF(LEN('Détail des projets'!B415)=0,\"\",'Détail des projets'!B415)","v":"Étude d'efficacité énergétique - Usine d'eau potable"},{"$f":"IF(LEN('Détail des projets'!C415)=0,\"\",'Détail des projets'!C415)","v":"Ville de Joliette"},{"$f":"IF(LEN('Détail des projets'!G415)=0,\"\",'Détail des projets'!G415)","v":"14-Lanaudière"},{"$f":"IF(LEN('Détail des projets'!K415)=0,\"\",'Détail des projets'!K415)","v":3916},0,"À la fin du projet (suite au dernier versement)",0,"QC-Québec","Oui",null,0,null,"Non","Oui"]
[null,{"$f":"IF(LEN('Détail des projets'!B416)=0,\"\",'Détail des projets'!B416)","v":"Étude d'efficacité énergétique - Caserne et poste de police"},{"$f":"IF(LEN('Détail des projets'!C416)=0,\"\",'Détail des projets'!C416)","v":"Ville de Joliette"},{"$f":"IF(LEN('Détail des projets'!G416)=0,\"\",'Détail des projets'!G416)","v":"14-Lanaudière"},{"$f":"IF(LEN('Détail des projets'!K416)=0,\"\",'Détail des projets'!K416)","v":4462.5},0,"À la fin du projet (suite au dernier versement)",0,"QC-Québec","Oui",null,0,null,"Non","Oui"]
[null,{"$f":"IF(LEN('Détail des projets'!B417)=0,\"\",'Détail des projets'!B417)","v":"Ajout de thermopompes air-air et remplacement d'une chaudière électrique"},{"$f":"IF(LEN('Détail des projets'!C417)=0,\"\",'Détail des projets'!C417)","v":"La Fabrique de la paroisse de Sainte-Perpétue"},{"$f":"IF(LEN('Détail des projets'!G417)=0,\"\",'Détail des projets'!G417)","v":"12-Chaudière-Appalaches"},{"$f":"IF(LEN('Détail des projets'!K417)=0,\"\",'Détail des projets'!K417)","v":38770.976999999999},33.578620231999999,"À la fin du projet (suite au dernier versement)",57.608993491647389,"QC-Québec","Oui",20,0,33.650107951999999,"Non","Oui",0,null,0,null,0,null,0,null,0,null,0,null,-9.1940185661202198E-2,null,0,null,0]
[null,{"$f":"IF(LEN('Détail des projets'!B418)=0,\"\",'Détail des projets'!B418)","v":"Géothermie, préchauffage de l'eau domestique et récupération de chaleur."},{"$f":"IF(LEN('Détail des projets'!C418)=0,\"\",'Détail des projets'!C418)","v":"Bishop's College School"},{"$f":"IF(LEN('Détail des projets'!G418)=0,\"\",'Détail des projets'!G418)","v":"05-Estrie"},{"$f":"IF(LEN('Détail des projets'!K418)=0,\"\",'Détail des projets'!K418)","v":72696.179999999993},72.929089422192504,"À la fin du projet (suite au dernier versement)",49.711627702991393,"QC-Québec","Oui",20,73.11788344,null,"Non","Oui",0,null,0,null,0,null,0,null,0,null,0,null,45.948396697267803,null,72.718332164371603,null,72.718332164371603]
[null,{"$f":"IF(LEN('Détail des projets'!B419)=0,\"\",'Détail des projets'!B419)","v":"Modernisation énergétique"},{"$f":"IF(LEN('Détail des projets'!C419)=0,\"\",'Détail des projets'!C419)","v":"Hôtels Highland Park inc."},{"$f":"IF(LEN('Détail des projets'!G419)=0,\"\",'Détail des projets'!G419)","v":"05-Estrie"},{"$f":"IF(LEN('Détail des projets'!K419)=0,\"\",'Détail des projets'!K419)","v":17000},0,"À la fin du projet (suite au dernier versement)",0,"QC-Québec","Oui",null,0,null,"Non","Oui"]
[null,{"$f":"IF(LEN('Détail des projets'!B420)=0,\"\",'Détail des projets'!B420)","v":"Delta Sherbrooke - Modernisation énergétique"},{"$f":"IF(LEN('Détail des projets'!C420)=0,\"\",'Détail des projets'!C420)","v":"Hôtels Highland Park inc."},{"$f":"IF(LEN('Détail des projets'!G420)=0,\"\",'Détail des projets'!G420)","v":"05-Estrie"},{"$f":"IF(LEN('Détail des projets'!K420)=0,\"\",'Détail des projets'!K420)","v":484474.2525},378.82639632000001,"À la fin du projet (suite au dernier versement)",62.121642438804194,"QC-Québec","Oui",19.987054824829102,390.19254544,null,"Non","Oui",0,null,0,null,0,null,0,null,0,null,0,null,0,null,248.40126526644801,null,388.06034573814202]
[null,{"$f":"IF(LEN('Détail des projets'!B421)=0,\"\",'Détail des projets'!B421)","v":"Étude en efficacité énergétique"},{"$f":"IF(LEN('Détail des projets'!C421)=0,\"\",'Détail des projets'!C421)","v":"9383-0438 Québec inc."},{"$f":"IF(LEN('Détail des projets'!G421)=0,\"\",'Détail des projets'!G421)","v":"02-Saguenay--Lac-Saint-Jean"},{"$f":"IF(LEN('Détail des projets'!K421)=0,\"\",'Détail des projets'!K421)","v":8000},0,"À la fin du projet (suite au dernier versement)",0,"QC-Québec","Oui",null,0,null,"Non","Oui"]
[null,{"$f":"IF(LEN('Détail des projets'!B422)=0,\"\",'Détail des projets'!B422)","v":"Réfrigération CO2 avec récupération de chaleur (000332)"},{"$f":"IF(LEN('Détail des projets'!C422)=0,\"\",'Détail des projets'!C422)","v":"Sobeys Capital Incorporée"},{"$f":"IF(LEN('Détail des projets'!G422)=0,\"\",'Détail des projets'!G422)","v":"16-Montérégie"},{"$f":"IF(LEN('Détail des projets'!K422)=0,\"\",'Détail des projets'!K422)","v":0},174.85467668000001,"À la fin du projet (suite au dernier versement)",0,"QC-Québec","Oui",15,214.55495783999999,null,"Non","Oui",0,null,0,null,0,null,0,null,0,null,0,null,28.1383551265574,null,213.382526376393,null,213.382526376393]
[null,{"$f":"IF(LEN('Détail des projets'!B423)=0,\"\",'Détail des projets'!B423)","v":"Projet d'économie d'énergie de Manoir Outremont"},{"$f":"IF(LEN('Détail des projets'!C423)=0,\"\",'Détail des projets'!C423)","v":"9307-0985 Québec inc."},{"$f":"IF(LEN('Détail des projets'!G423)=0,\"\",'Détail des projets'!G423)","v":"06-Montréal"},{"$f":"IF(LEN('Détail des projets'!K423)=0,\"\",'Détail des projets'!K423)","v":246232.7175},193.40380868,"À la fin du projet (suite au dernier versement)",69.221560424287063,"QC-Québec","Oui",18.566642761230501,191.58918575999999,null,"Non","Oui",0,null,0,null,0,null,0,null,0,null,0,null,46.065159417704898,null,190.54225031868901,null,190.54225031868901]
[null,{"$f":"IF(LEN('Détail des projets'!B424)=0,\"\",'Détail des projets'!B424)","v":"Modernisation énergétique de l’agrandissement du centre de distribution"},{"$f":"IF(LEN('Détail des projets'!C424)=0,\"\",'Détail des projets'!C424)","v":"Dollarama S.E.C."},{"$f":"IF(LEN('Détail des projets'!G424)=0,\"\",'Détail des projets'!G424)","v":"06-Montréal"},{"$f":"IF(LEN('Détail des projets'!K424)=0,\"\",'Détail des projets'!K424)","v":210620.37149999998},239.63974923999999,"À la fin du projet (suite au dernier versement)",27.102169814263348,"QC-Québec","Oui",25,310.85388799999998,null,"Non","Oui",0,null,0,null,0,null,0,null,0,null,0,null,158.824254251366,null,309.15523287431699,null,309.15523287431699]
[null,{"$f":"IF(LEN('Détail des projets'!B425)=0,\"\",'Détail des projets'!B425)","v":"Implantation du produit ecoAZUR avec Confort du Chef - Boston Pizza St-Nicolas"},{"$f":"IF(LEN('Détail des projets'!C425)=0,\"\",'Détail des projets'!C425)","v":"Boston Pizza St-Nicolas"},{"$f":"IF(LEN('Détail des projets'!G425)=0,\"\",'Détail des projets'!G425)","v":"12-Chaudière-Appalaches"},{"$f":"IF(LEN('Détail des projets'!K425)=0,\"\",'Détail des projets'!K425)","v":29959.599999999999},23.96767676,"À la fin du projet (suite au dernier versement)",117.09965509282259,"QC-Québec","Oui",10,25.584703879999999,null,"Non","Oui",0,null,0,null,0,null,0,null,0,null,9.1573666892896206,null,25.514800317486301,null,25.444896754972699,null,25.444896754972699]
[null,{"$f":"IF(LEN('Détail des projets'!B426)=0,\"\",'Détail des projets'!B426)","v":"Implantation du produit ecoAZUR avec Confort du Chef - Boston Pizza (Lebourneuf)"},{"$f":"IF(LEN('Détail des projets'!C426)=0,\"\",'Détail des projets'!C426)","v":"Boston Pizza (Lebourneuf)"},{"$f":"IF(LEN('Détail des projets'!G426)=0,\"\",'Détail des projets'!G426)","v":"03-Capitale-Nationale"},{"$f":"IF(LEN('Détail des projets'!K426)=0,\"\",'Détail des projets'!K426)","v":29959.599999999999},23.96767676,"À la fin du projet (suite au dernier versement)",120.7593369810492,"QC-Québec","Oui",10,24.80934456,null,"Non","Oui",0,null,0,null,0,null,0,null,0,null,9.2865579363934394,null,24.7415594655738,null,24.673774371147498,null,24.673774371147498]
[null,{"$f":"IF(LEN('Détail des projets'!B427)=0,\"\",'Détail des projets'!B427)","v":"Implantation du produit ecoAZUR avec Confort du Chef - Le Cochon Dingue Carrefour Saint-Romuald"},{"$f":"IF(LEN('Détail des projets'!C427)=0,\"\",'Détail des projets'!C427)","v":"Le Groupe Restos Plaisirs inc."},{"$f":"IF(LEN('Détail des projets'!G427)=0,\"\",'Détail des projets'!G427)","v":"12-Chaudière-Appalaches"},{"$f":"IF(LEN('Détail des projets'!K427)=0,\"\",'Détail des projets'!K427)","v":27589.4745},21.020551359999999,"À la fin du projet (suite au dernier versement)",80.842779377177365,"QC-Québec","Oui",10,34.127320599999997,null,"Non","Oui",0,null,0,null,0,null,0,null,0,null,11.0027973519126,null,34.034076554644798,null,33.940832509289599,null,33.940832509289599]
[null,{"$f":"IF(LEN('Détail des projets'!B428)=0,\"\",'Détail des projets'!B428)","v":"Implantation du produit ecoAZUR avec Confort du Chef"},{"$f":"IF(LEN('Détail des projets'!C428)=0,\"\",'Détail des projets'!C428)","v":"9341-7608 Québec inc. / Delta Saguenay"},{"$f":"IF(LEN('Détail des projets'!G428)=0,\"\",'Détail des projets'!G428)","v":"02-Saguenay--Lac-Saint-Jean"},{"$f":"IF(LEN('Détail des projets'!K428)=0,\"\",'Détail des projets'!K428)","v":99984.633000000002},76.17877052,"À la fin du projet (suite au dernier versement)",131.24999565823919,"QC-Québec","Oui",10,76.17877052,null,"Non","Oui",0,null,0,null,0,null,0,null,0,null,0,null,22.687120182185801,null,75.762493085464499,null,75.762493085464499]
[null,{"$f":"IF(LEN('Détail des projets'!B429)=0,\"\",'Détail des projets'!B429)","v":"Système de réfrigération au CO2 - Adonis Galerie des Sources"},{"$f":"IF(LEN('Détail des projets'!C429)=0,\"\",'Détail des projets'!C429)","v":"Métro Richelieu inc."},{"$f":"IF(LEN('Détail des projets'!G429)=0,\"\",'Détail des projets'!G429)","v":"06-Montréal"},{"$f":"IF(LEN('Détail des projets'!K429)=0,\"\",'Détail des projets'!K429)","v":0},167.20482000000001,"À la fin du projet (suite au dernier versement)",0,"QC-Québec","Oui",15,167.20482000000001,null,"Non","Oui",0,null,0,null,0,null,0,null,0,null,0,null,160.35216344262301,null,166.29113245901601,null,166.29113245901601]
[null,{"$f":"IF(LEN('Détail des projets'!B430)=0,\"\",'Détail des projets'!B430)","v":"Implantation du produit ÉcoAzur avec Confort du Chef"},{"$f":"IF(LEN('Détail des projets'!C430)=0,\"\",'Détail des projets'!C430)","v":"Manoir du Quartier inc."},{"$f":"IF(LEN('Détail des projets'!G430)=0,\"\",'Détail des projets'!G430)","v":"12-Chaudière-Appalaches"},{"$f":"IF(LEN('Détail des projets'!K430)=0,\"\",'Détail des projets'!K430)","v":30670.531499999997},23.368025960000001,"À la fin du projet (suite au dernier versement)",103.3916531303819,"QC-Québec","Oui",10,29.664417360000002,null,"Non","Oui",0,null,0,null,0,null,0,null,0,null,2.99886186426229,null,29.583367039344299,null,29.502316718688501,null,29.502316718688501]
[null,{"$f":"IF(LEN('Détail des projets'!B431)=0,\"\",'Détail des projets'!B431)","v":"Implantation du produit ÉcoAZUR"},{"$f":"IF(LEN('Détail des projets'!C431)=0,\"\",'Détail des projets'!C431)","v":"Archibald inc."},{"$f":"IF(LEN('Détail des projets'!G431)=0,\"\",'Détail des projets'!G431)","v":"03-Capitale-Nationale"},{"$f":"IF(LEN('Détail des projets'!K431)=0,\"\",'Détail des projets'!K431)","v":30449.821500000002},38.639706728,"À la fin du projet (suite au dernier versement)",21.904707527329823,"QC-Québec","Oui",10,139.01039976000001,null,"Non","Oui",0,null,0,null,0,null,0,null,0,null,0,null,77.481206423606594,null,138.25078008918001,null,138.25078008918001]
[null,{"$f":"IF(LEN('Détail des projets'!B432)=0,\"\",'Détail des projets'!B432)","v":"Raccordement des bâtiments de la communauté de Kitcisakik au réseau hydroélectrique d'Hydro-Québec"},{"$f":"IF(LEN('Détail des projets'!C432)=0,\"\",'Détail des projets'!C432)","v":"Conseil des Anicinapek de Kitcisakik (OBNL)"},{"$f":"IF(LEN('Détail des projets'!G432)=0,\"\",'Détail des projets'!G432)","v":"08-Abitibi-Témiscamingue"},{"$f":"IF(LEN('Détail des projets'!K432)=0,\"\",'Détail des projets'!K432)","v":26250},0,"À la fin du projet (suite au dernier versement)",0,"QC-Québec","Oui",null,0,null,"Non","Oui"]
[null,{"$f":"IF(LEN('Détail des projets'!B433)=0,\"\",'Détail des projets'!B433)","v":"Récupération de chaleur et chauffage solaire"},{"$f":"IF(LEN('Détail des projets'!C433)=0,\"\",'Détail des projets'!C433)","v":"Équipement Drym ltée"},{"$f":"IF(LEN('Détail des projets'!G433)=0,\"\",'Détail des projets'!G433)","v":"06-Montréal"},{"$f":"IF(LEN('Détail des projets'!K433)=0,\"\",'Détail des projets'!K433)","v":103978.66},83.182930240000005,"À la fin du projet (suite au dernier versement)",48.121185876264001,"QC-Québec","Oui",25,86.430671320000002,null,"Non","Oui",0,null,0,null,0,null,0,null,0,null,0,null,0,null,31.171717525245899,null,85.958372569617495]
[null,{"$f":"IF(LEN('Détail des projets'!B434)=0,\"\",'Détail des projets'!B434)","v":"Étude d'un système de récupération d'énergie pour le séchage de grain"},{"$f":"IF(LEN('Détail des projets'!C434)=0,\"\",'Détail des projets'!C434)","v":"Incimal inc."},{"$f":"IF(LEN('Détail des projets'!G434)=0,\"\",'Détail des projets'!G434)","v":"14-Lanaudière"},{"$f":"IF(LEN('Détail des projets'!K434)=0,\"\",'Détail des projets'!K434)","v":5000},0,"À la fin du projet (suite au dernier versement)",0,"QC-Québec","Oui",null,0,null,"Non","Oui"]
[null,{"$f":"IF(LEN('Détail des projets'!B435)=0,\"\",'Détail des projets'!B435)","v":"Implantation du produit ecoAZUR"},{"$f":"IF(LEN('Détail des projets'!C435)=0,\"\",'Détail des projets'!C435)","v":"Restaurant Horace Poutine inc."},{"$f":"IF(LEN('Détail des projets'!G435)=0,\"\",'Détail des projets'!G435)","v":"17-Centre-du-Québec"},{"$f":"IF(LEN('Détail des projets'!K435)=0,\"\",'Détail des projets'!K435)","v":23837.5},21.115775240000001,"À la fin du projet (suite au dernier versement)",112.88953272643376,"QC-Québec","Oui",10,21.115775240000001,null,"Non","Oui",0,null,0,null,0,null,0,null,0,null,0,null,0,null,19.038813740983599,null,21.000388490054601]
[null,{"$f":"IF(LEN('Détail des projets'!B436)=0,\"\",'Détail des projets'!B436)","v":"Implantation du produit ecoAZUR avec Confort du Chef"},{"$f":"IF(LEN('Détail des projets'!C436)=0,\"\",'Détail des projets'!C436)","v":"La Gargouille"},{"$f":"IF(LEN('Détail des projets'!G436)=0,\"\",'Détail des projets'!G436)","v":"12-Chaudière-Appalaches"},{"$f":"IF(LEN('Détail des projets'!K436)=0,\"\",'Détail des projets'!K436)","v":28838.0085},21.971817560000002,"À la fin du projet (suite au dernier versement)",131.2499906812443,"QC-Québec","Oui",10,21.971817560000002,null,"Non","Oui",0,null,0,null,0,null,0,null,0,null,0,null,0,null,7.98429435923497,null,21.851752983169401]
[null,{"$f":"IF(LEN('Détail des projets'!B437)=0,\"\",'Détail des projets'!B437)","v":"Implantation du produit ecoAZUR"},{"$f":"IF(LEN('Détail des projets'!C437)=0,\"\",'Détail des projets'!C437)","v":"9368-9917 Québec inc. / La Porte de la Mauricie"},{"$f":"IF(LEN('Détail des projets'!G437)=0,\"\",'Détail des projets'!G437)","v":"04-Mauricie"},{"$f":"IF(LEN('Détail des projets'!K437)=0,\"\",'Détail des projets'!K437)","v":69193.792499999996},52.719078840000002,"À la fin du projet (suite au dernier versement)",131.2500028879488,"QC-Québec","Oui",10,52.719078840000002,null,"Non","Oui",0,null,0,null,0,null,0,null,0,null,0,null,0,null,48.397842869508203,null,52.430996441967203]
[null,{"$f":"IF(LEN('Détail des projets'!B438)=0,\"\",'Détail des projets'!B438)","v":"008107 - IGA Joliette rue Gauthier Nord"},{"$f":"IF(LEN('Détail des projets'!C438)=0,\"\",'Détail des projets'!C438)","v":"Supermarché Crevier (Joliette) inc."},{"$f":"IF(LEN('Détail des projets'!G438)=0,\"\",'Détail des projets'!G438)","v":"14-Lanaudière"},{"$f":"IF(LEN('Détail des projets'!K438)=0,\"\",'Détail des projets'!K438)","v":44815.289846250002},50.271852879999997,"À la fin du projet (suite au dernier versement)",59.430592241779337,"QC-Québec","Oui",15,50.271852879999997,null,"Non","Oui",0,null,0,null,0,null,0,null,0,null,0,null,20.053799236284199,null,49.997143301420799,null,49.997143301420799]
[null,{"$f":"IF(LEN('Détail des projets'!B439)=0,\"\",'Détail des projets'!B439)","v":"Étude - remplacement des thermopompes et récupération de chaleur des systèmes de ventilation"},{"$f":"IF(LEN('Détail des projets'!C439)=0,\"\",'Détail des projets'!C439)","v":"Citoxlab Amérique du Nord inc."},{"$f":"IF(LEN('Détail des projets'!G439)=0,\"\",'Détail des projets'!G439)","v":"13-Laval"},{"$f":"IF(LEN('Détail des projets'!K439)=0,\"\",'Détail des projets'!K439)","v":4893},0,"À la fin du projet (suite au dernier versement)",0,"QC-Québec","Oui",null,0,null,"Non","Oui"]
[null,{"$f":"IF(LEN('Détail des projets'!B440)=0,\"\",'Détail des projets'!B440)","v":"Conversion du système de chauffage du mazout à l'électricité"},{"$f":"IF(LEN('Détail des projets'!C440)=0,\"\",'Détail des projets'!C440)","v":"La Fabrique de la paroisse de Saint-Félix-de-Valois"},{"$f":"IF(LEN('Détail des projets'!G440)=0,\"\",'Détail des projets'!G440)","v":"07-Outaouais"},{"$f":"IF(LEN('Détail des projets'!K440)=0,\"\",'Détail des projets'!K440)","v":25653.411},60.090624320000003,"À la fin du projet (suite au dernier versement)",9.8398071702468197,"QC-Québec","Oui",50,0,52.142101072000003,"Non","Oui",0,null,0,null,0,null,0,null,0,null,0,null,0,null,15.9560527870601,null,51.8571715579453]
[null,{"$f":"IF(LEN('Détail des projets'!B441)=0,\"\",'Détail des projets'!B441)","v":"Projet d’efficacité énergétique au secteur piscine du Centre jeunesse Saint-Georges"},{"$f":"IF(LEN('Détail des projets'!C441)=0,\"\",'Détail des projets'!C441)","v":"CIUSSS Saguenay-Lac-Saint-Jean"},{"$f":"IF(LEN('Détail des projets'!G441)=0,\"\",'Détail des projets'!G441)","v":"02-Saguenay--Lac-Saint-Jean"},{"$f":"IF(LEN('Détail des projets'!K441)=0,\"\",'Détail des projets'!K441)","v":20585},0,"À la fin du projet (suite au dernier versement)",0,"QC-Québec","Oui",null,0,null,"Non","Oui"]
[null,{"$f":"IF(LEN('Détail des projets'!B442)=0,\"\",'Détail des projets'!B442)","v":"Réfection majeure des systèmes mécaniques du Palais des Sports"},{"$f":"IF(LEN('Détail des projets'!C442)=0,\"\",'Détail des projets'!C442)","v":"Ville de Saguenay"},{"$f":"IF(LEN('Détail des projets'!G442)=0,\"\",'Détail des projets'!G442)","v":"02-Saguenay─Lac-Saint-Jean"},{"$f":"IF(LEN('Détail des projets'!K442)=0,\"\",'Détail des projets'!K442)","v":66680.008499999996},50.803814799999998,"À la fin du projet (suite au dernier versement)",48.914626428236396,"QC-Québec","Oui",25,54.527664520000002,null,"Non","Oui",0,null,0,null,0,null,0,null,0,null,0,null,20.708593902404399,null,54.229699140109297,null,54.229699140109297]
[null,{"$f":"IF(LEN('Détail des projets'!B443)=0,\"\",'Détail des projets'!B443)","v":"Mon éco-quartier Lachine"},{"$f":"IF(LEN('Détail des projets'!C443)=0,\"\",'Détail des projets'!C443)","v":"Ville de Montréal - Arrondissement de Lachine"},{"$f":"IF(LEN('Détail des projets'!G443)=0,\"\",'Détail des projets'!G443)","v":"06-Montréal"},{"$f":"IF(LEN('Détail des projets'!K443)=0,\"\",'Détail des projets'!K443)","v":10750},0,"À la fin du projet (suite au dernier versement)",0,"QC-Québec","Oui",8.6646442413330096,0,null,"Non","Oui"]
[null,{"$f":"IF(LEN('Détail des projets'!B444)=0,\"\",'Détail des projets'!B444)","v":"Réfrigération au CO2 avec récupération de chaleur - Marché Pie-IX"},{"$f":"IF(LEN('Détail des projets'!C444)=0,\"\",'Détail des projets'!C444)","v":"Le Marché Pie-IX S.E.C."},{"$f":"IF(LEN('Détail des projets'!G444)=0,\"\",'Détail des projets'!G444)","v":"06-Montréal"},{"$f":"IF(LEN('Détail des projets'!K444)=0,\"\",'Détail des projets'!K444)","v":316168.85184900003},260.93587452000003,"À la fin du projet (suite au dernier versement)",30.339429616366328,"QC-Québec","Oui",30,347.36848587999998,null,"Non","Oui",0,null,0,null,0,null,0,null,0,null,0,null,0,null,140.46594510994501,null,345.47029743256797]
[null,{"$f":"IF(LEN('Détail des projets'!B445)=0,\"\",'Détail des projets'!B445)","v":"Remplacement du système de réfrigération"},{"$f":"IF(LEN('Détail des projets'!C445)=0,\"\",'Détail des projets'!C445)","v":"Bonanza Lalumière"},{"$f":"IF(LEN('Détail des projets'!G445)=0,\"\",'Détail des projets'!G445)","v":"06-Montréal"},{"$f":"IF(LEN('Détail des projets'!K445)=0,\"\",'Détail des projets'!K445)","v":138243.64199057998},105.32770068000001,"À la fin du projet (suite au dernier versement)",48.127806252333741,"QC-Québec","Oui",25,114.89710648000001,null,"Non","Oui",0,null,0,null,0,null,0,null,0,null,0,null,36.415476370710401,null,114.269253439126,null,114.269253439126]
[null,{"$f":"IF(LEN('Détail des projets'!B446)=0,\"\",'Détail des projets'!B446)","v":"Construction Métro plus Fournier"},{"$f":"IF(LEN('Détail des projets'!C446)=0,\"\",'Détail des projets'!C446)","v":"Supermarché R. Fournier inc."},{"$f":"IF(LEN('Détail des projets'!G446)=0,\"\",'Détail des projets'!G446)","v":"04-Mauricie"},{"$f":"IF(LEN('Détail des projets'!K446)=0,\"\",'Détail des projets'!K446)","v":2280.893877},1.82491472,"À la fin du projet (suite au dernier versement)",62.493163433960355,"QC-Québec","Oui",20,1.82491472,null,"Non","Oui",0,null,0,null,0,null,0,null,0,null,0,null,0.90747125420764996,null,1.8149425084152999,null,1.8149425084152999]
[null,{"$f":"IF(LEN('Détail des projets'!B447)=0,\"\",'Détail des projets'!B447)","v":"Analyse énergétique"},{"$f":"IF(LEN('Détail des projets'!C447)=0,\"\",'Détail des projets'!C447)","v":"CIUSSS Saguenay-Lac-Saint-Jean"},{"$f":"IF(LEN('Détail des projets'!G447)=0,\"\",'Détail des projets'!G447)","v":"02-Saguenay--Lac-Saint-Jean"},{"$f":"IF(LEN('Détail des projets'!K447)=0,\"\",'Détail des projets'!K447)","v":26096.95},0,"À la fin du projet (suite au dernier versement)",0,"QC-Québec","Oui",null,0,null,"Non","Oui"]
[null,{"$f":"IF(LEN('Détail des projets'!B448)=0,\"\",'Détail des projets'!B448)","v":"Analyse énergétique - Audit ASHRAE niveau 2"},{"$f":"IF(LEN('Détail des projets'!C448)=0,\"\",'Détail des projets'!C448)","v":"Cégep Beauce-Appalaches"},{"$f":"IF(LEN('Détail des projets'!G448)=0,\"\",'Détail des projets'!G448)","v":"12-Chaudière-Appalaches"},{"$f":"IF(LEN('Détail des projets'!K448)=0,\"\",'Détail des projets'!K448)","v":4855},0,"À la fin du projet (suite au dernier versement)",0,"QC-Québec","Oui",null,0,null,"Non","Oui"]
[null,{"$f":"IF(LEN('Détail des projets'!B449)=0,\"\",'Détail des projets'!B449)","v":"Analyse de potentiel, bâtiment zéro net et recherche de solutions optimales"},{"$f":"IF(LEN('Détail des projets'!C449)=0,\"\",'Détail des projets'!C449)","v":"Chanel Canada ULC"},{"$f":"IF(LEN('Détail des projets'!G449)=0,\"\",'Détail des projets'!G449)","v":"16-Montérégie"},{"$f":"IF(LEN('Détail des projets'!K449)=0,\"\",'Détail des projets'!K449)","v":15750},0,"À la fin du projet (suite au dernier versement)",0,"QC-Québec","Oui",20,0,null,"Non","Oui"]
[null,{"$f":"IF(LEN('Détail des projets'!B450)=0,\"\",'Détail des projets'!B450)","v":"Projet d'efficacité énergétique"},{"$f":"IF(LEN('Détail des projets'!C450)=0,\"\",'Détail des projets'!C450)","v":"Collège André-Grasset (1973) inc."},{"$f":"IF(LEN('Détail des projets'!G450)=0,\"\",'Détail des projets'!G450)","v":"06-Montréal"},{"$f":"IF(LEN('Détail des projets'!K450)=0,\"\",'Détail des projets'!K450)","v":107671.343275755},72.135257832799994,"À la fin du projet (suite au dernier versement)",54.814432174983793,"QC-Québec","Oui",20,98.214410880000003,null,"Non","Oui",0,null,0,null,0,null,0,null,0,null,0,null,0,null,38.105044658360697,null,97.677720110163904]
[null,{"$f":"IF(LEN('Détail des projets'!B451)=0,\"\",'Détail des projets'!B451)","v":"Réfrigération au CO2 avec récupération chaleur (Metro Lachine)"},{"$f":"IF(LEN('Détail des projets'!C451)=0,\"\",'Détail des projets'!C451)","v":"Métro Richelieu inc."},{"$f":"IF(LEN('Détail des projets'!G451)=0,\"\",'Détail des projets'!G451)","v":"06-Montréal"},{"$f":"IF(LEN('Détail des projets'!K451)=0,\"\",'Détail des projets'!K451)","v":0},93.969297772000004,"À la fin du projet (suite au dernier versement)",0,"QC-Québec","Oui",15,93.969297772000004,null,"Non","Oui",0,null,0,null,0,null,0,null,0,null,0,null,0,null,44.417181733759598,null,93.455804341551897]
[null,{"$f":"IF(LEN('Détail des projets'!B452)=0,\"\",'Détail des projets'!B452)","v":"Audit-525 René-Lévesque"},{"$f":"IF(LEN('Détail des projets'!C452)=0,\"\",'Détail des projets'!C452)","v":"Société Bon Pasteur S.E.N.C."},{"$f":"IF(LEN('Détail des projets'!G452)=0,\"\",'Détail des projets'!G452)","v":"03-Capitale-Nationale"},{"$f":"IF(LEN('Détail des projets'!K452)=0,\"\",'Détail des projets'!K452)","v":17897.25},0,"À la fin du projet (suite au dernier versement)",0,"QC-Québec","Oui",null,0,null,"Non","Oui"]
[null,{"$f":"IF(LEN('Détail des projets'!B453)=0,\"\",'Détail des projets'!B453)","v":"Réfrigération au CO2 avec récupération de chaleur (001758)"},{"$f":"IF(LEN('Détail des projets'!C453)=0,\"\",'Détail des projets'!C453)","v":"Sobeys Capital Incorporée"},{"$f":"IF(LEN('Détail des projets'!G453)=0,\"\",'Détail des projets'!G453)","v":"06-Montréal"},{"$f":"IF(LEN('Détail des projets'!K453)=0,\"\",'Détail des projets'!K453)","v":0},161.66986812799999,"À la fin du projet (suite au dernier versement)",0,"QC-Québec","Oui",15,161.669679196,null,"Non","Oui",0,null,0,null,0,null,0,null,0,null,0,null,98.061936561508205,null,160.78623832607701,null,160.78623832607701]
[null,{"$f":"IF(LEN('Détail des projets'!B454)=0,\"\",'Détail des projets'!B454)","v":"Réfrigération CO2 avec récupération de chaleur (008299)"},{"$f":"IF(LEN('Détail des projets'!C454)=0,\"\",'Détail des projets'!C454)","v":"Sobeys Capital Incorporée"},{"$f":"IF(LEN('Détail des projets'!G454)=0,\"\",'Détail des projets'!G454)","v":"12-Chaudière-Appalaches"},{"$f":"IF(LEN('Détail des projets'!K454)=0,\"\",'Détail des projets'!K454)","v":0},1.0602708240000001,"À la fin du projet (suite au dernier versement)",0,"QC-Québec","Oui",15,206.36664496,null,"Non","Oui",0,null,0,null,0,null,0,null,0,null,0,null,93.597986511912595,null,205.23895837551899,null,205.23895837551899]
[null,{"$f":"IF(LEN('Détail des projets'!B455)=0,\"\",'Détail des projets'!B455)","v":"Projet de conversion des systèmes de chauffage à la vapeur vers des systèmes à l’eau chaude"},{"$f":"IF(LEN('Détail des projets'!C455)=0,\"\",'Détail des projets'!C455)","v":"La Congrégation des Soeurs de Notre-Dame du Bon Conseil de Chicoutimi"},{"$f":"IF(LEN('Détail des projets'!G455)=0,\"\",'Détail des projets'!G455)","v":"02-Saguenay--Lac-Saint-Jean"},{"$f":"IF(LEN('Détail des projets'!K455)=0,\"\",'Détail des projets'!K455)","v":1048368.76},838.69500951999999,"À la fin du projet (suite au dernier versement)",49.826362325272093,"QC-Québec","Oui",20,914.39498291999996,137.62719075999999,"Non","Oui",0,null,0,null,0,null,0,null,0,null,0,null,63.236305521748598,null,1046.2734186325699,null,1046.2734186325699]
[null,{"$f":"IF(LEN('Détail des projets'!B456)=0,\"\",'Détail des projets'!B456)","v":"Projet d'efficacité d'énergie - Séminaire Saint-Francois"},{"$f":"IF(LEN('Détail des projets'!C456)=0,\"\",'Détail des projets'!C456)","v":"Séminaire Saint-François"},{"$f":"IF(LEN('Détail des projets'!G456)=0,\"\",'Détail des projets'!G456)","v":"03-Capitale-Nationale"},{"$f":"IF(LEN('Détail des projets'!K456)=0,\"\",'Détail des projets'!K456)","v":448664.40150000004},341.83954368000002,"À la fin du projet (suite au dernier versement)",65.625000061432331,"QC-Québec","Oui",20,341.83954368000002,null,"Non","Oui",0,null,0,null,0,null,0,null,0,null,0,null,0,null,311.95193330360598,null,339.97156803147499]
[null,{"$f":"IF(LEN('Détail des projets'!B457)=0,\"\",'Détail des projets'!B457)","v":"Conversion du chauffage hydronique à l'électricité (90 %)"},{"$f":"IF(LEN('Détail des projets'!C457)=0,\"\",'Détail des projets'!C457)","v":"Centre enfance et famille de Step by Step"},{"$f":"IF(LEN('Détail des projets'!G457)=0,\"\",'Détail des projets'!G457)","v":"16-Montérégie"},{"$f":"IF(LEN('Détail des projets'!K457)=0,\"\",'Détail des projets'!K457)","v":49692.971999999994},68.057601551999994,"À la fin du projet (suite au dernier versement)",33.747109200610083,"QC-Québec","Oui",20,0,73.625524048000003,"Non","Oui",0,null,0,null,0,null,0,null,0,null,0,null,0,null,34.801135683890699,null,73.223198779978105]
[null,{"$f":"IF(LEN('Détail des projets'!B458)=0,\"\",'Détail des projets'!B458)","v":"Projet d’économie d’énergie – 135 rue Sherbrooke"},{"$f":"IF(LEN('Détail des projets'!C458)=0,\"\",'Détail des projets'!C458)","v":"Appartements CAPREIT"},{"$f":"IF(LEN('Détail des projets'!G458)=0,\"\",'Détail des projets'!G458)","v":"06-Montréal"},{"$f":"IF(LEN('Détail des projets'!K458)=0,\"\",'Détail des projets'!K458)","v":175888.79699999999},134.01051451999999,"À la fin du projet (suite au dernier versement)",52.499999012764036,"QC-Québec","Oui",25,134.01051451999999,null,"Non","Oui",0,null,0,null,0,null,0,null,0,null,0,null,55.654639909945402,null,133.278216626448,null,133.278216626448]
[null,{"$f":"IF(LEN('Détail des projets'!B459)=0,\"\",'Détail des projets'!B459)","v":"Analyse d'efficacité énergétique du projet Îlot Lapointe"},{"$f":"IF(LEN('Détail des projets'!C459)=0,\"\",'Détail des projets'!C459)","v":"Investissements ICF Laurier inc."},{"$f":"IF(LEN('Détail des projets'!G459)=0,\"\",'Détail des projets'!G459)","v":"03-Capitale-Nationale"},{"$f":"IF(LEN('Détail des projets'!K459)=0,\"\",'Détail des projets'!K459)","v":7500},null,"À la fin du projet (suite au dernier versement)",0,"QC-Québec","Oui",null,null,null,"Non","Oui"]
[null,{"$f":"IF(LEN('Détail des projets'!B460)=0,\"\",'Détail des projets'!B460)","v":"Réfrigération au CO2 avec récupération de chaleur (008274)"},{"$f":"IF(LEN('Détail des projets'!C460)=0,\"\",'Détail des projets'!C460)","v":"Sobeys Capital Incorporée"},{"$f":"IF(LEN('Détail des projets'!G460)=0,\"\",'Détail des projets'!G460)","v":"12-Chaudière-Appalaches"},{"$f":"IF(LEN('Détail des projets'!K460)=0,\"\",'Détail des projets'!K460)","v":0},110.232564332,"À la fin du projet (suite au dernier versement)",0,"QC-Québec","Oui",15,136.16291453599999,null,"Non","Oui",0,null,0,null,0,null,0,null,0,null,0,null,82.590620292327898,null,135.418854893727,null,135.418854893727]
[null,{"$f":"IF(LEN('Détail des projets'!B461)=0,\"\",'Détail des projets'!B461)","v":"Projet d’économie d’énergie – 315 René Lévesque"},{"$f":"IF(LEN('Détail des projets'!C461)=0,\"\",'Détail des projets'!C461)","v":"Appartements CAPREIT"},{"$f":"IF(LEN('Détail des projets'!G461)=0,\"\",'Détail des projets'!G461)","v":"06-Montréal"},{"$f":"IF(LEN('Détail des projets'!K461)=0,\"\",'Détail des projets'!K461)","v":195000},169.27391815999999,"À la fin du projet (suite au dernier versement)",58.747740566115617,"QC-Québec","Oui",20,165.96382951999999,null,"Non","Oui",0,null,0,null,0,null,0,null,0,null,0,null,0,null,123.79269251082,null,165.05692334776001]
[null,{"$f":"IF(LEN('Détail des projets'!B462)=0,\"\",'Détail des projets'!B462)","v":"Audit énergétique - Ivanhoé Cambridge"},{"$f":"IF(LEN('Détail des projets'!C462)=0,\"\",'Détail des projets'!C462)","v":"Ivanhoé Cambridge inc."},{"$f":"IF(LEN('Détail des projets'!G462)=0,\"\",'Détail des projets'!G462)","v":"06-Montréal"},{"$f":"IF(LEN('Détail des projets'!K462)=0,\"\",'Détail des projets'!K462)","v":28612.5},0,"À la fin du projet (suite au dernier versement)",0,"QC-Québec","Oui",null,0,null,"Non","Oui"]
[null,{"$f":"IF(LEN('Détail des projets'!B463)=0,\"\",'Détail des projets'!B463)","v":"Projet d’étude de remplacement de l’humification vapeur sur le site BAnQ - Grande Bibliothèque"},{"$f":"IF(LEN('Détail des projets'!C463)=0,\"\",'Détail des projets'!C463)","v":"Bibliothèque et Archives nationales du Québec"},{"$f":"IF(LEN('Détail des projets'!G463)=0,\"\",'Détail des projets'!G463)","v":"06-Montréal"},{"$f":"IF(LEN('Détail des projets'!K463)=0,\"\",'Détail des projets'!K463)","v":4500},0,"À la fin du projet (suite au dernier versement)",0,"QC-Québec","Oui",null,0,null,"Non","Oui"]
[null,{"$f":"IF(LEN('Détail des projets'!B464)=0,\"\",'Détail des projets'!B464)","v":"Projet d’étude de remplacement de l’humification vapeur sur le site BAnQ Rosemont - La Petite-Patrie"},{"$f":"IF(LEN('Détail des projets'!C464)=0,\"\",'Détail des projets'!C464)","v":"Bibliothèque et Archives nationales du Québec"},{"$f":"IF(LEN('Détail des projets'!G464)=0,\"\",'Détail des projets'!G464)","v":"06-Montréal"},{"$f":"IF(LEN('Détail des projets'!K464)=0,\"\",'Détail des projets'!K464)","v":6250},0,"À la fin du projet (suite au dernier versement)",0,"QC-Québec","Oui",null,0,null,"Non","Oui"]
[null,{"$f":"IF(LEN('Détail des projets'!B465)=0,\"\",'Détail des projets'!B465)","v":"Optimisation du système de chauffage et de production d'eau chaude sanitaire"},{"$f":"IF(LEN('Détail des projets'!C465)=0,\"\",'Détail des projets'!C465)","v":"Centre intégré universitaire de santé et de services sociaux de l’Estrie – Centre hospitalier universitaire de Sherbrooke"},{"$f":"IF(LEN('Détail des projets'!G465)=0,\"\",'Détail des projets'!G465)","v":"05-Estrie"},{"$f":"IF(LEN('Détail des projets'!K465)=0,\"\",'Détail des projets'!K465)","v":20766.900000000001},0,"À la fin du projet (suite au dernier versement)",0,"QC-Québec","Oui",null,0,null,"Non","Oui"]
[null,{"$f":"IF(LEN('Détail des projets'!B466)=0,\"\",'Détail des projets'!B466)","v":"Projet d'efficacité énergétique à l'Édifice 1616 Ste-Catherine Ouest Le Faubourg"},{"$f":"IF(LEN('Détail des projets'!C466)=0,\"\",'Détail des projets'!C466)","v":"Édifice 1616 Ste-Catherine Ouest Le Faubourg inc."},{"$f":"IF(LEN('Détail des projets'!G466)=0,\"\",'Détail des projets'!G466)","v":"06-Montréal"},{"$f":"IF(LEN('Détail des projets'!K466)=0,\"\",'Détail des projets'!K466)","v":56785.869000000006},43.265428,"À la fin du projet (suite au dernier versement)",37.989379367677763,"QC-Québec","Oui",25,59.791310039999999,null,"Non","Oui",0,null,0,null,0,null,0,null,0,null,0,null,0,null,46.068714293114802,null,59.464581569836099]
[null,{"$f":"IF(LEN('Détail des projets'!B467)=0,\"\",'Détail des projets'!B467)","v":"Audit 6445-6475 Henri-Bourassa"},{"$f":"IF(LEN('Détail des projets'!C467)=0,\"\",'Détail des projets'!C467)","v":"6445 Henri-Bourassa Est inc."},{"$f":"IF(LEN('Détail des projets'!G467)=0,\"\",'Détail des projets'!G467)","v":"06-Montréal"},{"$f":"IF(LEN('Détail des projets'!K467)=0,\"\",'Détail des projets'!K467)","v":2500},0,"À la fin du projet (suite au dernier versement)",0,"QC-Québec","Oui",null,0,null,"Non","Oui"]
[null,{"$f":"IF(LEN('Détail des projets'!B468)=0,\"\",'Détail des projets'!B468)","v":"Projet d'efficacité énergétique au 2525 Cavendish"},{"$f":"IF(LEN('Détail des projets'!C468)=0,\"\",'Détail des projets'!C468)","v":"Appartements CAPREIT"},{"$f":"IF(LEN('Détail des projets'!G468)=0,\"\",'Détail des projets'!G468)","v":"06-Montréal"},{"$f":"IF(LEN('Détail des projets'!K468)=0,\"\",'Détail des projets'!K468)","v":308340.32},544.83359064000001,"À la fin du projet (suite au dernier versement)",33.786541717431284,"QC-Québec","Oui",25,365.04513847999999,null,"Non","Oui",0,null,0,null,0,null,0,null,0,null,0,null,0,null,81.786069276939898,null,363.05035630251399]
[null,{"$f":"IF(LEN('Détail des projets'!B469)=0,\"\",'Détail des projets'!B469)","v":"Implantation du produit ecoAZUR avec Confort du Chef"},{"$f":"IF(LEN('Détail des projets'!C469)=0,\"\",'Détail des projets'!C469)","v":"Le Groupe Restos Plaisirs inc."},{"$f":"IF(LEN('Détail des projets'!G469)=0,\"\",'Détail des projets'!G469)","v":"03-Capitale-Nationale"},{"$f":"IF(LEN('Détail des projets'!K469)=0,\"\",'Détail des projets'!K469)","v":30781.7},26.86130696,"À la fin du projet (suite au dernier versement)",110.18386869417539,"QC-Québec","Oui",10,27.936666559999999,null,"Non","Oui",0,null,0,null,0,null,0,null,0,null,0,null,8.9305737363934394,null,27.7840071798907,null,27.7840071798907]
[null,{"$f":"IF(LEN('Détail des projets'!B470)=0,\"\",'Détail des projets'!B470)","v":"Implantation du produit ecoAZUR"},{"$f":"IF(LEN('Détail des projets'!C470)=0,\"\",'Détail des projets'!C470)","v":"Le Groupe Restos Plaisirs inc."},{"$f":"IF(LEN('Détail des projets'!G470)=0,\"\",'Détail des projets'!G470)","v":"03-Capitale-Nationale"},{"$f":"IF(LEN('Détail des projets'!K470)=0,\"\",'Détail des projets'!K470)","v":19997.5},15.82160796,"À la fin du projet (suite au dernier versement)",117.37379641895204,"QC-Québec","Oui",10,17.037448399999999,null,"Non","Oui",0,null,0,null,0,null,0,null,0,null,0,null,7.58771609071038,null,16.944347589071,null,16.944347589071]
[null,{"$f":"IF(LEN('Détail des projets'!B471)=0,\"\",'Détail des projets'!B471)","v":"Implantation du produit ecoAZUR avec Confort du Chef"},{"$f":"IF(LEN('Détail des projets'!C471)=0,\"\",'Détail des projets'!C471)","v":"Le Groupe Restos Plaisirs inc."},{"$f":"IF(LEN('Détail des projets'!G471)=0,\"\",'Détail des projets'!G471)","v":"03-Capitale-Nationale"},{"$f":"IF(LEN('Détail des projets'!K471)=0,\"\",'Détail des projets'!K471)","v":35387.5},28.662740880000001,"À la fin du projet (suite au dernier versement)",123.46167503015154,"QC-Québec","Oui",10,28.662740880000001,null,"Non","Oui",0,null,0,null,0,null,0,null,0,null,0,null,9.5542469600000004,null,28.5061138806557,null,28.5061138806557]
[null,{"$f":"IF(LEN('Détail des projets'!B472)=0,\"\",'Détail des projets'!B472)","v":"Aliments Roma - Entrepôt frigorifique"},{"$f":"IF(LEN('Détail des projets'!C472)=0,\"\",'Détail des projets'!C472)","v":"Les Aliments Roma ltée"},{"$f":"IF(LEN('Détail des projets'!G472)=0,\"\",'Détail des projets'!G472)","v":"06-Montréal"},{"$f":"IF(LEN('Détail des projets'!K472)=0,\"\",'Détail des projets'!K472)","v":17918.736809925002},46.027613840000001,"À la fin du projet (suite au dernier versement)",28.019023992970979,"QC-Québec","Oui",19.241266250610401,33.236917439999999,null,"Non","Oui",0,null,0,null,0,null,0,null,0,null,0,null,0,null,15.8919687213115,null,33.055294940327897]
[null,{"$f":"IF(LEN('Détail des projets'!B473)=0,\"\",'Détail des projets'!B473)","v":"Remplacement des chariots élévateurs au propane par des chariots électriques"},{"$f":"IF(LEN('Détail des projets'!C473)=0,\"\",'Détail des projets'!C473)","v":"Transport Guilbault inc."},{"$f":"IF(LEN('Détail des projets'!G473)=0,\"\",'Détail des projets'!G473)","v":"16-Montérégie"},{"$f":"IF(LEN('Détail des projets'!K473)=0,\"\",'Détail des projets'!K473)","v":189215.9535},205.94933897199999,"À la fin du projet (suite au dernier versement)",131.24999883430073,"QC-Québec","Oui",7,0,205.94933897199999,"Non","Oui",0,null,0,null,0,null,0,null,0,null,0,null,0,null,177.81418337473201,null,204.823932748109]
[null,{"$f":"IF(LEN('Détail des projets'!B474)=0,\"\",'Détail des projets'!B474)","v":"Réfrigération au CO2 avec récupération de chaleur (Brossard)"},{"$f":"IF(LEN('Détail des projets'!C474)=0,\"\",'Détail des projets'!C474)","v":"Mayrand limitée"},{"$f":"IF(LEN('Détail des projets'!G474)=0,\"\",'Détail des projets'!G474)","v":"16-Montérégie"},{"$f":"IF(LEN('Détail des projets'!K474)=0,\"\",'Détail des projets'!K474)","v":0},133.80183133200001,"À la fin du projet (suite au dernier versement)",0,"QC-Québec","Oui",15,133.80183133200001,null,"Non","Oui",0,null,0,null,0,null,0,null,0,null,0,null,10.601784449803301,null,133.07067378373799,null,133.07067378373799]
[null,{"$f":"IF(LEN('Détail des projets'!B475)=0,\"\",'Détail des projets'!B475)","v":"Conversion du chauffage du mazout #2 à l'électricité"},{"$f":"IF(LEN('Détail des projets'!C475)=0,\"\",'Détail des projets'!C475)","v":"Trans-Sol Aviation Service inc. (TSAS)"},{"$f":"IF(LEN('Détail des projets'!G475)=0,\"\",'Détail des projets'!G475)","v":"09-Côte-Nord"},{"$f":"IF(LEN('Détail des projets'!K475)=0,\"\",'Détail des projets'!K475)","v":21900},52.692921912000003,"À la fin du projet (suite au dernier versement)",16.624623729596298,"QC-Québec","Oui",25,0,52.692921912000003,"Non","Oui",0,null,0,null,0,null,0,null,0,null,0,null,0,null,24.906763636000001,null,52.404982447999998]
[null,{"$f":"IF(LEN('Détail des projets'!B476)=0,\"\",'Détail des projets'!B476)","v":"Étude de faisabilité du centre sportif (Gymnase et Arena Memorial)"},{"$f":"IF(LEN('Détail des projets'!C476)=0,\"\",'Détail des projets'!C476)","v":"Bishop's College School"},{"$f":"IF(LEN('Détail des projets'!G476)=0,\"\",'Détail des projets'!G476)","v":"05-Estrie"},{"$f":"IF(LEN('Détail des projets'!K476)=0,\"\",'Détail des projets'!K476)","v":17325},0,"À la fin du projet (suite au dernier versement)",0,"QC-Québec","Oui",null,0,null,"Non","Oui"]
[null,{"$f":"IF(LEN('Détail des projets'!B477)=0,\"\",'Détail des projets'!B477)","v":"Remplacement des chaudières et des contrôles"},{"$f":"IF(LEN('Détail des projets'!C477)=0,\"\",'Détail des projets'!C477)","v":"Centre de services scolaire du Chemin-du-Roy"},{"$f":"IF(LEN('Détail des projets'!G477)=0,\"\",'Détail des projets'!G477)","v":"04-Mauricie"},{"$f":"IF(LEN('Détail des projets'!K477)=0,\"\",'Détail des projets'!K477)","v":7308},0,"À la fin du projet (suite au dernier versement)",0,"QC-Québec","Oui",null,0,null,"Non","Oui"]
[null,{"$f":"IF(LEN('Détail des projets'!B478)=0,\"\",'Détail des projets'!B478)","v":"Étude d'efficacité énergétique, chauffage de bâtiments"},{"$f":"IF(LEN('Détail des projets'!C478)=0,\"\",'Détail des projets'!C478)","v":"Ville de Kingsey Falls"},{"$f":"IF(LEN('Détail des projets'!G478)=0,\"\",'Détail des projets'!G478)","v":"17-Centre-du-Québec"},{"$f":"IF(LEN('Détail des projets'!K478)=0,\"\",'Détail des projets'!K478)","v":4173.75},0,"À la fin du projet (suite au dernier versement)",0,"QC-Québec","Oui",null,0,null,"Non","Oui"]
[null,{"$f":"IF(LEN('Détail des projets'!B479)=0,\"\",'Détail des projets'!B479)","v":"Mise à niveau des systèmes Électro-mécanique"},{"$f":"IF(LEN('Détail des projets'!C479)=0,\"\",'Détail des projets'!C479)","v":"Syndicat des copropriétaires du 6150 du Boisé"},{"$f":"IF(LEN('Détail des projets'!G479)=0,\"\",'Détail des projets'!G479)","v":"06-Montréal"},{"$f":"IF(LEN('Détail des projets'!K479)=0,\"\",'Détail des projets'!K479)","v":12573.4},0,"À la fin du projet (suite au dernier versement)",0,"QC-Québec","Oui",null,0,null,"Non","Oui"]
[null,{"$f":"IF(LEN('Détail des projets'!B480)=0,\"\",'Détail des projets'!B480)","v":"Analyse technique d’approvisionnement énergétique renouvelable"},{"$f":"IF(LEN('Détail des projets'!C480)=0,\"\",'Détail des projets'!C480)","v":"Héli-Ski Chic-Chocs"},{"$f":"IF(LEN('Détail des projets'!G480)=0,\"\",'Détail des projets'!G480)","v":"01-Bas-Saint-Laurent"},{"$f":"IF(LEN('Détail des projets'!K480)=0,\"\",'Détail des projets'!K480)","v":1945},0,"À la fin du projet (suite au dernier versement)",0,"QC-Québec","Oui",40,0,null,"Non","Oui"]
[null,{"$f":"IF(LEN('Détail des projets'!B481)=0,\"\",'Détail des projets'!B481)","v":"Chaudières efficaces au Carré de Gaspé"},{"$f":"IF(LEN('Détail des projets'!C481)=0,\"\",'Détail des projets'!C481)","v":"Le Carré de Gaspé, S.E.N.C."},{"$f":"IF(LEN('Détail des projets'!G481)=0,\"\",'Détail des projets'!G481)","v":"06-Montréal"},{"$f":"IF(LEN('Détail des projets'!K481)=0,\"\",'Détail des projets'!K481)","v":35625},43.862988304775399,"À la fin du projet (suite au dernier versement)",16.676877642484772,"QC-Québec","Oui",25,85.447649766870995,null,"Non","Oui",0,null,0,null,0,null,0,null,0,null,0,null,0,null,29.8833310660095,null,84.9807227189646]
[null,{"$f":"IF(LEN('Détail des projets'!B482)=0,\"\",'Détail des projets'!B482)","v":"Analyse énergétique"},{"$f":"IF(LEN('Détail des projets'!C482)=0,\"\",'Détail des projets'!C482)","v":"Municipalité de la Paroisse de Saint-Martin"},{"$f":"IF(LEN('Détail des projets'!G482)=0,\"\",'Détail des projets'!G482)","v":"12-Chaudière-Appalaches"},{"$f":"IF(LEN('Détail des projets'!K482)=0,\"\",'Détail des projets'!K482)","v":5880},0,"À la fin du projet (suite au dernier versement)",0,"QC-Québec","Oui",10,0,null,"Non","Oui"]
[null,{"$f":"IF(LEN('Détail des projets'!B483)=0,\"\",'Détail des projets'!B483)","v":"Remplacement de la chaudière de l’Édifice médical Ellendale, 5845 chemin de la Côte-des-Neiges"},{"$f":"IF(LEN('Détail des projets'!C483)=0,\"\",'Détail des projets'!C483)","v":"Édifice médical Ellendale 2016 inc."},{"$f":"IF(LEN('Détail des projets'!G483)=0,\"\",'Détail des projets'!G483)","v":"06-Montréal"},{"$f":"IF(LEN('Détail des projets'!K483)=0,\"\",'Détail des projets'!K483)","v":56803.240000000005},43.278653239999997,"À la fin du projet (suite au dernier versement)",24.696436285953968,"QC-Québec","Oui",25,92.002326719999999,null,"Non","Oui",0,null,0,null,0,null,0,null,0,null,0,null,0,null,39.7168514255738,null,91.499581765245907]
[null,{"$f":"IF(LEN('Détail des projets'!B484)=0,\"\",'Détail des projets'!B484)","v":"Étude énergétique du 3165 Édouard-Montpetit"},{"$f":"IF(LEN('Détail des projets'!C484)=0,\"\",'Détail des projets'!C484)","v":"Raoul Blouin limitée"},{"$f":"IF(LEN('Détail des projets'!G484)=0,\"\",'Détail des projets'!G484)","v":"06-Montréal"},{"$f":"IF(LEN('Détail des projets'!K484)=0,\"\",'Détail des projets'!K484)","v":8662.5},0,"À la fin du projet (suite au dernier versement)",0,"QC-Québec","Oui",null,0,null,"Non","Oui"]
[null,{"$f":"IF(LEN('Détail des projets'!B485)=0,\"\",'Détail des projets'!B485)","v":"Analyse technique d'efficacité et d’approvisionnement énergétique renouvelable"},{"$f":"IF(LEN('Détail des projets'!C485)=0,\"\",'Détail des projets'!C485)","v":"La Fabrique de la Paroisse de Saint-Louis"},{"$f":"IF(LEN('Détail des projets'!G485)=0,\"\",'Détail des projets'!G485)","v":"02-Saguenay--Lac-Saint-Jean"},{"$f":"IF(LEN('Détail des projets'!K485)=0,\"\",'Détail des projets'!K485)","v":6722.75},0,"À la fin du projet (suite au dernier versement)",0,"QC-Québec","Oui",0,0,null,"Non","Oui"]
[null,{"$f":"IF(LEN('Détail des projets'!B486)=0,\"\",'Détail des projets'!B486)","v":"Plan directeur en efficacité énergétique"},{"$f":"IF(LEN('Détail des projets'!C486)=0,\"\",'Détail des projets'!C486)","v":"Société des alcools du Québec"},{"$f":"IF(LEN('Détail des projets'!G486)=0,\"\",'Détail des projets'!G486)","v":"03-Capitale-Nationale"},{"$f":"IF(LEN('Détail des projets'!K486)=0,\"\",'Détail des projets'!K486)","v":10342.5},0,"À la fin du projet (suite au dernier versement)",0,"QC-Québec","Oui",20,0,null,"Non","Oui"]
[null,{"$f":"IF(LEN('Détail des projets'!B487)=0,\"\",'Détail des projets'!B487)","v":"Conversion chauffage-CII- électrique"},{"$f":"IF(LEN('Détail des projets'!C487)=0,\"\",'Détail des projets'!C487)","v":"Municipalité de Sainte-Marie-de-Blandford"},{"$f":"IF(LEN('Détail des projets'!G487)=0,\"\",'Détail des projets'!G487)","v":"17-Centre-du-Québec"},{"$f":"IF(LEN('Détail des projets'!K487)=0,\"\",'Détail des projets'!K487)","v":7397},10.0495372028,"À la fin du projet (suite au dernier versement)",36.802689769331117,"QC-Québec","Oui",20,10.0495372028,null,"Non","Oui",0,null,0,null,0,null,0,null,0,null,0,null,0,null,0,null,9.6102131720765005]
[null,{"$f":"IF(LEN('Détail des projets'!B488)=0,\"\",'Détail des projets'!B488)","v":"Conversion chauffage-CII- électrique"},{"$f":"IF(LEN('Détail des projets'!C488)=0,\"\",'Détail des projets'!C488)","v":"S. Roy gestion immobilière inc."},{"$f":"IF(LEN('Détail des projets'!G488)=0,\"\",'Détail des projets'!G488)","v":"12-Chaudière-Appalaches"},{"$f":"IF(LEN('Détail des projets'!K488)=0,\"\",'Détail des projets'!K488)","v":9809.6},13.327287972800001,"À la fin du projet (suite au dernier versement)",1.9916636133861416,"QC-Québec","Oui",20,246.26648632000001,null,"Non","Oui",0,null,0,null,0,null,0,null,0,null,0,null,0,null,0,null,244.247908563279]
[null,{"$f":"IF(LEN('Détail des projets'!B489)=0,\"\",'Détail des projets'!B489)","v":"Efficacité énergétique au Centre Étienne-Desmarteau"},{"$f":"IF(LEN('Détail des projets'!C489)=0,\"\",'Détail des projets'!C489)","v":"Ville de Montréal"},{"$f":"IF(LEN('Détail des projets'!G489)=0,\"\",'Détail des projets'!G489)","v":"06-Montréal"},{"$f":"IF(LEN('Détail des projets'!K489)=0,\"\",'Détail des projets'!K489)","v":243775.92},404.11384564000002,"À la fin du projet (suite au dernier versement)",26.854646501000385,"QC-Québec","Oui",22.4629936218262,404.11384564000002,null,"Non","Oui",0,null,0,null,0,null,0,null,0,null,0,null,0,null,0,null,0]
[null,{"$f":"IF(LEN('Détail des projets'!B490)=0,\"\",'Détail des projets'!B490)","v":"Projet de récupération de chaleur aux Pavillons D1 et D2"},{"$f":"IF(LEN('Détail des projets'!C490)=0,\"\",'Détail des projets'!C490)","v":"Université de Sherbrooke"},{"$f":"IF(LEN('Détail des projets'!G490)=0,\"\",'Détail des projets'!G490)","v":"05-Estrie"},{"$f":"IF(LEN('Détail des projets'!K490)=0,\"\",'Détail des projets'!K490)","v":469101.12899999996},893.52595320160003,"À la fin du projet (suite au dernier versement)",26.250000199723353,"QC-Québec","Oui",20,893.52595320160003,null,"Non","Oui",0,null,0,null,0,null,0,null,0,null,0,null,0,null,0,null,0]
[null,{"$f":"IF(LEN('Détail des projets'!B491)=0,\"\",'Détail des projets'!B491)","v":"Raccordement au réseau électrique pour le Relais routier du km 381"},{"$f":"IF(LEN('Détail des projets'!C491)=0,\"\",'Détail des projets'!C491)","v":"Société de développement de la Baie-James"},{"$f":"IF(LEN('Détail des projets'!G491)=0,\"\",'Détail des projets'!G491)","v":"10-Nord-du-Québec"},{"$f":"IF(LEN('Détail des projets'!K491)=0,\"\",'Détail des projets'!K491)","v":1327927.3245000001},1472.0357374570001,"À la fin du projet (suite au dernier versement)",36.084105588198476,"QC-Québec","Oui",25,0,1472.0357374570001,"Non","Oui",0,null,0,null,0,null,0,null,0,null,0,null,0,null,0,null,0]
[null,{"$f":"IF(LEN('Détail des projets'!B492)=0,\"\",'Détail des projets'!B492)","v":"Conversion du système de chauffage à l'huile à l'électricité"},{"$f":"IF(LEN('Détail des projets'!C492)=0,\"\",'Détail des projets'!C492)","v":"La Fabrique de la paroisse de Saint-Benoît-de-Bellechasse"},{"$f":"IF(LEN('Détail des projets'!G492)=0,\"\",'Détail des projets'!G492)","v":"12-Chaudière-Appalaches"},{"$f":"IF(LEN('Détail des projets'!K492)=0,\"\",'Détail des projets'!K492)","v":47100},67.960400000000007,"À la fin du projet (suite au dernier versement)",27.722026356525266,"QC-Québec","Oui",25,0,67.960400000000007,"Non","Oui",0,null,0,null,0,null,0,null,0,null,0,null,0,null,0,null,0]
[null,{"$f":"IF(LEN('Détail des projets'!B493)=0,\"\",'Détail des projets'!B493)","v":"Projet amélioration énergétique La Concorde"},{"$f":"IF(LEN('Détail des projets'!C493)=0,\"\",'Détail des projets'!C493)","v":"Centre de services scolaire de l'Or-et-des-Bois"},{"$f":"IF(LEN('Détail des projets'!G493)=0,\"\",'Détail des projets'!G493)","v":"08-Abitibi-Témiscamingue"},{"$f":"IF(LEN('Détail des projets'!K493)=0,\"\",'Détail des projets'!K493)","v":271286.27399999998},208.82657673599999,"À la fin du projet (suite au dernier versement)",65.909613545303017,"QC-Québec","Oui",19.710302352905298,129.08289193600001,79.743684799999997,"Non","Oui",0,null,0,null,0,null,0,null,0,null,0,null,0,null,0,null,0]
[null,{"$f":"IF(LEN('Détail des projets'!B494)=0,\"\",'Détail des projets'!B494)","v":"Projet d'efficacité énergétique – Collège Jean-de-Brébeuf"},{"$f":"IF(LEN('Détail des projets'!C494)=0,\"\",'Détail des projets'!C494)","v":"La Corporation du Collège Jean-de-Brébeuf"},{"$f":"IF(LEN('Détail des projets'!G494)=0,\"\",'Détail des projets'!G494)","v":"06-Montréal"},{"$f":"IF(LEN('Détail des projets'!K494)=0,\"\",'Détail des projets'!K494)","v":420595.00349999999},488.69838272999999,"À la fin du projet (suite au dernier versement)",43.032166502213876,"QC-Québec","Oui",20,488.69838272999999,null,"Non","Oui",0,null,0,null,0,null,0,null,0,null,0,null,0,null,0,null,0]
[null,{"$f":"IF(LEN('Détail des projets'!B495)=0,\"\",'Détail des projets'!B495)","v":"Projet d'efficacité énergétique au Centre d'hébergement des Deux-Rives"},{"$f":"IF(LEN('Détail des projets'!C495)=0,\"\",'Détail des projets'!C495)","v":"Centre intégré de santé et de services sociaux de Lanaudière"},{"$f":"IF(LEN('Détail des projets'!G495)=0,\"\",'Détail des projets'!G495)","v":"14-Lanaudière"},{"$f":"IF(LEN('Détail des projets'!K495)=0,\"\",'Détail des projets'!K495)","v":279384.81},223.50784984000001,"À la fin du projet (suite au dernier versement)",62.499999485476678,"QC-Québec","Oui",20,64.143846359999998,159.36400348000001,"Non","Oui",0,null,0,null,0,null,0,null,0,null,0,null,0,null,0,null,0]
[null,{"$f":"IF(LEN('Détail des projets'!B496)=0,\"\",'Détail des projets'!B496)","v":"Mise aux normes de l'aréna Marcelin Wilson"},{"$f":"IF(LEN('Détail des projets'!C496)=0,\"\",'Détail des projets'!C496)","v":"Ville de Montréal"},{"$f":"IF(LEN('Détail des projets'!G496)=0,\"\",'Détail des projets'!G496)","v":"06-Montréal"},{"$f":"IF(LEN('Détail des projets'!K496)=0,\"\",'Détail des projets'!K496)","v":109434.61},170.72140682,"À la fin du projet (suite au dernier versement)",29.243420233143429,"QC-Québec","Oui",21.919898986816399,170.72140682,null,"Non","Oui",0,null,0,null,0,null,0,null,0,null,0,null,0,null,0,null,0]
[null,{"$f":"IF(LEN('Détail des projets'!B497)=0,\"\",'Détail des projets'!B497)","v":"Récupération d’énergie des gaz de combustion de la Centrale thermique de l’Est"},{"$f":"IF(LEN('Détail des projets'!C497)=0,\"\",'Détail des projets'!C497)","v":"Université Laval"},{"$f":"IF(LEN('Détail des projets'!G497)=0,\"\",'Détail des projets'!G497)","v":"03-Capitale-Nationale"},{"$f":"IF(LEN('Détail des projets'!K497)=0,\"\",'Détail des projets'!K497)","v":281230.23600000003},669.59579052000004,"À la fin du projet (suite au dernier versement)",16.800000237850959,"QC-Québec","Oui",25,669.59579052000004,null,"Non","Oui",0,null,0,null,0,null,0,null,0,null,0,null,0,null,0,null,0]
[null,{"$f":"IF(LEN('Détail des projets'!B498)=0,\"\",'Détail des projets'!B498)","v":"Conversion VAV des systèmes S-X"},{"$f":"IF(LEN('Détail des projets'!C498)=0,\"\",'Détail des projets'!C498)","v":"Le Carrefour Laval (2013) Inc."},{"$f":"IF(LEN('Détail des projets'!G498)=0,\"\",'Détail des projets'!G498)","v":"13-Laval"},{"$f":"IF(LEN('Détail des projets'!K498)=0,\"\",'Détail des projets'!K498)","v":149933.2905},114.234889783188,"À la fin du projet (suite au dernier versement)",65.624998975604456,"QC-Québec","Oui",20,114.234889783188,null,"Non","Oui",0,null,0,null,0,null,0,null,0,null,0,null,0,null,0,null,0]
[null,{"$f":"IF(LEN('Détail des projets'!B499)=0,\"\",'Détail des projets'!B499)","v":"Projet d’efficacité au nouveau bâtiment de services à Audi Ste-Foy"},{"$f":"IF(LEN('Détail des projets'!C499)=0,\"\",'Détail des projets'!C499)","v":"Gestion immobilière Bégin inc."},{"$f":"IF(LEN('Détail des projets'!G499)=0,\"\",'Détail des projets'!G499)","v":"03-Capitale-Nationale"},{"$f":"IF(LEN('Détail des projets'!K499)=0,\"\",'Détail des projets'!K499)","v":193838.92499999999},147.68680276000001,"À la fin du projet (suite au dernier versement)",65.624998773587095,"QC-Québec","Oui",20,65.406369080000005,82.280433680000002,"Non","Oui",0,null,0,null,0,null,0,null,0,null,0,null,0,null,0,null,0]
[null,{"$f":"IF(LEN('Détail des projets'!B500)=0,\"\",'Détail des projets'!B500)","v":"Conversion d’un système de chauffage au gaz naturel vers la géothermie"},{"$f":"IF(LEN('Détail des projets'!C500)=0,\"\",'Détail des projets'!C500)","v":"VeraLeaf Inc."},{"$f":"IF(LEN('Détail des projets'!G500)=0,\"\",'Détail des projets'!G500)","v":"14-Lanaudière"},{"$f":"IF(LEN('Détail des projets'!K500)=0,\"\",'Détail des projets'!K500)","v":40023.858},30.494367879999999,"À la fin du projet (suite au dernier versement)",52.50000020659553,"QC-Québec","Oui",25,30.494367879999999,null,"Non","Oui",0,null,0,null,0,null,0,null,0,null,0,null,0,null,0,null,0]
[null,{"$f":"IF(LEN('Détail des projets'!B501)=0,\"\",'Détail des projets'!B501)","v":"Projet d'efficacité énergétique à l'aréna Westwood"},{"$f":"IF(LEN('Détail des projets'!C501)=0,\"\",'Détail des projets'!C501)","v":"Ville de Dorval"},{"$f":"IF(LEN('Détail des projets'!G501)=0,\"\",'Détail des projets'!G501)","v":"06-Montréal"},{"$f":"IF(LEN('Détail des projets'!K501)=0,\"\",'Détail des projets'!K501)","v":114019.13976200001},91.214722640000005,"À la fin du projet (suite au dernier versement)",37.652449787408806,"QC-Québec","Oui",33.198585510253899,91.214722640000005,null,"Non","Oui",0,null,0,null,0,null,0,null,0,null,0,null,0,null,0,null,0]
[null,{"$f":"IF(LEN('Détail des projets'!B502)=0,\"\",'Détail des projets'!B502)","v":"Réfrigération au CO2 avec mesures d'efficacité énergétique."},{"$f":"IF(LEN('Détail des projets'!C502)=0,\"\",'Détail des projets'!C502)","v":"Ville de Dorval"},{"$f":"IF(LEN('Détail des projets'!G502)=0,\"\",'Détail des projets'!G502)","v":"06-Montréal"},{"$f":"IF(LEN('Détail des projets'!K502)=0,\"\",'Détail des projets'!K502)","v":102903.883579},82.323084399999999,"À la fin du projet (suite au dernier versement)",30.934738972903077,"QC-Québec","Oui",40.407657623291001,82.323084399999999,null,"Non","Oui",0,null,0,null,0,null,0,null,0,null,0,null,0,null,0,null,0]
[null,{"$f":"IF(LEN('Détail des projets'!B503)=0,\"\",'Détail des projets'!B503)","v":"Projet d’amélioration énergétique - École Saint-Sauveur"},{"$f":"IF(LEN('Détail des projets'!C503)=0,\"\",'Détail des projets'!C503)","v":"Centre de services scolaire de l'Or-et-des-Bois"},{"$f":"IF(LEN('Détail des projets'!G503)=0,\"\",'Détail des projets'!G503)","v":"08-Abitibi-Témiscamingue"},{"$f":"IF(LEN('Détail des projets'!K503)=0,\"\",'Détail des projets'!K503)","v":17856.552000000003},13.60499332,"À la fin du projet (suite au dernier versement)",54.687494694043707,"QC-Québec","Oui",24,13.60499332,null,"Non","Oui",0,null,0,null,0,null,0,null,0,null,0,null,0,null,0,null,0]
[null,{"$f":"IF(LEN('Détail des projets'!B504)=0,\"\",'Détail des projets'!B504)","v":"Projet d’amélioration énergétique - École Sainte-Marie"},{"$f":"IF(LEN('Détail des projets'!C504)=0,\"\",'Détail des projets'!C504)","v":"Centre de services scolaire de l'Or-et-des-Bois"},{"$f":"IF(LEN('Détail des projets'!G504)=0,\"\",'Détail des projets'!G504)","v":"08-Abitibi-Témiscamingue"},{"$f":"IF(LEN('Détail des projets'!K504)=0,\"\",'Détail des projets'!K504)","v":22467.072999999997},17.516697359999998,"À la fin du projet (suite au dernier versement)",52.228445530634225,"QC-Québec","Oui",24.557670593261701,17.516697359999998,null,"Non","Oui",0,null,0,null,0,null,0,null,0,null,0,null,0,null,0,null,0]
[null,{"$f":"IF(LEN('Détail des projets'!B505)=0,\"\",'Détail des projets'!B505)","v":"Projet d'efficacité énergétique – King-Wellington"},{"$f":"IF(LEN('Détail des projets'!C505)=0,\"\",'Détail des projets'!C505)","v":"Les Investissements 650 Wellington Ltée"},{"$f":"IF(LEN('Détail des projets'!G505)=0,\"\",'Détail des projets'!G505)","v":"06-Montréal"},{"$f":"IF(LEN('Détail des projets'!K505)=0,\"\",'Détail des projets'!K505)","v":213055.67},265.02941320000002,"À la fin du projet (suite au dernier versement)",38.804360625387503,"QC-Québec","Oui",20.716600418090799,265.02941320000002,null,"Non","Oui",0,null,0,null,0,null,0,null,0,null,0,null,0,null,0,null,0]
[null,{"$f":"IF(LEN('Détail des projets'!B506)=0,\"\",'Détail des projets'!B506)","v":"Projet d’amélioration énergétique - École Notre-Dame-de-Fatima"},{"$f":"IF(LEN('Détail des projets'!C506)=0,\"\",'Détail des projets'!C506)","v":"Centre de services scolaire de l'Or-et-des-Bois"},{"$f":"IF(LEN('Détail des projets'!G506)=0,\"\",'Détail des projets'!G506)","v":"08-Abitibi-Témiscamingue"},{"$f":"IF(LEN('Détail des projets'!K506)=0,\"\",'Détail des projets'!K506)","v":31383.617999999999},23.91133052,"À la fin du projet (suite au dernier versement)",59.318494066074592,"QC-Québec","Oui",22.126317977905298,23.91133052,null,"Non","Oui",0,null,0,null,0,null,0,null,0,null,0,null,0,null,0,null,0]
[null,{"$f":"IF(LEN('Détail des projets'!B507)=0,\"\",'Détail des projets'!B507)","v":"Projet d'efficacité énergétique - Holand Rolls Royce"},{"$f":"IF(LEN('Détail des projets'!C507)=0,\"\",'Détail des projets'!C507)","v":"Location Holand (1995) ltée"},{"$f":"IF(LEN('Détail des projets'!G507)=0,\"\",'Détail des projets'!G507)","v":"06-Montréal"},{"$f":"IF(LEN('Détail des projets'!K507)=0,\"\",'Détail des projets'!K507)","v":88590.3},99.988598039999999,"À la fin du projet (suite au dernier versement)",43.67935355958199,"QC-Québec","Oui",20.284275054931602,0,99.988598039999999,"Non","Oui",0,null,0,null,0,null,0,null,0,null,0,null,0,null,0,null,0]
[null,{"$f":"IF(LEN('Détail des projets'!B508)=0,\"\",'Détail des projets'!B508)","v":"Récupération de chaleur de la boucle thermique"},{"$f":"IF(LEN('Détail des projets'!C508)=0,\"\",'Détail des projets'!C508)","v":"1751 Richardson inc."},{"$f":"IF(LEN('Détail des projets'!G508)=0,\"\",'Détail des projets'!G508)","v":"06-Montréal"},{"$f":"IF(LEN('Détail des projets'!K508)=0,\"\",'Détail des projets'!K508)","v":228302.6655},173.9448846375,"À la fin du projet (suite au dernier versement)",32.812500634293052,"QC-Québec","Oui",40,0,173.9448846375,"Non","Oui",0,null,0,null,0,null,0,null,0,null,0,null,0,null,0,null,0]
[null,{"$f":"IF(LEN('Détail des projets'!B509)=0,\"\",'Détail des projets'!B509)","v":"Projet d'efficacité énergétique au Jardin des Seigneurs (3056)"},{"$f":"IF(LEN('Détail des projets'!C509)=0,\"\",'Détail des projets'!C509)","v":"CAPREIT Apartments Inc."},{"$f":"IF(LEN('Détail des projets'!G509)=0,\"\",'Détail des projets'!G509)","v":"03-Capitale-Nationale"},{"$f":"IF(LEN('Détail des projets'!K509)=0,\"\",'Détail des projets'!K509)","v":66471.709499999997},50.645111919999998,"À la fin du projet (suite au dernier versement)",52.500000082930015,"QC-Québec","Oui",25,50.645111919999998,null,"Non","Oui",0,null,0,null,0,null,0,null,0,null,0,null,0,null,0,null,0]
[null,{"$f":"IF(LEN('Détail des projets'!B510)=0,\"\",'Détail des projets'!B510)","v":"Optimisation et conversion partielle du réseau de vapeur"},{"$f":"IF(LEN('Détail des projets'!C510)=0,\"\",'Détail des projets'!C510)","v":"Buanderie progrès hygiénique inc."},{"$f":"IF(LEN('Détail des projets'!G510)=0,\"\",'Détail des projets'!G510)","v":"06-Montréal"},{"$f":"IF(LEN('Détail des projets'!K510)=0,\"\",'Détail des projets'!K510)","v":146409.75},119.91702972,"À la fin du projet (suite au dernier versement)",61.046271051684279,"QC-Québec","Oui",20,119.91702972,null,"Non","Oui",0,null,0,null,0,null,0,null,0,null,0,null,0,null,0,null,0]
[null,{"$f":"IF(LEN('Détail des projets'!B511)=0,\"\",'Détail des projets'!B511)","v":"Projet d'efficacité énergétique - Studio de Création"},{"$f":"IF(LEN('Détail des projets'!C511)=0,\"\",'Détail des projets'!C511)","v":"Université de Sherbrooke"},{"$f":"IF(LEN('Détail des projets'!G511)=0,\"\",'Détail des projets'!G511)","v":"05-Estrie"},{"$f":"IF(LEN('Détail des projets'!K511)=0,\"\",'Détail des projets'!K511)","v":93756.263999999996},294.01330832000002,"À la fin du projet (suite au dernier versement)",15.944221119738732,"QC-Québec","Oui",20,294.01330832000002,null,"Non","Oui",0,null,0,null,0,null,0,null,0,null,0,null,0,null,0,null,0]
[null,{"$f":"IF(LEN('Détail des projets'!B512)=0,\"\",'Détail des projets'!B512)","v":"Installation de la géothermie et de la récupération de chaleur"},{"$f":"IF(LEN('Détail des projets'!C512)=0,\"\",'Détail des projets'!C512)","v":"Centre de services scolaire de la Seigneurie-des-Mille-Îles"},{"$f":"IF(LEN('Détail des projets'!G512)=0,\"\",'Détail des projets'!G512)","v":"15-Laurentides"},{"$f":"IF(LEN('Détail des projets'!K512)=0,\"\",'Détail des projets'!K512)","v":30964.415999999997},66.5248694,"À la fin du projet (suite au dernier versement)",18.618249854091406,"QC-Québec","Oui",25,66.5248694,null,"Non","Oui",0,null,0,null,0,null,0,null,0,null,0,null,0,null,0,null,0]
[null,{"$f":"IF(LEN('Détail des projets'!B513)=0,\"\",'Détail des projets'!B513)","v":"Campus de la santé - Pavillons Z4 et Z5"},{"$f":"IF(LEN('Détail des projets'!C513)=0,\"\",'Détail des projets'!C513)","v":"Université de Sherbrooke"},{"$f":"IF(LEN('Détail des projets'!G513)=0,\"\",'Détail des projets'!G513)","v":"05-Estrie"},{"$f":"IF(LEN('Détail des projets'!K513)=0,\"\",'Détail des projets'!K513)","v":280138.36200000002},374.63638392000001,"À la fin du projet (suite au dernier versement)",37.388034641587417,"QC-Québec","Oui",20,70.934897280000001,303.70148663999998,"Non","Oui",0,null,0,null,0,null,0,null,0,null,0,null,0,null,0,null,0]
[null,{"$f":"IF(LEN('Détail des projets'!B514)=0,\"\",'Détail des projets'!B514)","v":"Projet d'efficacité énergétique - CHSLD Blainville II (C3472)"},{"$f":"IF(LEN('Détail des projets'!C514)=0,\"\",'Détail des projets'!C514)","v":"Ekow / Médifice Immobilier, Société en commandite"},{"$f":"IF(LEN('Détail des projets'!G514)=0,\"\",'Détail des projets'!G514)","v":"15-Laurentides"},{"$f":"IF(LEN('Détail des projets'!K514)=0,\"\",'Détail des projets'!K514)","v":425829.57900000003},324.44158768,"À la fin du projet (suite au dernier versement)",52.499999404515307,"QC-Québec","Oui",25,324.44158768,null,"Non","Oui",0,null,0,null,0,null,0,null,0,null,0,null,0,null,0,null,0]
[null,{"$f":"IF(LEN('Détail des projets'!B515)=0,\"\",'Détail des projets'!B515)","v":"Projet d'efficacité énergétique - CHSLD Ste-Adèle (C3472)"},{"$f":"IF(LEN('Détail des projets'!C515)=0,\"\",'Détail des projets'!C515)","v":"Ekow / Médifice Immobilier, Société en commandite"},{"$f":"IF(LEN('Détail des projets'!G515)=0,\"\",'Détail des projets'!G515)","v":"15-Laurentides"},{"$f":"IF(LEN('Détail des projets'!K515)=0,\"\",'Détail des projets'!K515)","v":418700.35200000001},319.00979267999998,"À la fin du projet (suite au dernier versement)",52.49999988809121,"QC-Québec","Oui",25,319.00979267999998,null,"Non","Oui",0,null,0,null,0,null,0,null,0,null,0,null,0,null,0,null,0]
[null,{"$f":"IF(LEN('Détail des projets'!B516)=0,\"\",'Détail des projets'!B516)","v":"Seaforth, Économie d'énergie"},{"$f":"IF(LEN('Détail des projets'!C516)=0,\"\",'Détail des projets'!C516)","v":"Groupe Accueil International ltée"},{"$f":"IF(LEN('Détail des projets'!G516)=0,\"\",'Détail des projets'!G516)","v":"06-Montréal"},{"$f":"IF(LEN('Détail des projets'!K516)=0,\"\",'Détail des projets'!K516)","v":83637.476999999999},82.3178513756,"À la fin du projet (suite au dernier versement)",40.641234241345202,"QC-Québec","Oui",25,82.3178513756,null,"Non","Oui",0,null,0,null,0,null,0,null,0,null,0,null,0,null,0,null,0]
[null,{"$f":"IF(LEN('Détail des projets'!B517)=0,\"\",'Détail des projets'!B517)","v":"Chauffage électrique en hors pointe"},{"$f":"IF(LEN('Détail des projets'!C517)=0,\"\",'Détail des projets'!C517)","v":"Collège d'enseignement général et professionnel de Saint-Jérôme"},{"$f":"IF(LEN('Détail des projets'!G517)=0,\"\",'Détail des projets'!G517)","v":"15-Laurentides"},{"$f":"IF(LEN('Détail des projets'!K517)=0,\"\",'Détail des projets'!K517)","v":134328.28},205.20947659999999,"À la fin du projet (suite au dernier versement)",26.183640682800711,"QC-Québec","Oui",25,0,205.20947659999999,"Non","Oui",0,null,0,null,0,null,0,null,0,null,0,null,0,null,0,null,0]
[null,{"$f":"IF(LEN('Détail des projets'!B518)=0,\"\",'Détail des projets'!B518)","v":"Implantation du produit ecoAZUR avec Confort du Chef"},{"$f":"IF(LEN('Détail des projets'!C518)=0,\"\",'Détail des projets'!C518)","v":"Le Groupe Restos Plaisirs inc."},{"$f":"IF(LEN('Détail des projets'!G518)=0,\"\",'Détail des projets'!G518)","v":"03-Capitale-Nationale"},{"$f":"IF(LEN('Détail des projets'!K518)=0,\"\",'Détail des projets'!K518)","v":18263.174999999999},13.914801184,"À la fin du projet (suite au dernier versement)",131.24998883203588,"QC-Québec","Oui",10,13.914801184,null,"Non","Oui",0,null,0,null,0,null,0,null,0,null,0,null,0,null,0,null,0]
[null,{"$f":"IF(LEN('Détail des projets'!B519)=0,\"\",'Détail des projets'!B519)","v":"Amélioration du réseau de chauffage et hotte intelligente"},{"$f":"IF(LEN('Détail des projets'!C519)=0,\"\",'Détail des projets'!C519)","v":"Fiducie du patrimoine culturel des Augustines"},{"$f":"IF(LEN('Détail des projets'!G519)=0,\"\",'Détail des projets'!G519)","v":"03-Capitale-Nationale"},{"$f":"IF(LEN('Détail des projets'!K519)=0,\"\",'Détail des projets'!K519)","v":48859},52.540441919999999,"À la fin du projet (suite au dernier versement)",39.587203890595596,"QC-Québec","Oui",23.4907035827637,52.540441919999999,null,"Non","Oui",0,null,0,null,0,null,0,null,0,null,0,null,0,null,0,null,0]
[null,{"$f":"IF(LEN('Détail des projets'!B520)=0,\"\",'Détail des projets'!B520)","v":"Projet Saint-Vallier"},{"$f":"IF(LEN('Détail des projets'!C520)=0,\"\",'Détail des projets'!C520)","v":"Société en commandite 508 St-Vallier"},{"$f":"IF(LEN('Détail des projets'!G520)=0,\"\",'Détail des projets'!G520)","v":"03-Capitale-Nationale"},{"$f":"IF(LEN('Détail des projets'!K520)=0,\"\",'Détail des projets'!K520)","v":25143.75},52.24547604,"À la fin du projet (suite au dernier versement)",24.063088238251989,"QC-Québec","Oui",20,52.24547604,null,"Non","Oui",0,null,0,null,0,null,0,null,0,null,0,null,0,null,0,null,0]
[null,{"$f":"IF(LEN('Détail des projets'!B521)=0,\"\",'Détail des projets'!B521)","v":"Projet d'optimisation énergétique Chanel"},{"$f":"IF(LEN('Détail des projets'!C521)=0,\"\",'Détail des projets'!C521)","v":"Chanel Canada ULC"},{"$f":"IF(LEN('Détail des projets'!G521)=0,\"\",'Détail des projets'!G521)","v":"16-Montérégie"},{"$f":"IF(LEN('Détail des projets'!K521)=0,\"\",'Détail des projets'!K521)","v":176911.30000000002},163.85269779999999,"À la fin du projet (suite au dernier versement)",44.706568373211667,"QC-Québec","Oui",24.150751113891602,163.85269779999999,null,"Non","Oui",0,null,0,null,0,null,0,null,0,null,0,null,0,null,0,null,0]
[null,{"$f":"IF(LEN('Détail des projets'!B522)=0,\"\",'Détail des projets'!B522)","v":"Conversion électrique et efficacité énergétique"},{"$f":"IF(LEN('Détail des projets'!C522)=0,\"\",'Détail des projets'!C522)","v":"Société Bon Pasteur S.E.N.C."},{"$f":"IF(LEN('Détail des projets'!G522)=0,\"\",'Détail des projets'!G522)","v":"03-Capitale-Nationale"},{"$f":"IF(LEN('Détail des projets'!K522)=0,\"\",'Détail des projets'!K522)","v":545207.13468480005},423.02718027999998,"À la fin du projet (suite au dernier versement)",71.992821773136583,"QC-Québec","Oui",17.902103424072301,185.89381535999999,237.13336491999999,"Non","Oui",0,null,0,null,0,null,0,null,0,null,0,null,0,null,0,null,0]
[null,{"$f":"IF(LEN('Détail des projets'!B523)=0,\"\",'Détail des projets'!B523)","v":"Implantation d'un système de chauffage efficace"},{"$f":"IF(LEN('Détail des projets'!C523)=0,\"\",'Détail des projets'!C523)","v":"Intellinox Technologies inc."},{"$f":"IF(LEN('Détail des projets'!G523)=0,\"\",'Détail des projets'!G523)","v":"03-Capitale-Nationale"},{"$f":"IF(LEN('Détail des projets'!K523)=0,\"\",'Détail des projets'!K523)","v":18988.5},15.74880108,"À la fin du projet (suite au dernier versement)",52.323166417737468,"QC-Québec","Oui",23.043537139892599,9.5864096799999992,6.1623913999999997,"Non","Oui",0,null,0,null,0,null,0,null,0,null,0,null,0,null,0,null,0]
[null,{"$f":"IF(LEN('Détail des projets'!B524)=0,\"\",'Détail des projets'!B524)","v":"Efficacité énergétique à Samuel-Holland"},{"$f":"IF(LEN('Détail des projets'!C524)=0,\"\",'Détail des projets'!C524)","v":"Appartements CAPREIT"},{"$f":"IF(LEN('Détail des projets'!G524)=0,\"\",'Détail des projets'!G524)","v":"03-Capitale-Nationale"},{"$f":"IF(LEN('Détail des projets'!K524)=0,\"\",'Détail des projets'!K524)","v":523403.77},554.89411672000006,"À la fin du projet (suite au dernier versement)",37.72999238801517,"QC-Québec","Oui",25,554.89411672000006,null,"Non","Oui",0,null,0,null,0,null,0,null,0,null,0,null,0,null,0,null,0]
[null,{"$f":"IF(LEN('Détail des projets'!B525)=0,\"\",'Détail des projets'!B525)","v":"Conversion du chauffe-eau à l’électricité"},{"$f":"IF(LEN('Détail des projets'!C525)=0,\"\",'Détail des projets'!C525)","v":"Supermarché Boucher inc."},{"$f":"IF(LEN('Détail des projets'!G525)=0,\"\",'Détail des projets'!G525)","v":"14-Lanaudière"},{"$f":"IF(LEN('Détail des projets'!K525)=0,\"\",'Détail des projets'!K525)","v":17220},16.091365920000001,"À la fin du projet (suite au dernier versement)",107.01391097319598,"QC-Québec","Oui",10,0,16.091365920000001,"Non","Oui",0,null,0,null,0,null,0,null,0,null,0,null,0,null,0,null,0]
[null,{"$f":"IF(LEN('Détail des projets'!B526)=0,\"\",'Détail des projets'!B526)","v":"Marché Pasquier Delson - Système de réfrigération au CO2"},{"$f":"IF(LEN('Détail des projets'!C526)=0,\"\",'Détail des projets'!C526)","v":"Groupe alimentaire PMA Delson inc."},{"$f":"IF(LEN('Détail des projets'!G526)=0,\"\",'Détail des projets'!G526)","v":"16-Montérégie"},{"$f":"IF(LEN('Détail des projets'!K526)=0,\"\",'Détail des projets'!K526)","v":177372.0015361},167.91142568000001,"À la fin du projet (suite au dernier versement)",42.59710710544605,"QC-Québec","Oui",24.798460006713899,167.91142568000001,null,"Non","Oui",0,null,0,null,0,null,0,null,0,null,0,null,0,null,0,null,0]
[null,{"$f":"IF(LEN('Détail des projets'!B527)=0,\"\",'Détail des projets'!B527)","v":"Installation d'une unité de ventilation et récupération de chaleur"},{"$f":"IF(LEN('Détail des projets'!C527)=0,\"\",'Détail des projets'!C527)","v":"Carrossier CarrXpert Jacques Lévesque inc."},{"$f":"IF(LEN('Détail des projets'!G527)=0,\"\",'Détail des projets'!G527)","v":"01-Bas-Saint-Laurent"},{"$f":"IF(LEN('Détail des projets'!K527)=0,\"\",'Détail des projets'!K527)","v":57395.96},43.730258831999997,"À la fin du projet (suite au dernier versement)",65.624994606709265,"QC-Québec","Oui",20,43.730258831999997,null,"Non","Oui",0,null,0,null,0,null,0,null,0,null,0,null,0,null,0,null,0]
[null,{"$f":"IF(LEN('Détail des projets'!B528)=0,\"\",'Détail des projets'!B528)","v":"Conversion du système de chauffage au gaz"},{"$f":"IF(LEN('Détail des projets'!C528)=0,\"\",'Détail des projets'!C528)","v":"Résidences St-Georges de St-Michel-des-Saints inc."},{"$f":"IF(LEN('Détail des projets'!G528)=0,\"\",'Détail des projets'!G528)","v":"14-Lanaudière"},{"$f":"IF(LEN('Détail des projets'!K528)=0,\"\",'Détail des projets'!K528)","v":33380.25},25.432570592000001,"À la fin du projet (suite au dernier versement)",65.625002158649266,"QC-Québec","Oui",20,0,25.432570592000001,"Non","Oui",0,null,0,null,0,null,0,null,0,null,0,null,0,null,0,null,0]
[null,{"$f":"IF(LEN('Détail des projets'!B529)=0,\"\",'Détail des projets'!B529)","v":"Modernisation de l'abbaye Oka"},{"$f":"IF(LEN('Détail des projets'!C529)=0,\"\",'Détail des projets'!C529)","v":"L'abbaye d'Oka inc."},{"$f":"IF(LEN('Détail des projets'!G529)=0,\"\",'Détail des projets'!G529)","v":"15-Laurentides"},{"$f":"IF(LEN('Détail des projets'!K529)=0,\"\",'Détail des projets'!K529)","v":833771.51},744.69743443066102,"À la fin du projet (suite au dernier versement)",55.98055474955666,"QC-Québec","Oui",20,0,744.69743443066102,"Non","Oui",0,null,0,null,0,null,0,null,0,null,0,null,0,null,0,null,0]
[null,{"$f":"IF(LEN('Détail des projets'!B530)=0,\"\",'Détail des projets'!B530)","v":"Conversion vers électricité - 2500 Cavendish"},{"$f":"IF(LEN('Détail des projets'!C530)=0,\"\",'Détail des projets'!C530)","v":"Appartements CAPREIT"},{"$f":"IF(LEN('Détail des projets'!G530)=0,\"\",'Détail des projets'!G530)","v":"06-Montréal"},{"$f":"IF(LEN('Détail des projets'!K530)=0,\"\",'Détail des projets'!K530)","v":82500},89.380135760000002,"À la fin du projet (suite au dernier versement)",36.920955332413342,"QC-Québec","Oui",25,0,89.380135760000002,"Non","Oui",0,null,0,null,0,null,0,null,0,null,0,null,0,null,0,null,0]
[null,{"$f":"IF(LEN('Détail des projets'!B531)=0,\"\",'Détail des projets'!B531)","v":"Projet d'efficacité énergétique - Pavillons B1 et B2"},{"$f":"IF(LEN('Détail des projets'!C531)=0,\"\",'Détail des projets'!C531)","v":"Université de Sherbrooke"},{"$f":"IF(LEN('Détail des projets'!G531)=0,\"\",'Détail des projets'!G531)","v":"05-Estrie"},{"$f":"IF(LEN('Détail des projets'!K531)=0,\"\",'Détail des projets'!K531)","v":101362.08000000002},241.33826859999999,"À la fin du projet (suite au dernier versement)",21.00000148919607,"QC-Québec","Oui",20,241.33826859999999,null,"Non","Oui",0,null,0,null,0,null,0,null,0,null,0,null,0,null,0,null,0]
[null,{"$f":"IF(LEN('Détail des projets'!B532)=0,\"\",'Détail des projets'!B532)","v":"Projet d'efficacité énergétique - Pavillons E"},{"$f":"IF(LEN('Détail des projets'!C532)=0,\"\",'Détail des projets'!C532)","v":"Université de Sherbrooke"},{"$f":"IF(LEN('Détail des projets'!G532)=0,\"\",'Détail des projets'!G532)","v":"05-Estrie"},{"$f":"IF(LEN('Détail des projets'!K532)=0,\"\",'Détail des projets'!K532)","v":55400},124.27649172,"À la fin du projet (suite au dernier versement)",22.289010267854383,"QC-Québec","Oui",20,124.27649172,null,"Non","Oui",0,null,0,null,0,null,0,null,0,null,0,null,0,null,0,null,0]
[null,{"$f":"IF(LEN('Détail des projets'!B533)=0,\"\",'Détail des projets'!B533)","v":"Implantation d'un système d'énergie renouvelable"},{"$f":"IF(LEN('Détail des projets'!C533)=0,\"\",'Détail des projets'!C533)","v":"Pourvoirie Poulin de Courval inc."},{"$f":"IF(LEN('Détail des projets'!G533)=0,\"\",'Détail des projets'!G533)","v":"02-Saguenay--Lac-Saint-Jean"},{"$f":"IF(LEN('Détail des projets'!K533)=0,\"\",'Détail des projets'!K533)","v":244839.3045},186.54423199999999,"À la fin du projet (suite au dernier versement)",52.5,"QC-Québec","Oui",25,0,186.54423199999999,"Non","Oui",0,null,0,null,0,null,0,null,0,null,0,null,0,null,0,null,0]
[null,{"$f":"IF(LEN('Détail des projets'!B534)=0,\"\",'Détail des projets'!B534)","v":"Ajout de charge électrique pour le chauffage de l'eau"},{"$f":"IF(LEN('Détail des projets'!C534)=0,\"\",'Détail des projets'!C534)","v":"L'Éternel SPA, s.a."},{"$f":"IF(LEN('Détail des projets'!G534)=0,\"\",'Détail des projets'!G534)","v":"02-Saguenay--Lac-Saint-Jean"},{"$f":"IF(LEN('Détail des projets'!K534)=0,\"\",'Détail des projets'!K534)","v":87932.68},125.687363976,"À la fin du projet (suite au dernier versement)",27.984572901629392,"QC-Québec","Oui",25,0,125.687363976,"Non","Oui",0,null,0,null,0,null,0,null,0,null,0,null,0,null,0,null,0]
[null,{"$f":"IF(LEN('Détail des projets'!B535)=0,\"\",'Détail des projets'!B535)","v":"Bâtiment 7 - Chauffage radiant et chaudières efficaces"},{"$f":"IF(LEN('Détail des projets'!C535)=0,\"\",'Détail des projets'!C535)","v":"Air Canada"},{"$f":"IF(LEN('Détail des projets'!G535)=0,\"\",'Détail des projets'!G535)","v":"06-Montréal"},{"$f":"IF(LEN('Détail des projets'!K535)=0,\"\",'Détail des projets'!K535)","v":541367.74},1288.9707897200001,"À la fin du projet (suite au dernier versement)",15.076019804625931,"QC-Québec","Oui",27.858812332153299,1288.9707897200001,null,"Non","Oui",0,null,0,null,0,null,0,null,0,null,0,null,0,null,0,null,0]
[null,{"$f":"IF(LEN('Détail des projets'!B536)=0,\"\",'Détail des projets'!B536)","v":"Bâtiment 3 - Chauffage radiant et chaudières efficaces"},{"$f":"IF(LEN('Détail des projets'!C536)=0,\"\",'Détail des projets'!C536)","v":"Air Canada"},{"$f":"IF(LEN('Détail des projets'!G536)=0,\"\",'Détail des projets'!G536)","v":"06-Montréal"},{"$f":"IF(LEN('Détail des projets'!K536)=0,\"\",'Détail des projets'!K536)","v":572045.89},1089.6112275200001,"À la fin du projet (suite au dernier versement)",13.12499989794525,"QC-Québec","Oui",40,1089.6112275200001,null,"Non","Oui",0,null,0,null,0,null,0,null,0,null,0,null,0,null,0,null,0]
[null,{"$f":"IF(LEN('Détail des projets'!B537)=0,\"\",'Détail des projets'!B537)","v":"Réseau intelligent pour le secteur du sud-est"},{"$f":"IF(LEN('Détail des projets'!C537)=0,\"\",'Détail des projets'!C537)","v":"L'Institution royale pour l'avancement des sciences - Université McGill"},{"$f":"IF(LEN('Détail des projets'!G537)=0,\"\",'Détail des projets'!G537)","v":"06-Montréal"},{"$f":"IF(LEN('Détail des projets'!K537)=0,\"\",'Détail des projets'!K537)","v":744224.26},1417.57002124,"À la fin du projet (suite au dernier versement)",20.999999967521887,"QC-Québec","Oui",25,1417.57002124,null,"Non","Oui",0,null,0,null,0,null,0,null,0,null,0,null,0,null,0,null,0]
[null,{"$f":"IF(LEN('Détail des projets'!B538)=0,\"\",'Détail des projets'!B538)","v":"Efficacité énergétique au bâtiment de la cour de services Dickson"},{"$f":"IF(LEN('Détail des projets'!C538)=0,\"\",'Détail des projets'!C538)","v":"Ville de Montréal"},{"$f":"IF(LEN('Détail des projets'!G538)=0,\"\",'Détail des projets'!G538)","v":"06-Montréal"},{"$f":"IF(LEN('Détail des projets'!K538)=0,\"\",'Détail des projets'!K538)","v":62175},81.617569239999995,"À la fin du projet (suite au dernier versement)",30.471380404467435,"QC-Québec","Oui",25,81.617569239999995,null,"Non","Oui",0,null,0,null,0,null,0,null,0,null,0,null,0,null,0,null,0]
[null,{"$f":"IF(LEN('Détail des projets'!B539)=0,\"\",'Détail des projets'!B539)","v":"Construction d’un nouveau bâtiment au complexe Atwater"},{"$f":"IF(LEN('Détail des projets'!C539)=0,\"\",'Détail des projets'!C539)","v":"Ville de Montréal"},{"$f":"IF(LEN('Détail des projets'!G539)=0,\"\",'Détail des projets'!G539)","v":"06-Montréal"},{"$f":"IF(LEN('Détail des projets'!K539)=0,\"\",'Détail des projets'!K539)","v":201405.93000000002},210.87865214768499,"À la fin du projet (suite au dernier versement)",47.7539874114306,"QC-Québec","Oui",20,210.87865214768499,null,"Non","Oui",0,null,0,null,0,null,0,null,0,null,0,null,0,null,0,null,0]
[null,{"$f":"IF(LEN('Détail des projets'!B540)=0,\"\",'Détail des projets'!B540)","v":"Projet de rénovation majeure"},{"$f":"IF(LEN('Détail des projets'!C540)=0,\"\",'Détail des projets'!C540)","v":"Ville de Montréal"},{"$f":"IF(LEN('Détail des projets'!G540)=0,\"\",'Détail des projets'!G540)","v":"06-Montréal"},{"$f":"IF(LEN('Détail des projets'!K540)=0,\"\",'Détail des projets'!K540)","v":344957.79149999999},508.38727258799997,"À la fin du projet (suite au dernier versement)",33.926674614015738,"QC-Québec","Oui",20,508.38727258799997,null,"Non","Oui",0,null,0,null,0,null,0,null,0,null,0,null,0,null,0,null,0]
[null,{"$f":"IF(LEN('Détail des projets'!B541)=0,\"\",'Détail des projets'!B541)","v":"Efficacité énergétique au 319, rue Franquet"},{"$f":"IF(LEN('Détail des projets'!C541)=0,\"\",'Détail des projets'!C541)","v":"Édifice 319 Franquet inc."},{"$f":"IF(LEN('Détail des projets'!G541)=0,\"\",'Détail des projets'!G541)","v":"03-Capitale-Nationale"},{"$f":"IF(LEN('Détail des projets'!K541)=0,\"\",'Détail des projets'!K541)","v":1093270.227},832.96779360000005,"À la fin du projet (suite au dernier versement)",81.545859672196144,"QC-Québec","Oui",16.095237731933601,832.96779360000005,null,"Non","Oui",0,null,0,null,0,null,0,null,0,null,0,null,0,null,0,null,0]
[null,{"$f":"IF(LEN('Détail des projets'!B542)=0,\"\",'Détail des projets'!B542)","v":"Projet d'efficacité énergétique Hôpital Legardeur"},{"$f":"IF(LEN('Détail des projets'!C542)=0,\"\",'Détail des projets'!C542)","v":"Centre intégré de santé et de services sociaux de Lanaudière"},{"$f":"IF(LEN('Détail des projets'!G542)=0,\"\",'Détail des projets'!G542)","v":"14-Lanaudière"},{"$f":"IF(LEN('Détail des projets'!K542)=0,\"\",'Détail des projets'!K542)","v":1038710.9982},1978.4971393999999,"À la fin du projet (suite au dernier versement)",19.840905822891237,"QC-Québec","Oui",26.460485458373999,1978.4971393999999,null,"Non","Oui",0,null,0,null,0,null,0,null,0,null,0,null,0,null,0,null,0]
[null,{"$f":"IF(LEN('Détail des projets'!B543)=0,\"\",'Détail des projets'!B543)","v":"Construction de l'Espace Montmorency"},{"$f":"IF(LEN('Détail des projets'!C543)=0,\"\",'Détail des projets'!C543)","v":"Espace Montmorency (9316-5363 Québec inc.)"},{"$f":"IF(LEN('Détail des projets'!G543)=0,\"\",'Détail des projets'!G543)","v":"13-Laval"},{"$f":"IF(LEN('Détail des projets'!K543)=0,\"\",'Détail des projets'!K543)","v":605284.1},1457.1700260547,"À la fin du projet (suite au dernier versement)",20.930142964254735,"QC-Québec","Oui",19.846176147460898,1457.1700260547,null,"Non","Oui",0,null,0,null,0,null,0,null,0,null,0,null,0,null,0,null,0]
[null,{"$f":"IF(LEN('Détail des projets'!B544)=0,\"\",'Détail des projets'!B544)","v":"Installation de fours crématoires efficaces"},{"$f":"IF(LEN('Détail des projets'!C544)=0,\"\",'Détail des projets'!C544)","v":"Compagnie du cimetière Saint-Charles"},{"$f":"IF(LEN('Détail des projets'!G544)=0,\"\",'Détail des projets'!G544)","v":"03-Capitale-Nationale"},{"$f":"IF(LEN('Détail des projets'!K544)=0,\"\",'Détail des projets'!K544)","v":253800.62400000001},193.37190200000001,"À la fin du projet (suite au dernier versement)",32.812500339371951,"QC-Québec","Oui",40,193.37190200000001,null,"Non","Oui",0,null,0,null,0,null,0,null,0,null,0,null,0,null,0,null,0]
[null,{"$f":"IF(LEN('Détail des projets'!B545)=0,\"\",'Détail des projets'!B545)","v":"Projet d'efficacité énergétique au Centre d'hébergement de L'Assomption"},{"$f":"IF(LEN('Détail des projets'!C545)=0,\"\",'Détail des projets'!C545)","v":"Centre intégré de santé et de services sociaux de Lanaudière"},{"$f":"IF(LEN('Détail des projets'!G545)=0,\"\",'Détail des projets'!G545)","v":"14-Lanaudière"},{"$f":"IF(LEN('Détail des projets'!K545)=0,\"\",'Détail des projets'!K545)","v":445263.7035},339.24853711999998,"À la fin du projet (suite au dernier versement)",35.231684479500245,"QC-Québec","Oui",37.2533988952637,197.51065148000001,141.73788564,"Non","Oui",0,null,0,null,0,null,0,null,0,null,0,null,0,null,0,null,0]
[null,{"$f":"IF(LEN('Détail des projets'!B546)=0,\"\",'Détail des projets'!B546)","v":"Mise au norme de l'aréna St-Donat"},{"$f":"IF(LEN('Détail des projets'!C546)=0,\"\",'Détail des projets'!C546)","v":"Ville de Montréal"},{"$f":"IF(LEN('Détail des projets'!G546)=0,\"\",'Détail des projets'!G546)","v":"06-Montréal"},{"$f":"IF(LEN('Détail des projets'!K546)=0,\"\",'Détail des projets'!K546)","v":167404.88099999999},139.50415423999999,"À la fin du projet (suite au dernier versement)",47.594786995072695,"QC-Québec","Oui",25.2128295898438,139.50415423999999,null,"Non","Oui",0,null,0,null,0,null,0,null,0,null,0,null,0,null,0,null,0]
[null,{"$f":"IF(LEN('Détail des projets'!B547)=0,\"\",'Détail des projets'!B547)","v":"Projet éco énergétique, Casino de Charlevoix"},{"$f":"IF(LEN('Détail des projets'!C547)=0,\"\",'Détail des projets'!C547)","v":"Casiloc inc."},{"$f":"IF(LEN('Détail des projets'!G547)=0,\"\",'Détail des projets'!G547)","v":"03-Capitale-Nationale"},{"$f":"IF(LEN('Détail des projets'!K547)=0,\"\",'Détail des projets'!K547)","v":165120.38},789.63910283999996,"À la fin du projet (suite au dernier versement)",6.9702888913062262,"QC-Québec","Oui",30,318.40176769599998,471.23733514399999,"Non","Oui",0,null,0,null,0,null,0,null,0,null,0,null,0,null,0,null,0]
[null,{"$f":"IF(LEN('Détail des projets'!B548)=0,\"\",'Détail des projets'!B548)","v":"Rénovation et agrandissement de la caserne 18"},{"$f":"IF(LEN('Détail des projets'!C548)=0,\"\",'Détail des projets'!C548)","v":"Ville de Montréal"},{"$f":"IF(LEN('Détail des projets'!G548)=0,\"\",'Détail des projets'!G548)","v":"06-Montréal"},{"$f":"IF(LEN('Détail des projets'!K548)=0,\"\",'Détail des projets'!K548)","v":33901.402499999997},64.511628933486094,"À la fin du projet (suite au dernier versement)",23.085460452399353,"QC-Québec","Oui",22.763608932495099,35.656973122751999,28.854655810734101,"Non","Oui",0,null,0,null,0,null,0,null,0,null,0,null,0,null,0,null,0]
[null,{"$f":"IF(LEN('Détail des projets'!B549)=0,\"\",'Détail des projets'!B549)","v":"Projet d'efficacité énergétique au Parc Royal Apartments"},{"$f":"IF(LEN('Détail des projets'!C549)=0,\"\",'Détail des projets'!C549)","v":"CAPREIT Apartments Inc."},{"$f":"IF(LEN('Détail des projets'!G549)=0,\"\",'Détail des projets'!G549)","v":"06-Montréal"},{"$f":"IF(LEN('Détail des projets'!K549)=0,\"\",'Détail des projets'!K549)","v":553369.26749999996},421.61468139999999,"À la fin du projet (suite au dernier versement)",75.104679255168293,"QC-Québec","Oui",17.475608825683601,421.61468139999999,null,"Non","Oui",0,null,0,null,0,null,0,null,0,null,0,null,0,null,0,null,0]
[null,{"$f":"IF(LEN('Détail des projets'!B550)=0,\"\",'Détail des projets'!B550)","v":"Réfrigération au CO2 avec récupération de chaleur (000408)"},{"$f":"IF(LEN('Détail des projets'!C550)=0,\"\",'Détail des projets'!C550)","v":"Sobeys Capital Incorporée"},{"$f":"IF(LEN('Détail des projets'!G550)=0,\"\",'Détail des projets'!G550)","v":"12-Chaudière-Appalaches"},{"$f":"IF(LEN('Détail des projets'!K550)=0,\"\",'Détail des projets'!K550)","v":0},1.34437224,"À la fin du projet (suite au dernier versement)",0,"QC-Québec","Oui",15,1.34437224,null,"Non","Oui",0,null,0,null,0,null,0,null,0,null,0,null,0,null,0,null,0]
[null,{"$f":"IF(LEN('Détail des projets'!B551)=0,\"\",'Détail des projets'!B551)","v":"Conversion de la chaudière au mazout léger vers l'électricité"},{"$f":"IF(LEN('Détail des projets'!C551)=0,\"\",'Détail des projets'!C551)","v":"Paroisse de St-Paul-de-Montminy"},{"$f":"IF(LEN('Détail des projets'!G551)=0,\"\",'Détail des projets'!G551)","v":"12-Chaudière-Appalaches"},{"$f":"IF(LEN('Détail des projets'!K551)=0,\"\",'Détail des projets'!K551)","v":41052.290999999997},31.27793264,"À la fin du projet (suite au dernier versement)",52.500005639758932,"QC-Québec","Oui",25,0,31.27793264,"Non","Oui",0,null,0,null,0,null,0,null,0,null,0,null,0,null,0,null,0]
[null,{"$f":"IF(LEN('Détail des projets'!B552)=0,\"\",'Détail des projets'!B552)","v":"Loews Hôtel Vogue, Économie d'énergie"},{"$f":"IF(LEN('Détail des projets'!C552)=0,\"\",'Détail des projets'!C552)","v":"Loews Hotel Vogue"},{"$f":"IF(LEN('Détail des projets'!G552)=0,\"\",'Détail des projets'!G552)","v":"06-Montréal"},{"$f":"IF(LEN('Détail des projets'!K552)=0,\"\",'Détail des projets'!K552)","v":259980.09266250001},257.91913011999998,"À la fin du projet (suite au dernier versement)",53.226665097578206,"QC-Québec","Oui",18.937702178955099,257.91913011999998,null,"Non","Oui",0,null,0,null,0,null,0,null,0,null,0,null,0,null,0,null,0]
[null,{"$f":"IF(LEN('Détail des projets'!B553)=0,\"\",'Détail des projets'!B553)","v":"Mesures d'efficacité énergétique chez Humaniti"},{"$f":"IF(LEN('Détail des projets'!C553)=0,\"\",'Détail des projets'!C553)","v":"Humaniti Locatifs Résidentiels S.E.C."},{"$f":"IF(LEN('Détail des projets'!G553)=0,\"\",'Détail des projets'!G553)","v":"06-Montréal"},{"$f":"IF(LEN('Détail des projets'!K553)=0,\"\",'Détail des projets'!K553)","v":676840.69949999999},1289.2203822399999,"À la fin du projet (suite au dernier versement)",21.521964077027715,"QC-Québec","Oui",24.393684387206999,1289.2203822399999,null,"Non","Oui",0,null,0,null,0,null,0,null,0,null,0,null,0,null,0,null,0]
[null,{"$f":"IF(LEN('Détail des projets'!B554)=0,\"\",'Détail des projets'!B554)","v":"Implantation d'un mur solaire - Bâtiment de Granby"},{"$f":"IF(LEN('Détail des projets'!C554)=0,\"\",'Détail des projets'!C554)","v":"S. Setlakwe ltée"},{"$f":"IF(LEN('Détail des projets'!G554)=0,\"\",'Détail des projets'!G554)","v":"05-Estrie"},{"$f":"IF(LEN('Détail des projets'!K554)=0,\"\",'Détail des projets'!K554)","v":15538.005000000001},11.838479120000001,"À la fin du projet (suite au dernier versement)",52.50000390252832,"QC-Québec","Oui",25,11.838479120000001,null,"Non","Oui",0,null,0,null,0,null,0,null,0,null,0,null,0,null,0,null,0]
[null,{"$f":"IF(LEN('Détail des projets'!B555)=0,\"\",'Détail des projets'!B555)","v":"Implantation d'un mur solaire - Bâtiment de Saint-Germain"},{"$f":"IF(LEN('Détail des projets'!C555)=0,\"\",'Détail des projets'!C555)","v":"S. Setlakwe ltée"},{"$f":"IF(LEN('Détail des projets'!G555)=0,\"\",'Détail des projets'!G555)","v":"17-Centre-du-Québec"},{"$f":"IF(LEN('Détail des projets'!K555)=0,\"\",'Détail des projets'!K555)","v":26856.5},20.50478996,"À la fin du projet (suite au dernier versement)",130.97671350153152,"QC-Québec","Oui",10,0,20.50478996,"Non","Oui",0,null,0,null,0,null,0,null,0,null,0,null,0,null,0,null,0]
[null,{"$f":"IF(LEN('Détail des projets'!B556)=0,\"\",'Détail des projets'!B556)","v":"Installation de deux nouveaux fours crématoires efficaces"},{"$f":"IF(LEN('Détail des projets'!C556)=0,\"\",'Détail des projets'!C556)","v":"Le repos Saint-Francois d'Assise"},{"$f":"IF(LEN('Détail des projets'!G556)=0,\"\",'Détail des projets'!G556)","v":"06-Montréal"},{"$f":"IF(LEN('Détail des projets'!K556)=0,\"\",'Détail des projets'!K556)","v":293684.64299999998},223.75972487999999,"À la fin du projet (suite au dernier versement)",52.500000732035218,"QC-Québec","Oui",25,223.75972487999999,null,"Non","Oui",0,null,0,null,0,null,0,null,0,null,0,null,0,null,0,null,0]
[null,{"$f":"IF(LEN('Détail des projets'!B557)=0,\"\",'Détail des projets'!B557)","v":"Réfrigération CO2 avec récupération de chaleur (008608)"},{"$f":"IF(LEN('Détail des projets'!C557)=0,\"\",'Détail des projets'!C557)","v":"Sobeys Capital Incorporée"},{"$f":"IF(LEN('Détail des projets'!G557)=0,\"\",'Détail des projets'!G557)","v":"06-Montréal"},{"$f":"IF(LEN('Détail des projets'!K557)=0,\"\",'Détail des projets'!K557)","v":0},64.253694948000003,"À la fin du projet (suite au dernier versement)",0,"QC-Québec","Oui",13.6656951904297,64.253694948000003,null,"Non","Oui",0,null,0,null,0,null,0,null,0,null,0,null,0,null,0,null,0]
[null,{"$f":"IF(LEN('Détail des projets'!B558)=0,\"\",'Détail des projets'!B558)","v":"Réfrigération au CO2 avec récupération de chaleur (075022)"},{"$f":"IF(LEN('Détail des projets'!C558)=0,\"\",'Détail des projets'!C558)","v":"Sobeys Capital Incorporée"},{"$f":"IF(LEN('Détail des projets'!G558)=0,\"\",'Détail des projets'!G558)","v":"06-Montréal"},{"$f":"IF(LEN('Détail des projets'!K558)=0,\"\",'Détail des projets'!K558)","v":0},101.920878856,"À la fin du projet (suite au dernier versement)",0,"QC-Québec","Oui",15,101.920878856,null,"Non","Oui",0,null,0,null,0,null,0,null,0,null,0,null,0,null,0,null,0]
[null,{"$f":"IF(LEN('Détail des projets'!B559)=0,\"\",'Détail des projets'!B559)","v":"Réfection Aréna Pierre-Provencher"},{"$f":"IF(LEN('Détail des projets'!C559)=0,\"\",'Détail des projets'!C559)","v":"Ville de Nicolet"},{"$f":"IF(LEN('Détail des projets'!G559)=0,\"\",'Détail des projets'!G559)","v":"17-Centre-du-Québec"},{"$f":"IF(LEN('Détail des projets'!K559)=0,\"\",'Détail des projets'!K559)","v":29412.190500000001},161.3110308,"À la fin du projet (suite au dernier versement)",7.2932868518995297,"QC-Québec","Oui",25,161.3110308,null,"Non","Oui",0,null,0,null,0,null,0,null,0,null,0,null,0,null,0,null,0]
[null,{"$f":"IF(LEN('Détail des projets'!B560)=0,\"\",'Détail des projets'!B560)","v":"Remplacement des équipements de réfrigération"},{"$f":"IF(LEN('Détail des projets'!C560)=0,\"\",'Détail des projets'!C560)","v":"Ville de Drummondville"},{"$f":"IF(LEN('Détail des projets'!G560)=0,\"\",'Détail des projets'!G560)","v":"17-Centre-du-Québec"},{"$f":"IF(LEN('Détail des projets'!K560)=0,\"\",'Détail des projets'!K560)","v":176285.36},192.43893220000001,"À la fin du projet (suite au dernier versement)",36.642348403136687,"QC-Québec","Oui",25,192.43893220000001,null,"Non","Oui",0,null,0,null,0,null,0,null,0,null,0,null,0,null,0,null,0]
[null,{"$f":"IF(LEN('Détail des projets'!B561)=0,\"\",'Détail des projets'!B561)","v":"Installation de 2 nouveaux fours crématoires efficaces"},{"$f":"IF(LEN('Détail des projets'!C561)=0,\"\",'Détail des projets'!C561)","v":"Parc commémoratif de Montréal inc."},{"$f":"IF(LEN('Détail des projets'!G561)=0,\"\",'Détail des projets'!G561)","v":"06-Montréal"},{"$f":"IF(LEN('Détail des projets'!K561)=0,\"\",'Détail des projets'!K561)","v":315127.5},244.85587200000001,"À la fin du projet (suite au dernier versement)",51.479672090526783,"QC-Québec","Oui",25,244.85587200000001,null,"Non","Oui",0,null,0,null,0,null,0,null,0,null,0,null,0,null,0,null,0]
[null,{"$f":"IF(LEN('Détail des projets'!B562)=0,\"\",'Détail des projets'!B562)","v":"Modernisation énergétique - Le Nordelec"},{"$f":"IF(LEN('Détail des projets'!C562)=0,\"\",'Détail des projets'!C562)","v":"1751 Richardson inc."},{"$f":"IF(LEN('Détail des projets'!G562)=0,\"\",'Détail des projets'!G562)","v":"06-Montréal"},{"$f":"IF(LEN('Détail des projets'!K562)=0,\"\",'Détail des projets'!K562)","v":237540.39023970001},714.97702592960002,"À la fin du projet (suite au dernier versement)",12.337178515720655,"QC-Québec","Oui",26.9295768737793,714.97702592960002,null,"Non","Oui",0,null,0,null,0,null,0,null,0,null,0,null,0,null,0,null,0]
[null,{"$f":"IF(LEN('Détail des projets'!B563)=0,\"\",'Détail des projets'!B563)","v":"Projet d'efficacité énergétique au Jardin des Seigneurs (3084)"},{"$f":"IF(LEN('Détail des projets'!C563)=0,\"\",'Détail des projets'!C563)","v":"CAPREIT Apartments Inc."},{"$f":"IF(LEN('Détail des projets'!G563)=0,\"\",'Détail des projets'!G563)","v":"03-Capitale-Nationale"},{"$f":"IF(LEN('Détail des projets'!K563)=0,\"\",'Détail des projets'!K563)","v":76777.48000000001},58.497125840000002,"À la fin du projet (suite au dernier versement)",52.500001596659651,"QC-Québec","Oui",25,58.497125840000002,null,"Non","Oui",0,null,0,null,0,null,0,null,0,null,0,null,0,null,0,null,0]
[null,{"$f":"IF(LEN('Détail des projets'!B564)=0,\"\",'Détail des projets'!B564)","v":"Projet d'efficacité énergétique au Jardin des Seigneurs (3040)"},{"$f":"IF(LEN('Détail des projets'!C564)=0,\"\",'Détail des projets'!C564)","v":"CAPREIT Apartments Inc."},{"$f":"IF(LEN('Détail des projets'!G564)=0,\"\",'Détail des projets'!G564)","v":"03-Capitale-Nationale"},{"$f":"IF(LEN('Détail des projets'!K564)=0,\"\",'Détail des projets'!K564)","v":112820.3895},85.958392040000007,"À la fin du projet (suite au dernier versement)",52.49999997556958,"QC-Québec","Oui",25,85.958392040000007,null,"Non","Oui",0,null,0,null,0,null,0,null,0,null,0,null,0,null,0,null,0]
[null,{"$f":"IF(LEN('Détail des projets'!B565)=0,\"\",'Détail des projets'!B565)","v":"Projet d'efficacité énergétique au Jardin des Seigneurs (3072)"},{"$f":"IF(LEN('Détail des projets'!C565)=0,\"\",'Détail des projets'!C565)","v":"CAPREIT Apartments Inc."},{"$f":"IF(LEN('Détail des projets'!G565)=0,\"\",'Détail des projets'!G565)","v":"03-Capitale-Nationale"},{"$f":"IF(LEN('Détail des projets'!K565)=0,\"\",'Détail des projets'!K565)","v":96624.55},77.299638479999999,"À la fin du projet (suite au dernier versement)",50.000000983187007,"QC-Québec","Oui",25,77.299638479999999,null,"Non","Oui",0,null,0,null,0,null,0,null,0,null,0,null,0,null,0,null,0]
[null,{"$f":"IF(LEN('Détail des projets'!B566)=0,\"\",'Détail des projets'!B566)","v":"Récupération de chaleur"},{"$f":"IF(LEN('Détail des projets'!C566)=0,\"\",'Détail des projets'!C566)","v":"Centre aquatique de Mascouche inc."},{"$f":"IF(LEN('Détail des projets'!G566)=0,\"\",'Détail des projets'!G566)","v":"14-Lanaudière"},{"$f":"IF(LEN('Détail des projets'!K566)=0,\"\",'Détail des projets'!K566)","v":103014.639},122.76612428,"À la fin du projet (suite au dernier versement)",33.56451614129265,"QC-Québec","Oui",25,122.76612428,null,"Non","Oui",0,null,0,null,0,null,0,null,0,null,0,null,0,null,0,null,0]
[null,{"$f":"IF(LEN('Détail des projets'!B567)=0,\"\",'Détail des projets'!B567)","v":"Projet d'efficacité énergétique (projet IDE) - Institut de Cardiologie de Montréal"},{"$f":"IF(LEN('Détail des projets'!C567)=0,\"\",'Détail des projets'!C567)","v":"Institut de Cardiologie de Montréal"},{"$f":"IF(LEN('Détail des projets'!G567)=0,\"\",'Détail des projets'!G567)","v":"06-Montréal"},{"$f":"IF(LEN('Détail des projets'!K567)=0,\"\",'Détail des projets'!K567)","v":836426.2},878.10641752000004,"À la fin du projet (suite au dernier versement)",31.751132638429116,"QC-Québec","Oui",30,309.23695168,568.86946583999998,"Non","Oui",0,null,0,null,0,null,0,null,0,null,0,null,0,null,0,null,0]
[null,{"$f":"IF(LEN('Détail des projets'!B568)=0,\"\",'Détail des projets'!B568)","v":"Réfrigération CO2 avec récupération de chaleur (000000)"},{"$f":"IF(LEN('Détail des projets'!C568)=0,\"\",'Détail des projets'!C568)","v":"Sobeys Capital Incorporée"},{"$f":"IF(LEN('Détail des projets'!G568)=0,\"\",'Détail des projets'!G568)","v":"06-Montréal"},{"$f":"IF(LEN('Détail des projets'!K568)=0,\"\",'Détail des projets'!K568)","v":0},2.1324807479999999,"À la fin du projet (suite au dernier versement)",0,"QC-Québec","Oui",15,2.1324807479999999,null,"Non","Oui",0,null,0,null,0,null,0,null,0,null,0,null,0,null,0,null,0]
[null,{"$f":"IF(LEN('Détail des projets'!B569)=0,\"\",'Détail des projets'!B569)","v":"Remplacement des systèmes de réfrigération"},{"$f":"IF(LEN('Détail des projets'!C569)=0,\"\",'Détail des projets'!C569)","v":"Goupe Robert Inc."},{"$f":"IF(LEN('Détail des projets'!G569)=0,\"\",'Détail des projets'!G569)","v":"16-Montérégie"},{"$f":"IF(LEN('Détail des projets'!K569)=0,\"\",'Détail des projets'!K569)","v":0},1.0144206,"À la fin du projet (suite au dernier versement)",0,"QC-Québec","Oui",30,1.0144206,null,"Non","Oui",0,null,0,null,0,null,0,null,0,null,0,null,0,null,0,null,0]
[null,{"$f":"IF(LEN('Détail des projets'!B570)=0,\"\",'Détail des projets'!B570)","v":"Holiday Inn (MC) Montréal Centre-ville, quartier chinois, économie d'énergie"},{"$f":"IF(LEN('Détail des projets'!C570)=0,\"\",'Détail des projets'!C570)","v":"Holiday Inn (MC) Montréal Centre-ville"},{"$f":"IF(LEN('Détail des projets'!G570)=0,\"\",'Détail des projets'!G570)","v":"06-Montréal"},{"$f":"IF(LEN('Détail des projets'!K570)=0,\"\",'Détail des projets'!K570)","v":324778.81799999997},325.07714748000001,"À la fin du projet (suite au dernier versement)",49.954114049186067,"QC-Québec","Oui",20,325.07714748000001,null,"Non","Oui",0,null,0,null,0,null,0,null,0,null,0,null,0,null,0,null,0]
[null,{"$f":"IF(LEN('Détail des projets'!B571)=0,\"\",'Détail des projets'!B571)","v":"Projet d'efficacité énergétique - Centre de formation UA local 144"},{"$f":"IF(LEN('Détail des projets'!C571)=0,\"\",'Détail des projets'!C571)","v":"Le 7295 Lajeunesse inc."},{"$f":"IF(LEN('Détail des projets'!G571)=0,\"\",'Détail des projets'!G571)","v":"06-Montréal"},{"$f":"IF(LEN('Détail des projets'!K571)=0,\"\",'Détail des projets'!K571)","v":181811.58000000002},138.52311284000001,"À la fin du projet (suite au dernier versement)",65.624997977774285,"QC-Québec","Oui",20,138.52311284000001,null,"Non","Oui",0,null,0,null,0,null,0,null,0,null,0,null,0,null,0,null,0]
[null,{"$f":"IF(LEN('Détail des projets'!B572)=0,\"\",'Détail des projets'!B572)","v":"Agrandissement et réaménagement de l'École Saint-René"},{"$f":"IF(LEN('Détail des projets'!C572)=0,\"\",'Détail des projets'!C572)","v":"Centre de services scolaire des Grandes-Seigneuries"},{"$f":"IF(LEN('Détail des projets'!G572)=0,\"\",'Détail des projets'!G572)","v":"16-Montérégie"},{"$f":"IF(LEN('Détail des projets'!K572)=0,\"\",'Détail des projets'!K572)","v":34026.247499999998},40.806402675999998,"À la fin du projet (suite au dernier versement)",33.353832015202165,"QC-Québec","Oui",25,40.806402675999998,null,"Non","Oui",0,null,0,null,0,null,0,null,0,null,0,null,0,null,0,null,0]
[null,{"$f":"IF(LEN('Détail des projets'!B573)=0,\"\",'Détail des projets'!B573)","v":"Réaménagement de l'École St-Viateur-Clotilde-Raymond"},{"$f":"IF(LEN('Détail des projets'!C573)=0,\"\",'Détail des projets'!C573)","v":"Centre de services scolaire des Grandes-Seigneuries"},{"$f":"IF(LEN('Détail des projets'!G573)=0,\"\",'Détail des projets'!G573)","v":"16-Montérégie"},{"$f":"IF(LEN('Détail des projets'!K573)=0,\"\",'Détail des projets'!K573)","v":31191.887999999999},23.765247680000002,"À la fin du projet (suite au dernier versement)",52.50000070691457,"QC-Québec","Oui",25,23.765247680000002,null,"Non","Oui",0,null,0,null,0,null,0,null,0,null,0,null,0,null,0,null,0]
[null,{"$f":"IF(LEN('Détail des projets'!B574)=0,\"\",'Détail des projets'!B574)","v":"École Sainte-Catherine-de-Sienne - Projet de récupération de chaleur"},{"$f":"IF(LEN('Détail des projets'!C574)=0,\"\",'Détail des projets'!C574)","v":"Centre de services scolaire de Montréal"},{"$f":"IF(LEN('Détail des projets'!G574)=0,\"\",'Détail des projets'!G574)","v":"06-Montréal"},{"$f":"IF(LEN('Détail des projets'!K574)=0,\"\",'Détail des projets'!K574)","v":61896.607499999998},55.177590600000002,"À la fin du projet (suite au dernier versement)",44.87083022432661,"QC-Québec","Oui",25,55.177590600000002,null,"Non","Oui",0,null,0,null,0,null,0,null,0,null,0,null,0,null,0,null,0]
[null,{"$f":"IF(LEN('Détail des projets'!B575)=0,\"\",'Détail des projets'!B575)","v":"Reconstruction de l'école Sainte-Bibianne"},{"$f":"IF(LEN('Détail des projets'!C575)=0,\"\",'Détail des projets'!C575)","v":"Centre de services scolaire de Montréal"},{"$f":"IF(LEN('Détail des projets'!G575)=0,\"\",'Détail des projets'!G575)","v":"06-Montréal"},{"$f":"IF(LEN('Détail des projets'!K575)=0,\"\",'Détail des projets'!K575)","v":40831.25},32.8027325232,"À la fin du projet (suite au dernier versement)",49.790059375232559,"QC-Québec","Oui",25,32.8027325232,null,"Non","Oui",0,null,0,null,0,null,0,null,0,null,0,null,0,null,0,null,0]
[null,{"$f":"IF(LEN('Détail des projets'!B576)=0,\"\",'Détail des projets'!B576)","v":"Réfection de la chaufferie"},{"$f":"IF(LEN('Détail des projets'!C576)=0,\"\",'Détail des projets'!C576)","v":"Centre de services scolaire du Lac-Saint-Jean"},{"$f":"IF(LEN('Détail des projets'!G576)=0,\"\",'Détail des projets'!G576)","v":"02-Saguenay--Lac-Saint-Jean"},{"$f":"IF(LEN('Détail des projets'!K576)=0,\"\",'Détail des projets'!K576)","v":95483.94},79.823826120000007,"À la fin du projet (suite au dernier versement)",47.847338140097662,"QC-Québec","Oui",25,79.823826120000007,null,"Non","Oui",0,null,0,null,0,null,0,null,0,null,0,null,0,null,0,null,0]
[null,{"$f":"IF(LEN('Détail des projets'!B577)=0,\"\",'Détail des projets'!B577)","v":"Installation de 2 nouveaux fours crématoires efficaces"},{"$f":"IF(LEN('Détail des projets'!C577)=0,\"\",'Détail des projets'!C577)","v":"Cimetière catholique de St-Jérôme"},{"$f":"IF(LEN('Détail des projets'!G577)=0,\"\",'Détail des projets'!G577)","v":"15-Laurentides"},{"$f":"IF(LEN('Détail des projets'!K577)=0,\"\",'Détail des projets'!K577)","v":356461.54949999996},271.58974999999998,"À la fin du projet (suite au dernier versement)",32.812500241632826,"QC-Québec","Oui",40,271.58974999999998,null,"Non","Oui",0,null,0,null,0,null,0,null,0,null,0,null,0,null,0,null,0]
[null,{"$f":"IF(LEN('Détail des projets'!B578)=0,\"\",'Détail des projets'!B578)","v":"Implantation d'un système photovoltaïque."},{"$f":"IF(LEN('Détail des projets'!C578)=0,\"\",'Détail des projets'!C578)","v":"Pourvoirie Lac Dumoulin"},{"$f":"IF(LEN('Détail des projets'!G578)=0,\"\",'Détail des projets'!G578)","v":"04-Mauricie"},{"$f":"IF(LEN('Détail des projets'!K578)=0,\"\",'Détail des projets'!K578)","v":61441.705499999996},46.81272654,"À la fin du projet (suite au dernier versement)",65.625002046719061,"QC-Québec","Oui",20,0,46.81272654,"Non","Oui",0,null,0,null,0,null,0,null,0,null,0,null,0,null,0,null,0]
[null,{"$f":"IF(LEN('Détail des projets'!B579)=0,\"\",'Détail des projets'!B579)","v":"Mesures de récupération de chaleur sur les systèmes CVAC et de réfrigération"},{"$f":"IF(LEN('Détail des projets'!C579)=0,\"\",'Détail des projets'!C579)","v":"Vision Multisports Outaouais Inc."},{"$f":"IF(LEN('Détail des projets'!G579)=0,\"\",'Détail des projets'!G579)","v":"07-Outaouais"},{"$f":"IF(LEN('Détail des projets'!K579)=0,\"\",'Détail des projets'!K579)","v":336439.69},651.96543090119997,"À la fin du projet (suite au dernier versement)",20.641566196842401,"QC-Québec","Oui",25,651.96543090119997,null,"Non","Oui",0,null,0,null,0,null,0,null,0,null,0,null,0,null,0,null,0]
[null,{"$f":"IF(LEN('Détail des projets'!B580)=0,\"\",'Détail des projets'!B580)","v":"Conversion du chauffage à l'électricité"},{"$f":"IF(LEN('Détail des projets'!C580)=0,\"\",'Détail des projets'!C580)","v":"Supermarché Boucher inc."},{"$f":"IF(LEN('Détail des projets'!G580)=0,\"\",'Détail des projets'!G580)","v":"14-Lanaudière"},{"$f":"IF(LEN('Détail des projets'!K580)=0,\"\",'Détail des projets'!K580)","v":54048.277499999997},62.0340433753776,"À la fin du projet (suite au dernier versement)",87.126800961442257,"QC-Québec","Oui",10,1.884118296,60.149925079377603,"Non","Oui",0,null,0,null,0,null,0,null,0,null,0,null,0,null,0,null,0]
[null,{"$f":"IF(LEN('Détail des projets'!B581)=0,\"\",'Détail des projets'!B581)","v":"Modernisation de la chaufferie principale"},{"$f":"IF(LEN('Détail des projets'!C581)=0,\"\",'Détail des projets'!C581)","v":"Interrent Holdings Manager Limited Partnership"},{"$f":"IF(LEN('Détail des projets'!G581)=0,\"\",'Détail des projets'!G581)","v":"06-Montréal"},{"$f":"IF(LEN('Détail des projets'!K581)=0,\"\",'Détail des projets'!K581)","v":64708.623},64.42203336,"À la fin du projet (suite au dernier versement)",40.177945106698814,"QC-Québec","Oui",25,64.42203336,null,"Non","Oui",0,null,0,null,0,null,0,null,0,null,0,null,0,null,0,null,0]
[null,{"$f":"IF(LEN('Détail des projets'!B582)=0,\"\",'Détail des projets'!B582)","v":"Réfrigération au CO2 avec récupération de chaleur (000284)"},{"$f":"IF(LEN('Détail des projets'!C582)=0,\"\",'Détail des projets'!C582)","v":"Sobeys Capital Incorporée"},{"$f":"IF(LEN('Détail des projets'!G582)=0,\"\",'Détail des projets'!G582)","v":"06-Montréal"},{"$f":"IF(LEN('Détail des projets'!K582)=0,\"\",'Détail des projets'!K582)","v":0},91.471238868,"À la fin du projet (suite au dernier versement)",0,"QC-Québec","Oui",15,91.471238868,null,"Non","Oui",0,null,0,null,0,null,0,null,0,null,0,null,0,null,0,null,0]
[null,{"$f":"IF(LEN('Détail des projets'!B583)=0,\"\",'Détail des projets'!B583)","v":"Refroidissement gratuit et humidification de l’air neuf à l’Édifice Héma-Québec"},{"$f":"IF(LEN('Détail des projets'!C583)=0,\"\",'Détail des projets'!C583)","v":"Héma-Québec"},{"$f":"IF(LEN('Détail des projets'!G583)=0,\"\",'Détail des projets'!G583)","v":"03-Capitale-Nationale"},{"$f":"IF(LEN('Détail des projets'!K583)=0,\"\",'Détail des projets'!K583)","v":32188.296000000002},24.524414879999998,"À la fin du projet (suite au dernier versement)",87.500003996017881,"QC-Québec","Oui",15,24.524414879999998,null,"Non","Oui",0,null,0,null,0,null,0,null,0,null,0,null,0,null,0,null,0]
[null,{"$f":"IF(LEN('Détail des projets'!B584)=0,\"\",'Détail des projets'!B584)","v":"Électrification des conteneurs réfrigérés"},{"$f":"IF(LEN('Détail des projets'!C584)=0,\"\",'Détail des projets'!C584)","v":"Termont Montréal inc."},{"$f":"IF(LEN('Détail des projets'!G584)=0,\"\",'Détail des projets'!G584)","v":"06-Montréal"},{"$f":"IF(LEN('Détail des projets'!K584)=0,\"\",'Détail des projets'!K584)","v":602574.84},1506.4370908020001,"À la fin du projet (suite au dernier versement)",16.000000097692762,"QC-Québec","Oui",25,0,1506.4370908020001,"Non","Oui",0,null,0,null,0,null,0,null,0,null,0,null,0,null,0,null,0]
[null,{"$f":"IF(LEN('Détail des projets'!B585)=0,\"\",'Détail des projets'!B585)","v":"Réfrigération au CO2 avec récupération de chaleur (096096)"},{"$f":"IF(LEN('Détail des projets'!C585)=0,\"\",'Détail des projets'!C585)","v":"Sobeys Capital Incorporée"},{"$f":"IF(LEN('Détail des projets'!G585)=0,\"\",'Détail des projets'!G585)","v":"06-Montréal"},{"$f":"IF(LEN('Détail des projets'!K585)=0,\"\",'Détail des projets'!K585)","v":0},118.240636084,"À la fin du projet (suite au dernier versement)",0,"QC-Québec","Oui",15,118.240636084,null,"Non","Oui",0,null,0,null,0,null,0,null,0,null,0,null,0,null,0,null,0]
[null,{"$f":"IF(LEN('Détail des projets'!B586)=0,\"\",'Détail des projets'!B586)","v":"Mesures d'efficacité énergérique"},{"$f":"IF(LEN('Détail des projets'!C586)=0,\"\",'Détail des projets'!C586)","v":"Équipement Drym ltée"},{"$f":"IF(LEN('Détail des projets'!G586)=0,\"\",'Détail des projets'!G586)","v":"16-Montérégie"},{"$f":"IF(LEN('Détail des projets'!K586)=0,\"\",'Détail des projets'!K586)","v":219266.68},235.92456107999999,"À la fin du projet (suite au dernier versement)",51.464424059224449,"QC-Québec","Oui",18.058944702148398,115.58740236,120.33715872000001,"Non","Oui",0,null,0,null,0,null,0,null,0,null,0,null,0,null,0,null,0]
[null,{"$f":"IF(LEN('Détail des projets'!B587)=0,\"\",'Détail des projets'!B587)","v":"Modernisation des systèmes CVAC et remplacement du système de contrôle"},{"$f":"IF(LEN('Détail des projets'!C587)=0,\"\",'Détail des projets'!C587)","v":"Société québécoise des infrastructures"},{"$f":"IF(LEN('Détail des projets'!G587)=0,\"\",'Détail des projets'!G587)","v":"06-Montréal"},{"$f":"IF(LEN('Détail des projets'!K587)=0,\"\",'Détail des projets'!K587)","v":72250.83},223.00349575999999,"À la fin du projet (suite au dernier versement)",12.959586979346282,"QC-Québec","Oui",25,223.00349575999999,null,"Non","Oui",0,null,0,null,0,null,0,null,0,null,0,null,0,null,0,null,0]
[null,{"$f":"IF(LEN('Détail des projets'!B588)=0,\"\",'Détail des projets'!B588)","v":"Projet d'efficacité énergétique avec l'Hôpital Général Juif"},{"$f":"IF(LEN('Détail des projets'!C588)=0,\"\",'Détail des projets'!C588)","v":"Centre intégré universitaire de santé et de services sociaux du Centre-Ouest-de-l'Île-de-Montréal"},{"$f":"IF(LEN('Détail des projets'!G588)=0,\"\",'Détail des projets'!G588)","v":"06-Montréal"},{"$f":"IF(LEN('Détail des projets'!K588)=0,\"\",'Détail des projets'!K588)","v":1803773.5},4443.2823051200003,"À la fin du projet (suite au dernier versement)",20.297759360478956,"QC-Québec","Oui",20,4443.2823051200003,null,"Non","Oui",0,null,0,null,0,null,0,null,0,null,0,null,0,null,0,null,0]
[null,{"$f":"IF(LEN('Détail des projets'!B589)=0,\"\",'Détail des projets'!B589)","v":"Projet d'efficacité énergétique à l'Hôpital Mont-Sinaï"},{"$f":"IF(LEN('Détail des projets'!C589)=0,\"\",'Détail des projets'!C589)","v":"Centre intégré universitaire de santé et de services sociaux du Centre-Ouest-de-l'Île-de-Montréal"},{"$f":"IF(LEN('Détail des projets'!G589)=0,\"\",'Détail des projets'!G589)","v":"06-Montréal"},{"$f":"IF(LEN('Détail des projets'!K589)=0,\"\",'Détail des projets'!K589)","v":162816.60999999999},178.06825731999999,"À la fin du projet (suite au dernier versement)",45.717471617473123,"QC-Québec","Oui",20,178.06825731999999,null,"Non","Oui",0,null,0,null,0,null,0,null,0,null,0,null,0,null,0,null,0]
[null,{"$f":"IF(LEN('Détail des projets'!B590)=0,\"\",'Détail des projets'!B590)","v":"Projet d'efficacité énergétique avec l'Hôpital Catherine-Booth"},{"$f":"IF(LEN('Détail des projets'!C590)=0,\"\",'Détail des projets'!C590)","v":"Centre intégré universitaire de santé et de services sociaux du Centre-Ouest-de-l'Île-de-Montréal"},{"$f":"IF(LEN('Détail des projets'!G590)=0,\"\",'Détail des projets'!G590)","v":"06-Montréal"},{"$f":"IF(LEN('Détail des projets'!K590)=0,\"\",'Détail des projets'!K590)","v":282291.32},215.07910408000001,"À la fin du projet (suite au dernier versement)",65.624999045699937,"QC-Québec","Oui",20,215.07910408000001,null,"Non","Oui",0,null,0,null,0,null,0,null,0,null,0,null,0,null,0,null,0]
[null,{"$f":"IF(LEN('Détail des projets'!B591)=0,\"\",'Détail des projets'!B591)","v":"Projet d'efficacité énergétique au Centre Hospitalier Gériatrique Maimonides"},{"$f":"IF(LEN('Détail des projets'!C591)=0,\"\",'Détail des projets'!C591)","v":"Centre intégré universitaire de santé et de services sociaux du Centre-Ouest-de-l'Île-de-Montréal"},{"$f":"IF(LEN('Détail des projets'!G591)=0,\"\",'Détail des projets'!G591)","v":"06-Montréal"},{"$f":"IF(LEN('Détail des projets'!K591)=0,\"\",'Détail des projets'!K591)","v":777628.71},679.76506547999998,"À la fin du projet (suite au dernier versement)",57.198343184265866,"QC-Québec","Oui",20,679.76506547999998,null,"Non","Oui",0,null,0,null,0,null,0,null,0,null,0,null,0,null,0,null,0]
[null,{"$f":"IF(LEN('Détail des projets'!B592)=0,\"\",'Détail des projets'!B592)","v":"Agora Village Urbain"},{"$f":"IF(LEN('Détail des projets'!C592)=0,\"\",'Détail des projets'!C592)","v":"10303712 Canada inc."},{"$f":"IF(LEN('Détail des projets'!G592)=0,\"\",'Détail des projets'!G592)","v":"07-Outaouais"},{"$f":"IF(LEN('Détail des projets'!K592)=0,\"\",'Détail des projets'!K592)","v":79516.646999999997},403.44978024,"À la fin du projet (suite au dernier versement)",7.8836723572086687,"QC-Québec","Oui",25,403.44978024,null,"Non","Oui",0,null,0,null,0,null,0,null,0,null,0,null,0,null,0,null,0]
[null,{"$f":"IF(LEN('Détail des projets'!B593)=0,\"\",'Détail des projets'!B593)","v":"Projet d'efficacité énergétique pour l'Hôpital Richardson et le Centre d'hébergement Henri-Bradet"},{"$f":"IF(LEN('Détail des projets'!C593)=0,\"\",'Détail des projets'!C593)","v":"Centre intégré universitaire de santé et de services sociaux du Centre-Ouest-de-l'Île-de-Montréal"},{"$f":"IF(LEN('Détail des projets'!G593)=0,\"\",'Détail des projets'!G593)","v":"06-Montréal"},{"$f":"IF(LEN('Détail des projets'!K593)=0,\"\",'Détail des projets'!K593)","v":136668.78},104.12858816000001,"À la fin du projet (suite au dernier versement)",65.625003860611258,"QC-Québec","Oui",20,104.12858816000001,null,"Non","Oui",0,null,0,null,0,null,0,null,0,null,0,null,0,null,0,null,0]
[null,{"$f":"IF(LEN('Détail des projets'!B594)=0,\"\",'Détail des projets'!B594)","v":"Projet d'efficacité énergétique pour le Centre d'hébergement St-Margaret"},{"$f":"IF(LEN('Détail des projets'!C594)=0,\"\",'Détail des projets'!C594)","v":"Centre intégré universitaire de santé et de services sociaux du Centre-Ouest-de-l'Île-de-Montréal"},{"$f":"IF(LEN('Détail des projets'!G594)=0,\"\",'Détail des projets'!G594)","v":"06-Montréal"},{"$f":"IF(LEN('Détail des projets'!K594)=0,\"\",'Détail des projets'!K594)","v":49746.51},37.902106199999999,"À la fin du projet (suite au dernier versement)",65.624994212063086,"QC-Québec","Oui",20,37.902106199999999,null,"Non","Oui",0,null,0,null,0,null,0,null,0,null,0,null,0,null,0,null,0]
[null,{"$f":"IF(LEN('Détail des projets'!B595)=0,\"\",'Détail des projets'!B595)","v":"Projet d'efficacité énergétique pour le Centre d'hébergement Saint-Andrew"},{"$f":"IF(LEN('Détail des projets'!C595)=0,\"\",'Détail des projets'!C595)","v":"Centre intégré universitaire de santé et de services sociaux du Centre-Ouest-de-l'Île-de-Montréal"},{"$f":"IF(LEN('Détail des projets'!G595)=0,\"\",'Détail des projets'!G595)","v":"06-Montréal"},{"$f":"IF(LEN('Détail des projets'!K595)=0,\"\",'Détail des projets'!K595)","v":20148.16},15.350973639999999,"À la fin du projet (suite au dernier versement)",65.625023117426181,"QC-Québec","Oui",20,15.350973639999999,null,"Non","Oui",0,null,0,null,0,null,0,null,0,null,0,null,0,null,0,null,0]
[null,{"$f":"IF(LEN('Détail des projets'!B596)=0,\"\",'Détail des projets'!B596)","v":"Projet d'efficacité énergétique pour le Centre d'hébergement Father-Dowd"},{"$f":"IF(LEN('Détail des projets'!C596)=0,\"\",'Détail des projets'!C596)","v":"Centre intégré universitaire de santé et de services sociaux du Centre-Ouest-de-l'Île-de-Montréal"},{"$f":"IF(LEN('Détail des projets'!G596)=0,\"\",'Détail des projets'!G596)","v":"06-Montréal"},{"$f":"IF(LEN('Détail des projets'!K596)=0,\"\",'Détail des projets'!K596)","v":18997.23},14.474080519999999,"À la fin du projet (suite au dernier versement)",65.624997642337291,"QC-Québec","Oui",20,14.474080519999999,null,"Non","Oui",0,null,0,null,0,null,0,null,0,null,0,null,0,null,0,null,0]
[null,{"$f":"IF(LEN('Détail des projets'!B597)=0,\"\",'Détail des projets'!B597)","v":"Place de l’Escarpement 2 – Analyse énergétique et conceptuelle"},{"$f":"IF(LEN('Détail des projets'!C597)=0,\"\",'Détail des projets'!C597)","v":"9198-5523 Québec inc."},{"$f":"IF(LEN('Détail des projets'!G597)=0,\"\",'Détail des projets'!G597)","v":"03-Capitale-Nationale"},{"$f":"IF(LEN('Détail des projets'!K597)=0,\"\",'Détail des projets'!K597)","v":7350},0,"À la fin du projet (suite au dernier versement)",0,"QC-Québec","Oui",null,0,null,"Non","Oui"]
[null,{"$f":"IF(LEN('Détail des projets'!B598)=0,\"\",'Détail des projets'!B598)","v":"Étude sur la réfection de la chaufferie du pavillon GN"},{"$f":"IF(LEN('Détail des projets'!C598)=0,\"\",'Détail des projets'!C598)","v":"Université Concordia"},{"$f":"IF(LEN('Détail des projets'!G598)=0,\"\",'Détail des projets'!G598)","v":"06-Montréal"},{"$f":"IF(LEN('Détail des projets'!K598)=0,\"\",'Détail des projets'!K598)","v":11812.5},0,"À la fin du projet (suite au dernier versement)",0,"QC-Québec","Oui",null,214.04333754128001,null,"Non","Oui"]
[null,{"$f":"IF(LEN('Détail des projets'!B599)=0,\"\",'Détail des projets'!B599)","v":"Banlieue Ford, Conversion du chauffage"},{"$f":"IF(LEN('Détail des projets'!C599)=0,\"\",'Détail des projets'!C599)","v":"Banlieue Ford inc."},{"$f":"IF(LEN('Détail des projets'!G599)=0,\"\",'Détail des projets'!G599)","v":"12-Chaudière-Appalaches"},{"$f":"IF(LEN('Détail des projets'!K599)=0,\"\",'Détail des projets'!K599)","v":45104.72},53.902438024479999,"À la fin du projet (suite au dernier versement)",55.785627580847112,"QC-Québec","Oui",15,0,53.902438024479999,"Non","Oui",0,null,0,null,0,null,0,null,0,null,0,null,0,null,0,null,0]
[null,{"$f":"IF(LEN('Détail des projets'!B600)=0,\"\",'Détail des projets'!B600)","v":"Hôtel Hilton Westbury Montréal"},{"$f":"IF(LEN('Détail des projets'!C600)=0,\"\",'Détail des projets'!C600)","v":"Devmont W8 inc."},{"$f":"IF(LEN('Détail des projets'!G600)=0,\"\",'Détail des projets'!G600)","v":"06-Montréal"},{"$f":"IF(LEN('Détail des projets'!K600)=0,\"\",'Détail des projets'!K600)","v":228128.75},178.46185156000001,"À la fin du projet (suite au dernier versement)",56.884782869449097,"QC-Québec","Oui",22.4718341827393,178.46185156000001,null,"Non","Oui",0,null,0,null,0,null,0,null,0,null,0,null,0,null,0,null,0]
[null,{"$f":"IF(LEN('Détail des projets'!B601)=0,\"\",'Détail des projets'!B601)","v":"Réfrigération au CO2 avec récupération de chaleur (008087)"},{"$f":"IF(LEN('Détail des projets'!C601)=0,\"\",'Détail des projets'!C601)","v":"Sobeys Capital Incorporée"},{"$f":"IF(LEN('Détail des projets'!G601)=0,\"\",'Détail des projets'!G601)","v":"16-Montérégie"},{"$f":"IF(LEN('Détail des projets'!K601)=0,\"\",'Détail des projets'!K601)","v":0},154.87209476800001,"À la fin du projet (suite au dernier versement)",0,"QC-Québec","Oui",15,154.87209476800001,null,"Non","Oui",0,null,0,null,0,null,0,null,0,null,0,null,0,null,0,null,0]
[null,{"$f":"IF(LEN('Détail des projets'!B602)=0,\"\",'Détail des projets'!B602)","v":"Réfrigération CO2 avec récupération de chaleur (008261)"},{"$f":"IF(LEN('Détail des projets'!C602)=0,\"\",'Détail des projets'!C602)","v":"Sobeys Capital Incorporée"},{"$f":"IF(LEN('Détail des projets'!G602)=0,\"\",'Détail des projets'!G602)","v":"15-Laurentides"},{"$f":"IF(LEN('Détail des projets'!K602)=0,\"\",'Détail des projets'!K602)","v":0},147.92090862399999,"À la fin du projet (suite au dernier versement)",0,"QC-Québec","Oui",15,147.92090862399999,null,"Non","Oui",0,null,0,null,0,null,0,null,0,null,0,null,0,null,0,null,0]
[null,{"$f":"IF(LEN('Détail des projets'!B603)=0,\"\",'Détail des projets'!B603)","v":"Modernisation des systèmes mécaniques et de contrôles"},{"$f":"IF(LEN('Détail des projets'!C603)=0,\"\",'Détail des projets'!C603)","v":"Édifice 1981 Mc Gill Collège inc."},{"$f":"IF(LEN('Détail des projets'!G603)=0,\"\",'Détail des projets'!G603)","v":"06-Montréal"},{"$f":"IF(LEN('Détail des projets'!K603)=0,\"\",'Détail des projets'!K603)","v":497872.72},381.34503332000003,"À la fin du projet (suite au dernier versement)",52.222808899909545,"QC-Québec","Oui",25,381.34503332000003,null,"Non","Oui",0,null,0,null,0,null,0,null,0,null,0,null,0,null,0,null,0]
[null,{"$f":"IF(LEN('Détail des projets'!B604)=0,\"\",'Détail des projets'!B604)","v":"Chauffage solaire de l'espace camions"},{"$f":"IF(LEN('Détail des projets'!C604)=0,\"\",'Détail des projets'!C604)","v":"Express J.W."},{"$f":"IF(LEN('Détail des projets'!G604)=0,\"\",'Détail des projets'!G604)","v":"05-Estrie"},{"$f":"IF(LEN('Détail des projets'!K604)=0,\"\",'Détail des projets'!K604)","v":19549.246500000001},13.199304128,"À la fin du projet (suite au dernier versement)",59.243264070352673,"QC-Québec","Oui",25,13.199304128,null,"Non","Oui",0,null,0,null,0,null,0,null,0,null,0,null,0,null,0,null,0]
[null,{"$f":"IF(LEN('Détail des projets'!B605)=0,\"\",'Détail des projets'!B605)","v":"Conversion du système de chauffage à l'huile vers un système de chauffage 100 % électrique"},{"$f":"IF(LEN('Détail des projets'!C605)=0,\"\",'Détail des projets'!C605)","v":"Hydraulique NES"},{"$f":"IF(LEN('Détail des projets'!G605)=0,\"\",'Détail des projets'!G605)","v":"08-Abitibi-Témiscamingue"},{"$f":"IF(LEN('Détail des projets'!K605)=0,\"\",'Détail des projets'!K605)","v":18302.587500000001},24.914747300799998,"À la fin du projet (suite au dernier versement)",29.384343784875256,"QC-Québec","Oui",25,0,24.914747300799998,"Non","Oui",0,null,0,null,0,null,0,null,0,null,0,null,0,null,0,null,0]
[null,{"$f":"IF(LEN('Détail des projets'!B606)=0,\"\",'Détail des projets'!B606)","v":"Conversion du chauffage au fioul à l'électricité"},{"$f":"IF(LEN('Détail des projets'!C606)=0,\"\",'Détail des projets'!C606)","v":"Collège Charlemagne inc."},{"$f":"IF(LEN('Détail des projets'!G606)=0,\"\",'Détail des projets'!G606)","v":"06-Montréal"},{"$f":"IF(LEN('Détail des projets'!K606)=0,\"\",'Détail des projets'!K606)","v":157119.12},143.88227903200001,"À la fin du projet (suite au dernier versement)",54.599885773652517,"QC-Québec","Oui",20,0,143.88227903200001,"Non","Oui",0,null,0,null,0,null,0,null,0,null,0,null,0,null,0,null,0]
[null,{"$f":"IF(LEN('Détail des projets'!B607)=0,\"\",'Détail des projets'!B607)","v":"Récupération de chaleur pour chauffer l'air neuf"},{"$f":"IF(LEN('Détail des projets'!C607)=0,\"\",'Détail des projets'!C607)","v":"Corporation Dorchester Oaks"},{"$f":"IF(LEN('Détail des projets'!G607)=0,\"\",'Détail des projets'!G607)","v":"06-Montréal"},{"$f":"IF(LEN('Détail des projets'!K607)=0,\"\",'Détail des projets'!K607)","v":327087.81},249.20975763999999,"À la fin du projet (suite au dernier versement)",52.500000497171548,"QC-Québec","Oui",25,249.20975763999999,null,"Non","Oui",0,null,0,null,0,null,0,null,0,null,0,null,0,null,0,null,0]
[null,{"$f":"IF(LEN('Détail des projets'!B608)=0,\"\",'Détail des projets'!B608)","v":"Projet d'efficacité énergétique au 500 Saint-Jacques"},{"$f":"IF(LEN('Détail des projets'!C608)=0,\"\",'Détail des projets'!C608)","v":"Les Tours 500 St-Jacques inc."},{"$f":"IF(LEN('Détail des projets'!G608)=0,\"\",'Détail des projets'!G608)","v":"06-Montréal"},{"$f":"IF(LEN('Détail des projets'!K608)=0,\"\",'Détail des projets'!K608)","v":525767.93999999994},414.82758239999998,"À la fin du projet (suite au dernier versement)",50.69749093906924,"QC-Québec","Oui",25,414.82758239999998,null,"Non","Oui",0,null,0,null,0,null,0,null,0,null,0,null,0,null,0,null,0]
[null,{"$f":"IF(LEN('Détail des projets'!B609)=0,\"\",'Détail des projets'!B609)","v":"Mesures d'efficacité énergétique au 1080, Grande Allée Ouest"},{"$f":"IF(LEN('Détail des projets'!C609)=0,\"\",'Détail des projets'!C609)","v":"Industrielle Alliance, Assurances et services financiers inc."},{"$f":"IF(LEN('Détail des projets'!G609)=0,\"\",'Détail des projets'!G609)","v":"03-Capitale-Nationale"},{"$f":"IF(LEN('Détail des projets'!K609)=0,\"\",'Détail des projets'!K609)","v":185205.83549999999},141.10920583999999,"À la fin du projet (suite au dernier versement)",87.500001339388163,"QC-Québec","Oui",15,141.10920583999999,null,"Non","Oui",0,null,0,null,0,null,0,null,0,null,0,null,0,null,0,null,0]
[null,{"$f":"IF(LEN('Détail des projets'!B610)=0,\"\",'Détail des projets'!B610)","v":"Remplacement de la chaufferie"},{"$f":"IF(LEN('Détail des projets'!C610)=0,\"\",'Détail des projets'!C610)","v":"Centre de services scolaire de la Jonquière"},{"$f":"IF(LEN('Détail des projets'!G610)=0,\"\",'Détail des projets'!G610)","v":"02-Saguenay--Lac-Saint-Jean"},{"$f":"IF(LEN('Détail des projets'!K610)=0,\"\",'Détail des projets'!K610)","v":118429.24},90.231799879999997,"À la fin du projet (suite au dernier versement)",52.500001178076914,"QC-Québec","Oui",25,90.231799879999997,null,"Non","Oui",0,null,0,null,0,null,0,null,0,null,0,null,0,null,0,null,0]
[null,{"$f":"IF(LEN('Détail des projets'!B611)=0,\"\",'Détail des projets'!B611)","v":"Nouveau Magasin-Entrepôt JC Perreault"},{"$f":"IF(LEN('Détail des projets'!C611)=0,\"\",'Détail des projets'!C611)","v":"Meubles JCPerreault inc."},{"$f":"IF(LEN('Détail des projets'!G611)=0,\"\",'Détail des projets'!G611)","v":"14-Lanaudière"},{"$f":"IF(LEN('Détail des projets'!K611)=0,\"\",'Détail des projets'!K611)","v":84995.319999999992},64.758332319999994,"À la fin du projet (suite au dernier versement)",65.625006817655489,"QC-Québec","Oui",20,64.758332319999994,null,"Non","Oui",0,null,0,null,0,null,0,null,0,null,0,null,0,null,0,null,0]
[null,{"$f":"IF(LEN('Détail des projets'!B612)=0,\"\",'Détail des projets'!B612)","v":"Agora Village Urbain - Bâtiment C2"},{"$f":"IF(LEN('Détail des projets'!C612)=0,\"\",'Détail des projets'!C612)","v":"10303712 Canada inc."},{"$f":"IF(LEN('Détail des projets'!G612)=0,\"\",'Détail des projets'!G612)","v":"07-Outaouais"},{"$f":"IF(LEN('Détail des projets'!K612)=0,\"\",'Détail des projets'!K612)","v":52125},40.333211743396703,"À la fin du projet (suite au dernier versement)",51.694370715254365,"QC-Québec","Oui",25,40.333211743396703,null,"Non","Oui",0,null,0,null,0,null,0,null,0,null,0,null,0,null,0,null,0]
[null,{"$f":"IF(LEN('Détail des projets'!B613)=0,\"\",'Détail des projets'!B613)","v":"Agora Village Urbain - Bâtiment C3"},{"$f":"IF(LEN('Détail des projets'!C613)=0,\"\",'Détail des projets'!C613)","v":"10303712 Canada inc."},{"$f":"IF(LEN('Détail des projets'!G613)=0,\"\",'Détail des projets'!G613)","v":"07-Outaouais"},{"$f":"IF(LEN('Détail des projets'!K613)=0,\"\",'Détail des projets'!K613)","v":78412.708500000008},59.743016397113799,"À la fin du projet (suite au dernier versement)",52.499999651030777,"QC-Québec","Oui",25,59.743016397113799,null,"Non","Oui",0,null,0,null,0,null,0,null,0,null,0,null,0,null,0,null,0]
[null,{"$f":"IF(LEN('Détail des projets'!B614)=0,\"\",'Détail des projets'!B614)","v":"Le 315 St-Jean"},{"$f":"IF(LEN('Détail des projets'!C614)=0,\"\",'Détail des projets'!C614)","v":"Gestion immobilière François Bélanger inc."},{"$f":"IF(LEN('Détail des projets'!G614)=0,\"\",'Détail des projets'!G614)","v":"03-Capitale-Nationale"},{"$f":"IF(LEN('Détail des projets'!K614)=0,\"\",'Détail des projets'!K614)","v":237154.3},180.68898927999999,"À la fin du projet (suite au dernier versement)",52.500000347558533,"QC-Québec","Oui",25,180.68898927999999,null,"Non","Oui",0,null,0,null,0,null,0,null,0,null,0,null,0,null,0,null,0]
[null,{"$f":"IF(LEN('Détail des projets'!B615)=0,\"\",'Détail des projets'!B615)","v":"Projet d'efficacité énergétique au complexe de la Place Ville-Marie"},{"$f":"IF(LEN('Détail des projets'!C615)=0,\"\",'Détail des projets'!C615)","v":"Ivanhoé Cambridge inc."},{"$f":"IF(LEN('Détail des projets'!G615)=0,\"\",'Détail des projets'!G615)","v":"06-Montréal"},{"$f":"IF(LEN('Détail des projets'!K615)=0,\"\",'Détail des projets'!K615)","v":1474700.12},3511.19074108,"À la fin du projet (suite au dernier versement)",16.800000099640275,"QC-Québec","Oui",25,3511.19074108,null,"Non","Oui",0,null,0,null,0,null,0,null,0,null,0,null,0,null,0,null,0]
[null,{"$f":"IF(LEN('Détail des projets'!B616)=0,\"\",'Détail des projets'!B616)","v":"Analyse énergétique du Manoir NDG"},{"$f":"IF(LEN('Détail des projets'!C616)=0,\"\",'Détail des projets'!C616)","v":"Ville de Montréal - Arrondissement Côte-des-Neiges/Notre-Dame-de-Grâce"},{"$f":"IF(LEN('Détail des projets'!G616)=0,\"\",'Détail des projets'!G616)","v":"06-Montréal"},{"$f":"IF(LEN('Détail des projets'!K616)=0,\"\",'Détail des projets'!K616)","v":10500},0,"À la fin du projet (suite au dernier versement)",0,"QC-Québec","Oui",19.523942947387699,17.869188560000001,169.80970596,"Non","Oui"]
[null,{"$f":"IF(LEN('Détail des projets'!B617)=0,\"\",'Détail des projets'!B617)","v":"Diagnostique énergétique et mécanique du bâtiment"},{"$f":"IF(LEN('Détail des projets'!C617)=0,\"\",'Détail des projets'!C617)","v":"Ville de Contrecoeur"},{"$f":"IF(LEN('Détail des projets'!G617)=0,\"\",'Détail des projets'!G617)","v":"16-Montérégie"},{"$f":"IF(LEN('Détail des projets'!K617)=0,\"\",'Détail des projets'!K617)","v":5775},0,"À la fin du projet (suite au dernier versement)",0,"QC-Québec","Oui",null,0,null,"Non","Oui"]
[null,{"$f":"IF(LEN('Détail des projets'!B618)=0,\"\",'Détail des projets'!B618)","v":"Nouvelle concession Porsche à Québec"},{"$f":"IF(LEN('Détail des projets'!C618)=0,\"\",'Détail des projets'!C618)","v":"Gestion immobilière Bégin inc."},{"$f":"IF(LEN('Détail des projets'!G618)=0,\"\",'Détail des projets'!G618)","v":"03-Capitale-Nationale"},{"$f":"IF(LEN('Détail des projets'!K618)=0,\"\",'Détail des projets'!K618)","v":218923.13},174.3180624,"À la fin du projet (suite au dernier versement)",62.794161140239936,"QC-Québec","Oui",20,174.3180624,null,"Non","Oui",0,null,0,null,0,null,0,null,0,null,0,null,0,null,0,null,0]
[null,{"$f":"IF(LEN('Détail des projets'!B619)=0,\"\",'Détail des projets'!B619)","v":"Raccordement au réseau de chaleur venant d'Hydro-Québec"},{"$f":"IF(LEN('Détail des projets'!C619)=0,\"\",'Détail des projets'!C619)","v":"Résidence Plaisance des Îles Inc."},{"$f":"IF(LEN('Détail des projets'!G619)=0,\"\",'Détail des projets'!G619)","v":"11-Gaspésie--Îles-de-la-Madeleine"},{"$f":"IF(LEN('Détail des projets'!K619)=0,\"\",'Détail des projets'!K619)","v":399220.06999999995},304.16766859199998,"À la fin du projet (suite au dernier versement)",43.750000544984502,"QC-Québec","Oui",30,304.16766859199998,null,"Non","Oui",0,null,0,null,0,null,0,null,0,null,0,null,0,null,0,null,0]
[null,{"$f":"IF(LEN('Détail des projets'!B620)=0,\"\",'Détail des projets'!B620)","v":"Modernisation des systèmes CVCA du Centre L-A Savaria"},{"$f":"IF(LEN('Détail des projets'!C620)=0,\"\",'Détail des projets'!C620)","v":"Ville de Sainte-Julie"},{"$f":"IF(LEN('Détail des projets'!G620)=0,\"\",'Détail des projets'!G620)","v":"16-Montérégie"},{"$f":"IF(LEN('Détail des projets'!K620)=0,\"\",'Détail des projets'!K620)","v":61596.560000000005},46.930708799999998,"À la fin du projet (suite au dernier versement)",73.371219726938151,"QC-Québec","Oui",17.888486862182599,46.930708799999998,null,"Non","Oui",0,null,0,null,0,null,0,null,0,null,0,null,0,null,0,null,0]
[null,{"$f":"IF(LEN('Détail des projets'!B621)=0,\"\",'Détail des projets'!B621)","v":"Projet d'efficacité énergétique - Corporation Toulon"},{"$f":"IF(LEN('Détail des projets'!C621)=0,\"\",'Détail des projets'!C621)","v":"Corporation de Développement Toulon"},{"$f":"IF(LEN('Détail des projets'!G621)=0,\"\",'Détail des projets'!G621)","v":"06-Montréal"},{"$f":"IF(LEN('Détail des projets'!K621)=0,\"\",'Détail des projets'!K621)","v":233001.93},177.52527832000001,"À la fin du projet (suite au dernier versement)",52.500000496830651,"QC-Québec","Oui",25,177.52527832000001,null,"Non","Oui",0,null,0,null,0,null,0,null,0,null,0,null,0,null,0,null,0]
[null,{"$f":"IF(LEN('Détail des projets'!B622)=0,\"\",'Détail des projets'!B622)","v":"Audit énergétique de deux bâtiments à la Cité Desjardins"},{"$f":"IF(LEN('Détail des projets'!C622)=0,\"\",'Détail des projets'!C622)","v":"Desjardins Sécurité Financière, Compagnie d'assurance vie"},{"$f":"IF(LEN('Détail des projets'!G622)=0,\"\",'Détail des projets'!G622)","v":"12-Chaudière-Appalaches"},{"$f":"IF(LEN('Détail des projets'!K622)=0,\"\",'Détail des projets'!K622)","v":7113.42},0,"À la fin du projet (suite au dernier versement)",0,"QC-Québec","Oui",null,0,null,"Non","Oui"]
[null,{"$f":"IF(LEN('Détail des projets'!B623)=0,\"\",'Détail des projets'!B623)","v":"Quartier ZIBI - Récupération des rejets de chaleur de l'usine Kruger"},{"$f":"IF(LEN('Détail des projets'!C623)=0,\"\",'Détail des projets'!C623)","v":"Services d’Énergie de Quartier Zibi GP Inc."},{"$f":"IF(LEN('Détail des projets'!G623)=0,\"\",'Détail des projets'!G623)","v":"07-Outaouais"},{"$f":"IF(LEN('Détail des projets'!K623)=0,\"\",'Détail des projets'!K623)","v":1684141.99},4009.8618638799999,"À la fin du projet (suite au dernier versement)",16.800000071527652,"QC-Québec","Oui",25,4009.8618638799999,null,"Non","Oui",0,null,0,null,0,null,0,null,0,null,0,null,0,null,0,null,0]
[null,{"$f":"IF(LEN('Détail des projets'!B624)=0,\"\",'Détail des projets'!B624)","v":"Conversion du système de chauffage"},{"$f":"IF(LEN('Détail des projets'!C624)=0,\"\",'Détail des projets'!C624)","v":"Bistrot Bar Caserne 409"},{"$f":"IF(LEN('Détail des projets'!G624)=0,\"\",'Détail des projets'!G624)","v":"17-Centre-du-Québec"},{"$f":"IF(LEN('Détail des projets'!K624)=0,\"\",'Détail des projets'!K624)","v":30053.55},22.897944528,"À la fin du projet (suite au dernier versement)",65.62499521136057,"QC-Québec","Oui",20,0,22.897944528,"Non","Oui",0,null,0,null,0,null,0,null,0,null,0,null,0,null,0,null,0]
[null,{"$f":"IF(LEN('Détail des projets'!B625)=0,\"\",'Détail des projets'!B625)","v":"Analyse de gains énergétiques potentiels à Sépaq Anticosti"},{"$f":"IF(LEN('Détail des projets'!C625)=0,\"\",'Détail des projets'!C625)","v":"Société des établissements de plein air du Québec"},{"$f":"IF(LEN('Détail des projets'!G625)=0,\"\",'Détail des projets'!G625)","v":"09-Côte-Nord"},{"$f":"IF(LEN('Détail des projets'!K625)=0,\"\",'Détail des projets'!K625)","v":19083.39},0,"À la fin du projet (suite au dernier versement)",0,"QC-Québec","Oui",null,0,null,"Non","Oui"]
[null,{"$f":"IF(LEN('Détail des projets'!B626)=0,\"\",'Détail des projets'!B626)","v":"Conversion vers l'électricité de la centrale thermique du Centre administratif Saint-Ferdinand"},{"$f":"IF(LEN('Détail des projets'!C626)=0,\"\",'Détail des projets'!C626)","v":"Centre intégré universitaire de santé et de services sociaux de la Mauricie-et-du-Centre-du-Québec"},{"$f":"IF(LEN('Détail des projets'!G626)=0,\"\",'Détail des projets'!G626)","v":"17-Centre-du-Québec"},{"$f":"IF(LEN('Détail des projets'!K626)=0,\"\",'Détail des projets'!K626)","v":131754},964.71691267359995,"À la fin du projet (suite au dernier versement)",5.4629082695299376,"QC-Québec","Oui",25,0,964.71691267359995,"Non","Oui",0,null,0,null,0,null,0,null,0,null,0,null,0,null,0,null,0]
[null,{"$f":"IF(LEN('Détail des projets'!B627)=0,\"\",'Détail des projets'!B627)","v":"Conversion du système de chauffage au mazout (diesel blanc) vers l'électrique"},{"$f":"IF(LEN('Détail des projets'!C627)=0,\"\",'Détail des projets'!C627)","v":"Station du Mont Gleason inc."},{"$f":"IF(LEN('Détail des projets'!G627)=0,\"\",'Détail des projets'!G627)","v":"17-Centre-du-Québec"},{"$f":"IF(LEN('Détail des projets'!K627)=0,\"\",'Détail des projets'!K627)","v":19826},25.983617937000002,"À la fin du projet (suite au dernier versement)",30.520768967693733,"QC-Québec","Oui",25,0,25.983617937000002,"Non","Oui",0,null,0,null,0,null,0,null,0,null,0,null,0,null,0,null,0]
[null,{"$f":"IF(LEN('Détail des projets'!B628)=0,\"\",'Détail des projets'!B628)","v":"Analyse écoénergétique"},{"$f":"IF(LEN('Détail des projets'!C628)=0,\"\",'Détail des projets'!C628)","v":"Ville de Richmond"},{"$f":"IF(LEN('Détail des projets'!G628)=0,\"\",'Détail des projets'!G628)","v":"05-Estrie"},{"$f":"IF(LEN('Détail des projets'!K628)=0,\"\",'Détail des projets'!K628)","v":9920.82},0,"À la fin du projet (suite au dernier versement)",0,"QC-Québec","Oui",null,0,null,"Non","Oui",0,null,0,null,0,null,0,null,0,null,0,null,0,null,0,null,0]
[null,{"$f":"IF(LEN('Détail des projets'!B629)=0,\"\",'Détail des projets'!B629)","v":""},{"$f":"IF(LEN('Détail des projets'!C629)=0,\"\",'Détail des projets'!C629)","v":""},{"$f":"IF(LEN('Détail des projets'!G629)=0,\"\",'Détail des projets'!G629)","v":""},{"$f":"IF(LEN('Détail des projets'!K629)=0,\"\",'Détail des projets'!K629)","v":""}]
[null,{"$f":"IF(LEN('Détail des projets'!B630)=0,\"\",'Détail des projets'!B630)","v":""},{"$f":"IF(LEN('Détail des projets'!C630)=0,\"\",'Détail des projets'!C630)","v":""},{"$f":"IF(LEN('Détail des projets'!G630)=0,\"\",'Détail des projets'!G630)","v":""},{"$f":"IF(LEN('Détail des projets'!K630)=0,\"\",'Détail des projets'!K630)","v":""}]
[null,{"$f":"IF(LEN('Détail des projets'!B631)=0,\"\",'Détail des projets'!B631)","v":""},{"$f":"IF(LEN('Détail des projets'!C631)=0,\"\",'Détail des projets'!C631)","v":""},{"$f":"IF(LEN('Détail des projets'!G631)=0,\"\",'Détail des projets'!G631)","v":""},{"$f":"IF(LEN('Détail des projets'!K631)=0,\"\",'Détail des projets'!K631)","v":""}]
[null,{"$f":"IF(LEN('Détail des projets'!B632)=0,\"\",'Détail des projets'!B632)","v":""},{"$f":"IF(LEN('Détail des projets'!C632)=0,\"\",'Détail des projets'!C632)","v":""},{"$f":"IF(LEN('Détail des projets'!G632)=0,\"\",'Détail des projets'!G632)","v":""},{"$f":"IF(LEN('Détail des projets'!K632)=0,\"\",'Détail des projets'!K632)","v":""}]
[null,{"$f":"IF(LEN('Détail des projets'!B633)=0,\"\",'Détail des projets'!B633)","v":""},{"$f":"IF(LEN('Détail des projets'!C633)=0,\"\",'Détail des projets'!C633)","v":""},{"$f":"IF(LEN('Détail des projets'!G633)=0,\"\",'Détail des projets'!G633)","v":""},{"$f":"IF(LEN('Détail des projets'!K633)=0,\"\",'Détail des projets'!K633)","v":""}]
[null,{"$f":"IF(LEN('Détail des projets'!B634)=0,\"\",'Détail des projets'!B634)","v":""},{"$f":"IF(LEN('Détail des projets'!C634)=0,\"\",'Détail des projets'!C634)","v":""},{"$f":"IF(LEN('Détail des projets'!G634)=0,\"\",'Détail des projets'!G634)","v":""},{"$f":"IF(LEN('Détail des projets'!K634)=0,\"\",'Détail des projets'!K634)","v":""}]
[null,{"$f":"IF(LEN('Détail des projets'!B635)=0,\"\",'Détail des projets'!B635)","v":""},{"$f":"IF(LEN('Détail des projets'!C635)=0,\"\",'Détail des projets'!C635)","v":""},{"$f":"IF(LEN('Détail des projets'!G635)=0,\"\",'Détail des projets'!G635)","v":""},{"$f":"IF(LEN('Détail des projets'!K635)=0,\"\",'Détail des projets'!K635)","v":""}]
[null,{"$f":"IF(LEN('Détail des projets'!B636)=0,\"\",'Détail des projets'!B636)","v":""},{"$f":"IF(LEN('Détail des projets'!C636)=0,\"\",'Détail des projets'!C636)","v":""},{"$f":"IF(LEN('Détail des projets'!G636)=0,\"\",'Détail des projets'!G636)","v":""},{"$f":"IF(LEN('Détail des projets'!K636)=0,\"\",'Détail des projets'!K636)","v":""}]
[null,{"$f":"IF(LEN('Détail des projets'!B637)=0,\"\",'Détail des projets'!B637)","v":""},{"$f":"IF(LEN('Détail des projets'!C637)=0,\"\",'Détail des projets'!C637)","v":""},{"$f":"IF(LEN('Détail des projets'!G637)=0,\"\",'Détail des projets'!G637)","v":""},{"$f":"IF(LEN('Détail des projets'!K637)=0,\"\",'Détail des projets'!K637)","v":""}]
[null,{"$f":"IF(LEN('Détail des projets'!B638)=0,\"\",'Détail des projets'!B638)","v":""},{"$f":"IF(LEN('Détail des projets'!C638)=0,\"\",'Détail des projets'!C638)","v":""},{"$f":"IF(LEN('Détail des projets'!G638)=0,\"\",'Détail des projets'!G638)","v":""},{"$f":"IF(LEN('Détail des projets'!K638)=0,\"\",'Détail des projets'!K638)","v":""}]
[null,{"$f":"IF(LEN('Détail des projets'!B639)=0,\"\",'Détail des projets'!B639)","v":""},{"$f":"IF(LEN('Détail des projets'!C639)=0,\"\",'Détail des projets'!C639)","v":""},{"$f":"IF(LEN('Détail des projets'!G639)=0,\"\",'Détail des projets'!G639)","v":""},{"$f":"IF(LEN('Détail des projets'!K639)=0,\"\",'Détail des projets'!K639)","v":""}]
[null,{"$f":"IF(LEN('Détail des projets'!B640)=0,\"\",'Détail des projets'!B640)","v":""},{"$f":"IF(LEN('Détail des projets'!C640)=0,\"\",'Détail des projets'!C640)","v":""},{"$f":"IF(LEN('Détail des projets'!G640)=0,\"\",'Détail des projets'!G640)","v":""},{"$f":"IF(LEN('Détail des projets'!K640)=0,\"\",'Détail des projets'!K640)","v":""}]
[null,{"$f":"IF(LEN('Détail des projets'!B641)=0,\"\",'Détail des projets'!B641)","v":""},{"$f":"IF(LEN('Détail des projets'!C641)=0,\"\",'Détail des projets'!C641)","v":""},{"$f":"IF(LEN('Détail des projets'!G641)=0,\"\",'Détail des projets'!G641)","v":""},{"$f":"IF(LEN('Détail des projets'!K641)=0,\"\",'Détail des projets'!K641)","v":""}]
[null,{"$f":"IF(LEN('Détail des projets'!B642)=0,\"\",'Détail des projets'!B642)","v":""},{"$f":"IF(LEN('Détail des projets'!C642)=0,\"\",'Détail des projets'!C642)","v":""},{"$f":"IF(LEN('Détail des projets'!G642)=0,\"\",'Détail des projets'!G642)","v":""},{"$f":"IF(LEN('Détail des projets'!K642)=0,\"\",'Détail des projets'!K642)","v":""}]
[null,{"$f":"IF(LEN('Détail des projets'!B643)=0,\"\",'Détail des projets'!B643)","v":""},{"$f":"IF(LEN('Détail des projets'!C643)=0,\"\",'Détail des projets'!C643)","v":""},{"$f":"IF(LEN('Détail des projets'!G643)=0,\"\",'Détail des projets'!G643)","v":""},{"$f":"IF(LEN('Détail des projets'!K643)=0,\"\",'Détail des projets'!K643)","v":""}]
[null,{"$f":"IF(LEN('Détail des projets'!B644)=0,\"\",'Détail des projets'!B644)","v":""},{"$f":"IF(LEN('Détail des projets'!C644)=0,\"\",'Détail des projets'!C644)","v":""},{"$f":"IF(LEN('Détail des projets'!G644)=0,\"\",'Détail des projets'!G644)","v":""},{"$f":"IF(LEN('Détail des projets'!K644)=0,\"\",'Détail des projets'!K644)","v":""}]
[null,{"$f":"IF(LEN('Détail des projets'!B645)=0,\"\",'Détail des projets'!B645)","v":""},{"$f":"IF(LEN('Détail des projets'!C645)=0,\"\",'Détail des projets'!C645)","v":""},{"$f":"IF(LEN('Détail des projets'!G645)=0,\"\",'Détail des projets'!G645)","v":""},{"$f":"IF(LEN('Détail des projets'!K645)=0,\"\",'Détail des projets'!K645)","v":""}]
[null,{"$f":"IF(LEN('Détail des projets'!B646)=0,\"\",'Détail des projets'!B646)","v":""},{"$f":"IF(LEN('Détail des projets'!C646)=0,\"\",'Détail des projets'!C646)","v":""},{"$f":"IF(LEN('Détail des projets'!G646)=0,\"\",'Détail des projets'!G646)","v":""},{"$f":"IF(LEN('Détail des projets'!K646)=0,\"\",'Détail des projets'!K646)","v":""}]
[null,{"$f":"IF(LEN('Détail des projets'!B647)=0,\"\",'Détail des projets'!B647)","v":""},{"$f":"IF(LEN('Détail des projets'!C647)=0,\"\",'Détail des projets'!C647)","v":""},{"$f":"IF(LEN('Détail des projets'!G647)=0,\"\",'Détail des projets'!G647)","v":""},{"$f":"IF(LEN('Détail des projets'!K647)=0,\"\",'Détail des projets'!K647)","v":""}]
[null,{"$f":"IF(LEN('Détail des projets'!B648)=0,\"\",'Détail des projets'!B648)","v":""},{"$f":"IF(LEN('Détail des projets'!C648)=0,\"\",'Détail des projets'!C648)","v":""},{"$f":"IF(LEN('Détail des projets'!G648)=0,\"\",'Détail des projets'!G648)","v":""},{"$f":"IF(LEN('Détail des projets'!K648)=0,\"\",'Détail des projets'!K648)","v":""}]
[null,{"$f":"IF(LEN('Détail des projets'!B649)=0,\"\",'Détail des projets'!B649)","v":""},{"$f":"IF(LEN('Détail des projets'!C649)=0,\"\",'Détail des projets'!C649)","v":""},{"$f":"IF(LEN('Détail des projets'!G649)=0,\"\",'Détail des projets'!G649)","v":""},{"$f":"IF(LEN('Détail des projets'!K649)=0,\"\",'Détail des projets'!K649)","v":""}]
[null,{"$f":"IF(LEN('Détail des projets'!B650)=0,\"\",'Détail des projets'!B650)","v":""},{"$f":"IF(LEN('Détail des projets'!C650)=0,\"\",'Détail des projets'!C650)","v":""},{"$f":"IF(LEN('Détail des projets'!G650)=0,\"\",'Détail des projets'!G650)","v":""},{"$f":"IF(LEN('Détail des projets'!K650)=0,\"\",'Détail des projets'!K650)","v":""}]
[null,{"$f":"IF(LEN('Détail des projets'!B651)=0,\"\",'Détail des projets'!B651)","v":""},{"$f":"IF(LEN('Détail des projets'!C651)=0,\"\",'Détail des projets'!C651)","v":""},{"$f":"IF(LEN('Détail des projets'!G651)=0,\"\",'Détail des projets'!G651)","v":""},{"$f":"IF(LEN('Détail des projets'!K651)=0,\"\",'Détail des projets'!K651)","v":""}]
[null,{"$f":"IF(LEN('Détail des projets'!B652)=0,\"\",'Détail des projets'!B652)","v":""},{"$f":"IF(LEN('Détail des projets'!C652)=0,\"\",'Détail des projets'!C652)","v":""},{"$f":"IF(LEN('Détail des projets'!G652)=0,\"\",'Détail des projets'!G652)","v":""},{"$f":"IF(LEN('Détail des projets'!K652)=0,\"\",'Détail des projets'!K652)","v":""}]
[null,{"$f":"IF(LEN('Détail des projets'!B653)=0,\"\",'Détail des projets'!B653)","v":""},{"$f":"IF(LEN('Détail des projets'!C653)=0,\"\",'Détail des projets'!C653)","v":""},{"$f":"IF(LEN('Détail des projets'!G653)=0,\"\",'Détail des projets'!G653)","v":""},{"$f":"IF(LEN('Détail des projets'!K653)=0,\"\",'Détail des projets'!K653)","v":""}]
[null,{"$f":"IF(LEN('Détail des projets'!B654)=0,\"\",'Détail des projets'!B654)","v":""},{"$f":"IF(LEN('Détail des projets'!C654)=0,\"\",'Détail des projets'!C654)","v":""},{"$f":"IF(LEN('Détail des projets'!G654)=0,\"\",'Détail des projets'!G654)","v":""},{"$f":"IF(LEN('Détail des projets'!K654)=0,\"\",'Détail des projets'!K654)","v":""}]
[null,{"$f":"IF(LEN('Détail des projets'!B655)=0,\"\",'Détail des projets'!B655)","v":""},{"$f":"IF(LEN('Détail des projets'!C655)=0,\"\",'Détail des projets'!C655)","v":""},{"$f":"IF(LEN('Détail des projets'!G655)=0,\"\",'Détail des projets'!G655)","v":""},{"$f":"IF(LEN('Détail des projets'!K655)=0,\"\",'Détail des projets'!K655)","v":""}]
[null,{"$f":"IF(LEN('Détail des projets'!B656)=0,\"\",'Détail des projets'!B656)","v":""},{"$f":"IF(LEN('Détail des projets'!C656)=0,\"\",'Détail des projets'!C656)","v":""},{"$f":"IF(LEN('Détail des projets'!G656)=0,\"\",'Détail des projets'!G656)","v":""},{"$f":"IF(LEN('Détail des projets'!K656)=0,\"\",'Détail des projets'!K656)","v":""}]
[null,{"$f":"IF(LEN('Détail des projets'!B657)=0,\"\",'Détail des projets'!B657)","v":""},{"$f":"IF(LEN('Détail des projets'!C657)=0,\"\",'Détail des projets'!C657)","v":""},{"$f":"IF(LEN('Détail des projets'!G657)=0,\"\",'Détail des projets'!G657)","v":""},{"$f":"IF(LEN('Détail des projets'!K657)=0,\"\",'Détail des projets'!K657)","v":""}]
[null,{"$f":"IF(LEN('Détail des projets'!B658)=0,\"\",'Détail des projets'!B658)","v":""},{"$f":"IF(LEN('Détail des projets'!C658)=0,\"\",'Détail des projets'!C658)","v":""},{"$f":"IF(LEN('Détail des projets'!G658)=0,\"\",'Détail des projets'!G658)","v":""},{"$f":"IF(LEN('Détail des projets'!K658)=0,\"\",'Détail des projets'!K658)","v":""}]
[null,{"$f":"IF(LEN('Détail des projets'!B659)=0,\"\",'Détail des projets'!B659)","v":""},{"$f":"IF(LEN('Détail des projets'!C659)=0,\"\",'Détail des projets'!C659)","v":""},{"$f":"IF(LEN('Détail des projets'!G659)=0,\"\",'Détail des projets'!G659)","v":""},{"$f":"IF(LEN('Détail des projets'!K659)=0,\"\",'Détail des projets'!K659)","v":""}]
[null,{"$f":"IF(LEN('Détail des projets'!B660)=0,\"\",'Détail des projets'!B660)","v":""},{"$f":"IF(LEN('Détail des projets'!C660)=0,\"\",'Détail des projets'!C660)","v":""},{"$f":"IF(LEN('Détail des projets'!G660)=0,\"\",'Détail des projets'!G660)","v":""},{"$f":"IF(LEN('Détail des projets'!K660)=0,\"\",'Détail des projets'!K660)","v":""}]
[null,"TOTAL (tonnes CO2 éq.)",null,null,null,0,null,null,null,null,null,null,null,null,null,{"$f":"SUM(P25:P660)","v":4.1871378216612003},0,1225.1410002257373,0,9239.8152258119335,0,16977.331285886055,0,31430.161226258584,0,48210.830340023967,0,63492.762650375822,0,75359.867242437322,0,77867.667305325769,0,{"$f":"SUM(AH25:AH49)","v":0},0,0,0,0,0]
[]
[]
[]
[]
[]
[]
[]
[]
[]
[]
[]
[]
[]
[]
[]
[]
[]
[]
[null," TOTAL (tonnes CO2 éq.)"]

{"sheet":"Indicateurs","index":5,"n_rows":292,"n_cols":43,"rows_kept":292,"cut":false,"hidden":false,"merged":[[1,1,1,5],[1,7,1,8],[2,7,5,20],[152,1,152,4],[68,1,68,4],[70,1,72,3],[73,1,75,3],[69,1,69,3],[22,21,23,21],[2,1,2,3],[5,1,5,5],[3,2,3,5],[4,2,4,5],[22,19,23,19],[21,1,21,5],[22,18,23,18],[22,3,23,3],[22,4,23,4],[22,1,23,1],[22,2,23,2],[22,5,23,5],[68,5,68,20],[1,18,1,19],[19,1,19,3],[155,18,155,19],[155,9,155,10],[156,18,156,19],[156,9,156,10],[154,9,154,10],[153,9,153,10],[155,1,155,2],[155,7,155,8],[155,5,155,6],[154,5,154,6],[153,5,153,6],[154,7,154,8],[153,7,153,8],[156,5,156,6],[156,1,156,2],[156,7,156,8],[154,18,154,19],[155,11,155,13],[156,11,156,13],[153,11,154,15],[157,1,157,2],[157,5,157,6],[157,7,157,8],[157,9,157,10],[157,18,157,19],[172,1,172,2],[173,1,173,2],[174,1,174,2],[158,1,158,2],[159,1,159,2],[160,1,160,2],[161,1,161,2],[162,1,162,2],[163,1,163,2],[164,1,164,2],[165,1,165,2],[166,1,166,2],[167,1,167,2],[168,1,168,2],[169,1,169,2],[170,1,170,2],[171,1,171,2],[158,5,158,6],[159,5,159,6],[175,1,175,2],[176,1,176,2],[177,1,177,2],[178,1,178,2],[179,1,179,2],[274,18,274,19],[275,1,275,2],[275,5,275,6],[275,7,275,8],[275,9,275,10],[275,18,275,19],[274,1,274,2],[274,5,274,6],[274,7,274,8],[274,9,274,10],[181,1,181,2],[182,1,182,2],[183,1,183,2],[184,1,184,2],[185,1,185,2],[180,1,180,2],[191,1,191,2],[192,1,192,2],[193,1,193,2],[276,18,276,19],[277,1,277,2],[277,5,277,6],[277,7,277,8],[277,9,277,10],[277,18,277,19],[276,1,276,2],[276,5,276,6],[276,7,276,8],[276,9,276,10],[277,11,277,13],[276,11,276,13],[278,18,278,19],[279,1,279,2],[279,5,279,6],[279,7,279,8],[279,9,279,10],[279,18,279,19],[278,1,278,2],[278,5,278,6],[278,7,278,8],[278,9,278,10],[278,11,278,13],[279,11,279,13],[280,18,280,19],[281,1,281,2],[281,5,281,6],[281,7,281,8],[281,9,281,10],[281,18,281,19],[280,1,280,2],[280,5,280,6],[280,7,280,8],[280,9,280,10],[280,11,280,13],[281,11,281,13],[282,18,282,19],[283,1,283,2],[283,5,283,6],[283,7,283,8],[283,9,283,10],[283,18,283,19],[282,1,282,2],[282,5,282,6],[282,7,282,8],[282,9,282,10],[283,11,283,13],[282,11,282,13],[284,18,284,19],[285,1,285,2],[285,5,285,6],[285,7,285,8],[285,9,285,10],[285,18,285,19],[284,1,284,2],[284,5,284,6],[284,7,284,8],[284,9,284,10],[284,11,284,13],[285,11,285,13],[286,18,286,19],[287,1,287,2],[287,5,287,6],[287,7,287,8],[287,9,287,10],[287,18,287,19],[286,1,286,2],[286,5,286,6],[286,7,286,8],[286,9,286,10],[286,11,286,13],[287,11,287,13],[290,18,290,19],[291,1,291,20],[290,1,290,2],[290,5,290,6],[290,7,290,8],[290,9,290,10],[288,18,288,19],[289,1,289,2],[289,5,289,6],[289,7,289,8],[289,9,289,10],[289,18,289,19],[288,1,288,2],[288,5,288,6],[288,7,288,8],[288,9,288,10],[288,11,288,13],[289,11,289,13],[290,11,290,13],[194,1,194,2],[195,1,195,2],[186,1,186,2],[187,1,187,2],[188,1,188,2],[189,1,189,2],[190,1,190,2],[201,1,201,2],[202,1,202,2],[203,1,203,2],[204,1,204,2],[205,1,205,2],[196,1,196,2],[197,1,197,2],[198,1,198,2],[199,1,199,2],[200,1,200,2],[211,1,211,2],[212,1,212,2],[213,1,213,2],[214,1,214,2],[215,1,215,2],[206,1,206,2],[207,1,207,2],[208,1,208,2],[209,1,209,2],[210,1,210,2],[221,1,221,2],[222,1,222,2],[223,1,223,2],[224,1,224,2],[225,1,225,2],[216,1,216,2],[217,1,217,2],[218,1,218,2],[219,1,219,2],[220,1,220,2],[231,1,231,2],[232,1,232,2],[233,1,233,2],[234,1,234,2],[235,1,235,2],[226,1,226,2],[227,1,227,2],[228,1,228,2],[229,1,229,2],[230,1,230,2],[241,1,241,2],[242,1,242,2],[243,1,243,2],[244,1,244,2],[245,1,245,2],[236,1,236,2],[237,1,237,2],[238,1,238,2],[239,1,239,2],[240,1,240,2],[252,1,252,2],[253,1,253,2],[254,1,254,2],[255,1,255,2],[246,1,246,2],[247,1,247,2],[248,1,248,2],[249,1,249,2],[250,1,250,2],[160,5,160,6],[161,5,161,6],[162,5,162,6],[272,1,272,2],[273,1,273,2],[267,1,267,2],[268,1,268,2],[269,1,269,2],[261,1,261,2],[262,1,262,2],[263,1,263,2],[270,1,270,2],[271,1,271,2],[266,1,266,2],[265,1,265,2],[264,1,264,2],[256,1,256,2],[257,1,257,2],[258,1,258,2],[259,1,259,2],[260,1,260,2],[251,1,251,2],[168,5,168,6],[169,5,169,6],[170,5,170,6],[171,5,171,6],[172,5,172,6],[163,5,163,6],[164,5,164,6],[165,5,165,6],[166,5,166,6],[167,5,167,6],[178,5,178,6],[179,5,179,6],[180,5,180,6],[181,5,181,6],[182,5,182,6],[173,5,173,6],[174,5,174,6],[175,5,175,6],[176,5,176,6],[177,5,177,6],[188,5,188,6],[189,5,189,6],[190,5,190,6],[191,5,191,6],[192,5,192,6],[183,5,183,6],[184,5,184,6],[185,5,185,6],[186,5,186,6],[187,5,187,6],[198,5,198,6],[199,5,199,6],[200,5,200,6],[201,5,201,6],[202,5,202,6],[193,5,193,6],[194,5,194,6],[195,5,195,6],[196,5,196,6],[197,5,197,6],[208,5,208,6],[209,5,209,6],[210,5,210,6],[211,5,211,6],[212,5,212,6],[203,5,203,6],[204,5,204,6],[205,5,205,6],[206,5,206,6],[207,5,207,6],[218,5,218,6],[219,5,219,6],[220,5,220,6],[221,5,221,6],[222,5,222,6],[213,5,213,6],[214,5,214,6],[215,5,215,6],[216,5,216,6],[217,5,217,6],[228,5,228,6],[229,5,229,6],[230,5,230,6],[231,5,231,6],[232,5,232,6],[223,5,223,6],[224,5,224,6],[225,5,225,6],[226,5,226,6],[227,5,227,6],[238,5,238,6],[239,5,239,6],[240,5,240,6],[241,5,241,6],[242,5,242,6],[233,5,233,6],[234,5,234,6],[235,5,235,6],[236,5,236,6],[237,5,237,6],[248,5,248,6],[249,5,249,6],[250,5,250,6],[251,5,251,6],[252,5,252,6],[243,5,243,6],[244,5,244,6],[245,5,245,6],[246,5,246,6],[247,5,247,6],[266,5,266,6],[267,5,267,6],[258,5,258,6],[259,5,259,6],[260,5,260,6],[261,5,261,6],[262,5,262,6],[253,5,253,6],[254,5,254,6],[255,5,255,6],[256,5,256,6],[257,5,257,6],[273,5,273,6],[229,7,229,8],[230,7,230,8],[231,7,231,8],[232,7,232,8],[233,7,233,8],[234,7,234,8],[235,7,235,8],[236,7,236,8],[237,7,237,8],[238,7,238,8],[239,7,239,8],[240,7,240,8],[241,7,241,8],[242,7,242,8],[243,7,243,8],[268,5,268,6],[269,5,269,6],[270,5,270,6],[271,5,271,6],[272,5,272,6],[263,5,263,6],[264,5,264,6],[265,5,265,6],[249,7,249,8],[250,7,250,8],[251,7,251,8],[252,7,252,8],[253,7,253,8],[244,7,244,8],[245,7,245,8],[246,7,246,8],[247,7,247,8],[248,7,248,8],[259,7,259,8],[260,7,260,8],[261,7,261,8],[262,7,262,8],[263,7,263,8],[254,7,254,8],[255,7,255,8],[256,7,256,8],[257,7,257,8],[258,7,258,8],[269,7,269,8],[270,7,270,8],[271,7,271,8],[272,7,272,8],[273,7,273,8],[264,7,264,8],[265,7,265,8],[266,7,266,8],[267,7,267,8],[268,7,268,8],[228,7,228,8],[208,7,208,8],[209,7,209,8],[210,7,210,8],[211,7,211,8],[212,7,212,8],[213,7,213,8],[214,7,214,8],[215,7,215,8],[216,7,216,8],[222,7,222,8],[223,7,223,8],[224,7,224,8],[225,7,225,8],[226,7,226,8],[217,7,217,8],[218,7,218,8],[219,7,219,8],[220,7,220,8],[221,7,221,8],[203,7,203,8],[204,7,204,8],[200,7,200,8],[201,7,201,8],[202,7,202,8],[205,7,205,8],[206,7,206,8],[207,7,207,8],[227,7,227,8],[170,7,170,8],[171,7,171,8],[172,7,172,8],[173,7,173,8],[174,7,174,8],[175,7,175,8],[176,7,176,8],[177,7,177,8],[178,7,178,8],[179,7,179,8],[180,7,180,8],[181,7,181,8],[182,7,182,8],[195,7,195,8],[196,7,196,8],[197,7,197,8],[198,7,198,8],[199,7,199,8],[190,7,190,8],[191,7,191,8],[192,7,192,8],[193,7,193,8],[194,7,194,8],[185,7,185,8],[186,7,186,8],[187,7,187,8],[188,7,188,8],[189,7,189,8],[158,9,158,10],[159,9,159,10],[160,9,160,10],[161,9,161,10],[162,9,162,10],[183,7,183,8],[184,7,184,8],[158,7,158,8],[159,7,159,8],[160,7,160,8],[161,7,161,8],[162,7,162,8],[163,7,163,8],[164,7,164,8],[165,7,165,8],[166,7,166,8],[167,7,167,8],[168,7,168,8],[169,7,169,8],[168,9,168,10],[169,9,169,10],[170,9,170,10],[171,9,171,10],[172,9,172,10],[163,9,163,10],[164,9,164,10],[165,9,165,10],[166,9,166,10],[167,9,167,10],[178,9,178,10],[179,9,179,10],[180,9,180,10],[181,9,181,10],[195,9,195,10],[196,9,196,10],[197,9,197,10],[182,9,182,10],[173,9,173,10],[174,9,174,10],[175,9,175,10],[176,9,176,10],[177,9,177,10],[188,9,188,10],[189,9,189,10],[190,9,190,10],[209,9,209,10],[210,9,210,10],[211,9,211,10],[212,9,212,10],[208,9,208,10],[191,9,191,10],[192,9,192,10],[183,9,183,10],[184,9,184,10],[185,9,185,10],[186,9,186,10],[187,9,187,10],[198,9,198,10],[199,9,199,10],[203,9,203,10],[204,9,204,10],[205,9,205,10],[206,9,206,10],[207,9,207,10],[200,9,200,10],[201,9,201,10],[202,9,202,10],[193,9,193,10],[194,9,194,10],[218,9,218,10],[219,9,219,10],[220,9,220,10],[221,9,221,10],[222,9,222,10],[213,9,213,10],[214,9,214,10],[215,9,215,10],[216,9,216,10],[217,9,217,10],[228,9,228,10],[229,9,229,10],[230,9,230,10],[231,9,231,10],[232,9,232,10],[223,9,223,10],[224,9,224,10],[225,9,225,10],[226,9,226,10],[227,9,227,10],[238,9,238,10],[239,9,239,10],[240,9,240,10],[241,9,241,10],[242,9,242,10],[233,9,233,10],[234,9,234,10],[235,9,235,10],[236,9,236,10],[237,9,237,10],[248,9,248,10],[249,9,249,10],[250,9,250,10],[251,9,251,10],[252,9,252,10],[243,9,243,10],[244,9,244,10],[245,9,245,10],[246,9,246,10],[247,9,247,10],[258,9,258,10],[259,9,259,10],[260,9,260,10],[261,9,261,10],[262,9,262,10],[253,9,253,10],[254,9,254,10],[255,9,255,10],[256,9,256,10],[257,9,257,10],[273,9,273,10],[268,9,268,10],[269,9,269,10],[270,9,270,10],[271,9,271,10],[272,9,272,10],[263,9,263,10],[264,9,264,10],[265,9,265,10],[266,9,266,10],[267,9,267,10],[198,11,198,13],[199,11,199,13],[200,11,200,13],[201,11,201,13],[175,11,175,13],[176,11,176,13],[177,11,177,13],[178,11,178,13],[179,11,179,13],[180,11,180,13],[181,11,181,13],[182,11,182,13],[189,11,189,13],[190,11,190,13],[191,11,191,13],[192,11,192,13],[193,11,193,13],[194,11,194,13],[195,11,195,13],[196,11,196,13],[197,11,197,13],[251,11,251,13],[252,11,252,13],[232,11,232,13],[222,11,222,13],[255,11,255,13],[203,11,203,13],[204,11,204,13],[205,11,205,13],[206,11,206,13],[207,11,207,13],[208,11,208,13],[209,11,209,13],[210,11,210,13],[211,11,211,13],[212,11,212,13],[213,11,213,13],[214,11,214,13],[215,11,215,13],[216,11,216,13],[217,11,217,13],[218,11,218,13],[219,11,219,13],[220,11,220,13],[221,11,221,13],[167,18,167,19],[168,18,168,19],[169,18,169,19],[170,18,170,19],[171,18,171,19],[172,18,172,19],[263,11,263,13],[264,11,264,13],[238,11,238,13],[239,11,239,13],[240,11,240,13],[241,11,241,13],[242,11,242,13],[233,11,233,13],[234,11,234,13],[235,11,235,13],[236,11,236,13],[237,11,237,13],[256,11,256,13],[257,11,257,13],[258,11,258,13],[259,11,259,13],[253,11,253,13],[254,11,254,13],[158,18,158,19],[159,18,159,19],[160,18,160,19],[161,18,161,19],[162,18,162,19],[163,18,163,19],[164,18,164,19],[165,18,165,19],[166,18,166,19],[178,18,178,19],[179,18,179,19],[180,18,180,19],[181,18,181,19],[182,18,182,19],[173,18,173,19],[174,18,174,19],[175,18,175,19],[176,18,176,19],[177,18,177,19],[188,18,188,19],[189,18,189,19],[190,18,190,19],[191,18,191,19],[192,18,192,19],[183,18,183,19],[184,18,184,19],[185,18,185,19],[186,18,186,19],[187,18,187,19],[198,18,198,19],[199,18,199,19],[200,18,200,19],[201,18,201,19],[202,18,202,19],[193,18,193,19],[194,18,194,19],[195,18,195,19],[196,18,196,19],[197,18,197,19],[208,18,208,19],[209,18,209,19],[210,18,210,19],[211,18,211,19],[212,18,212,19],[203,18,203,19],[204,18,204,19],[205,18,205,19],[206,18,206,19],[207,18,207,19],[218,18,218,19],[219,18,219,19],[220,18,220,19],[221,18,221,19],[222,18,222,19],[213,18,213,19],[214,18,214,19],[215,18,215,19],[216,18,216,19],[217,18,217,19],[228,18,228,19],[229,18,229,19],[230,18,230,19],[231,18,231,19],[232,18,232,19],[223,18,223,19],[224,18,224,19],[225,18,225,19],[226,18,226,19],[227,18,227,19],[238,18,238,19],[239,18,239,19],[240,18,240,19],[241,18,241,19],[242,18,242,19],[233,18,233,19],[234,18,234,19],[235,18,235,19],[236,18,236,19],[237,18,237,19],[257,18,257,19],[248,18,248,19],[249,18,249,19],[250,18,250,19],[251,18,251,19],[252,18,252,19],[243,18,243,19],[244,18,244,19],[245,18,245,19],[246,18,246,19],[247,18,247,19],[273,18,273,19],[153,1,154,2],[153,3,154,3],[153,4,154,4],[153,18,153,19],[268,18,268,19],[269,18,269,19],[270,18,270,19],[271,18,271,19],[272,18,272,19],[263,18,263,19],[264,18,264,19],[265,18,265,19],[266,18,266,19],[267,18,267,19],[258,18,258,19],[259,18,259,19],[260,18,260,19],[261,18,261,19],[262,18,262,19],[253,18,253,19],[254,18,254,19],[255,18,255,19],[256,18,256,19],[163,11,163,13],[164,11,164,13],[165,11,165,13],[243,11,243,13],[244,11,244,13],[245,11,245,13],[246,11,246,13],[247,11,247,13],[226,11,226,13],[227,11,227,13],[228,11,228,13],[229,11,229,13],[230,11,230,13],[231,11,231,13],[223,11,223,13],[224,11,224,13],[225,11,225,13],[202,11,202,13],[183,11,183,13],[184,11,184,13],[185,11,185,13],[186,11,186,13],[187,11,187,13],[188,11,188,13],[260,11,260,13],[265,11,265,13],[266,11,266,13],[267,11,267,13],[268,11,268,13],[269,11,269,13],[270,11,270,13],[271,11,271,13],[272,11,272,13],[19,4,19,5],[157,11,157,13],[158,11,158,13],[159,11,159,13],[160,11,160,13],[161,11,161,13],[162,11,162,13],[274,11,274,13],[275,11,275,13],[273,11,273,13],[166,11,166,13],[167,11,167,13],[168,11,168,13],[169,11,169,13],[170,11,170,13],[171,11,171,13],[172,11,172,13],[173,11,173,13],[174,11,174,13],[261,11,261,13],[262,11,262,13],[248,11,248,13],[249,11,249,13],[250,11,250,13]]}
[]
[null,{"$f":"Utilitaire!E8","v":"Plan d'action 2013-2020 sur les changements climatiques"}]
[null,{"$f":"\"Action \" & Accueil!D58","v":"Action en cours"}]
[null,{"$f":"Accueil!D55","v":"20.1"},{"$f":"Accueil!E55","v":"Conversion et efficacité énergétique dans les bâtiments commerciaux et institutionnels (Écoperformance)"}]
[null,"Ministère porteur:",{"$f":"Accueil!$D$65","v":"MERN (SITE)"}]
[null,"Indicateurs"]
[]
[]
[]
[]
[]
[]
[]
[]
[]
[]
[]
[]
[]
[null,"Informations en date du :",null,null,"2022-03-31"]
[]
[null,"INDICATEURS DE PERFORMANCE",null,null,null,null,null,{"$f":"IF(OR(AND(MONTH(#REF!)>6,YEAR(#REF!)=VALUE(MID(G23,1,4))),YEAR(#REF!)>VALUE(MID(G23,1,4))),\"Réel\",\"Prévu\")","v":{"$error":"#REF!"}},{"$f":"IF(OR(AND(MONTH(#REF!)>6,YEAR(#REF!)=VALUE(MID(H23,1,4))),YEAR(#REF!)>VALUE(MID(H23,1,4))),\"Réel\",\"Prévu\")","v":{"$error":"#REF!"}},{"$f":"IF(OR(AND(MONTH(#REF!)>6,YEAR(#REF!)=VALUE(MID(I23,1,4))),YEAR(#REF!)>VALUE(MID(I23,1,4))),\"Réel\",\"Prévu\")","v":{"$error":"#REF!"}},{"$f":"IF(OR(AND(MONTH(#REF!)>6,YEAR(#REF!)=VALUE(MID(J23,1,4))),YEAR(#REF!)>VALUE(MID(J23,1,4))),\"Réel\",\"Prévu\")","v":{"$error":"#REF!"}},{"$f":"IF(OR(AND(MONTH(#REF!)>6,YEAR(#REF!)=VALUE(MID(K23,1,4))),YEAR(#REF!)>VALUE(MID(K23,1,4))),\"Réel\",\"Prévu\")","v":{"$error":"#REF!"}},{"$f":"IF(OR(AND(MONTH(#REF!)>6,YEAR(#REF!)=VALUE(MID(L23,1,4))),YEAR(#REF!)>VALUE(MID(L23,1,4))),\"Réel\",\"Prévu\")","v":{"$error":"#REF!"}},{"$f":"IF(OR(AND(MONTH(#REF!)>6,YEAR(#REF!)=VALUE(MID(M23,1,4))),YEAR(#REF!)>VALUE(MID(M23,1,4))),\"Réel\",\"Prévu\")","v":{"$error":"#REF!"}},{"$f":"IF(OR(AND(MONTH(#REF!)>6,YEAR(#REF!)=VALUE(MID(N23,1,4))),YEAR(#REF!)>VALUE(MID(N23,1,4))),\"Réel\",\"Prévu\")","v":{"$error":"#REF!"}},{"$f":"IF(OR(AND(MONTH(#REF!)>6,YEAR(#REF!)=VALUE(MID(O23,1,4))),YEAR(#REF!)>VALUE(MID(O23,1,4))),\"Réel\",\"Prévu\")","v":{"$error":"#REF!"}},{"$f":"IF(OR(AND(MONTH(#REF!)>6,YEAR(#REF!)=VALUE(MID(P23,1,4))),YEAR(#REF!)>VALUE(MID(P23,1,4))),\"Réel\",\"Prévu\")","v":{"$error":"#REF!"}},null,{"$f":"IF(OR(AND(MONTH(#REF!)>6,YEAR(#REF!)=VALUE(MID(Q23,1,4))),YEAR(#REF!)>VALUE(MID(Q23,1,4))),\"Réel\",\"Prévu\")","v":{"$error":"#REF!"}},{"$f":"MONTH(#REF!)","v":{"$error":"#REF!"}}]
[null,"Cible","Unité de mesure","Année prévue d'atteinte de la cible","Description de l'indicateur","Type d'indicateur","2013-2014","2014-2015","2015-2016","2016-2017","2017-2018","2018-2019","2019-2020","2020-2021","2021-2022","2022-2023","2023-2024","2024-2025","RÉSULTAT À COMPARER AVEC LA CIBLE","Pourcentage d'atteinte de la cible","Commentaires sur les résultats"]
[null,null,null,null,null,null,"Réel","Réel","Réel","Réel","Réel","Réel","Réel","Réel","Réel","Prévu","Prévu","Prévu",null,null,"(facultatif)"]
[1,null,null,null,null,null,{"$f":"PourcentageAvancementJbf(Utilitaire!C229,'Détail des projets'!O661,1000000*Accueil!$D$67)","v":0},{"$f":"PourcentageAvancementJbf(Utilitaire!D229,'Détail des projets'!P661,1000000*Accueil!$D$67)","v":2.1757051875788923E-2},{"$f":"PourcentageAvancementJbf(Utilitaire!E229,'Détail des projets'!Q661,1000000*Accueil!$D$67)","v":4.0842955318285412E-2},{"$f":"PourcentageAvancementJbf(Utilitaire!F229,'Détail des projets'!R661,1000000*Accueil!$D$67)","v":5.0890038035501399E-2},{"$f":"PourcentageAvancementJbf(Utilitaire!G229,'Détail des projets'!S661,1000000*Accueil!$D$67)","v":5.5668336590813466E-2},{"$f":"PourcentageAvancementJbf(Utilitaire!H229,'Détail des projets'!T661,1000000*Accueil!$D$67)","v":9.5644123956784705E-2},{"$f":"PourcentageAvancementJbf(Utilitaire!I229,'Détail des projets'!U661,1000000*Accueil!$D$67)","v":8.3036663227559607E-2},{"$f":"PourcentageAvancementJbf(Utilitaire!J229,'Détail des projets'!V661,1000000*Accueil!$D$67)","v":8.3322125651910939E-2},{"$f":"PourcentageAvancementJbf(Utilitaire!K229,'Détail des projets'!W661,1000000*Accueil!$D$67)","v":5.9098011174263672E-2},null,null,null,null,{"$f":"IF(COUNTA(B25)=1,IF(COUNTA(S25)=1,IF(F25=\"Minimum à atteindre\",IF(B25=0,IF(S25>0,1,0),S25/B25),IF(F25=\"Maximum à ne pas dépasser\",IF(B25=0,IF(S25<0,1,0),(B25-S25)/B25+1),IF(F25=\"Binaire\",IF(B25=S25,1,0),\"\"))),0),\"\")","v":""}]
[2,null,"emplois","2020","Emplois créés (aucune cible)",null,null,null,null,null,null,null,null,null,null,null,null,null,3969,{"$f":"IF(COUNTA(B26)=1,IF(COUNTA(S26)=1,IF(F26=\"Minimum à atteindre\",IF(B26=0,IF(S26>0,1,0),S26/B26),IF(F26=\"Maximum à ne pas dépasser\",IF(B26=0,IF(S26<0,1,0),(B26-S26)/B26+1),IF(F26=\"Binaire\",IF(B26=S26,1,0),\"\"))),0),\"\")","v":""},""]
[3,null,"dossiers","2020","Nombre de dossiers acceptés (aucune cible)",null,null,null,null,null,null,null,null,null,null,null,null,null,604,"",""]
[4,51000,"T/CO2","2020","Réduction annuelle des émissions de gaz à effet de serre (GES)","minimum à atteindre",4.1900000000000004,1225.1400000000001,9239.82,16977.330000000002,31430.16,48210.83,63492.76,75359.87,77867.67,null,null,null,77867.77,1.5268190196078433,""]
[5,51000,"T/CO2","2020","Réduction annuelle des émissions de gaz à effet de serre (GES) pour les dossiers en cours","minimum à atteindre",null,null,null,null,null,null,null,null,null,null,null,null,48598.37,0.95290921568627451,""]
[6,51000,"T/CO2","2020","Réduction annuelle des émissions de gaz à effet de serre (GES) pour les dossiers en traitement","minimum à atteindre",null,null,null,null,null,null,null,null,null,null,null,null,null,0,""]
[7,null,"$/tonne","2020","VAN/t",null,null,null,null,null,null,null,null,null,null,null,null,null,33.799999999999997,"",""]
[8,null,null,null,null,null,null,null,null,null,null,null,null,null,null,null,null,null,null,""]
[9,null,null,null,null,null,null,null,null,null,null,null,null,null,null,null,null,null,null,""]
[10,null,null,null,null,null,null,null,null,null,null,null,null,null,null,null,null,null,null,""]
[11,null,null,null,null,null,null,null,null,null,null,null,null,null,null,null,null,null,null,{"$f":"IF(COUNTA(B35)=1,IF(COUNTA(S35)=1,IF(F35=\"Minimum à atteindre\",IF(B35=0,IF(S35>0,1,0),S35/B35),IF(F35=\"Maximum à ne pas dépasser\",IF(B35=0,IF(S35<0,1,0),(B35-S35)/B35+1),IF(F35=\"Binaire\",IF(B35=S35,1,0),\"\"))),0),\"\")","v":""}]
[12,null,null,null,null,null,null,null,null,null,null,null,null,null,null,null,null,null,null,{"$f":"IF(COUNTA(B36)=1,IF(COUNTA(S36)=1,IF(F36=\"Minimum à atteindre\",IF(B36=0,IF(S36>0,1,0),S36/B36),IF(F36=\"Maximum à ne pas dépasser\",IF(B36=0,IF(S36<0,1,0),(B36-S36)/B36+1),IF(F36=\"Binaire\",IF(B36=S36,1,0),\"\"))),0),\"\")","v":""}]
[13,null,null,null,null,null,null,null,null,null,null,null,null,null,null,null,null,null,null,{"$f":"IF(COUNTA(B37)=1,IF(COUNTA(S37)=1,IF(F37=\"Minimum à atteindre\",IF(B37=0,IF(S37>0,1,0),S37/B37),IF(F37=\"Maximum à ne pas dépasser\",IF(B37=0,IF(S37<0,1,0),(B37-S37)/B37+1),IF(F37=\"Binaire\",IF(B37=S37,1,0),\"\"))),0),\"\")","v":""}]
[14,null,null,null,null,null,null,null,null,null,null,null,null,null,null,null,null,null,null,""]
[15,null,null,null,null,null,null,null,null,null,null,null,null,null,null,null,null,null,null,{"$f":"IF(COUNTA(B39)=1,IF(COUNTA(S39)=1,IF(F39=\"Minimum à atteindre\",IF(B39=0,IF(S39>0,1,0),S39/B39),IF(F39=\"Maximum à ne pas dépasser\",IF(B39=0,IF(S39<0,1,0),(B39-S39)/B39+1),IF(F39=\"Binaire\",IF(B39=S39,1,0),\"\"))),0),\"\")","v":""}]
[16,null,null,null,null,null,null,null,null,null,null,null,null,null,null,null,null,null,null,{"$f":"IF(COUNTA(B40)=1,IF(COUNTA(S40)=1,IF(F40=\"Minimum à atteindre\",IF(B40=0,IF(S40>0,1,0),S40/B40),IF(F40=\"Maximum à ne pas dépasser\",IF(B40=0,IF(S40<0,1,0),(B40-S40)/B40+1),IF(F40=\"Binaire\",IF(B40=S40,1,0),\"\"))),0),\"\")","v":""}]
[17,null,null,null,null,null,null,null,null,null,null,null,null,null,null,null,null,null,null,""]
[18,null,null,null,null,null,null,null,null,null,null,null,null,null,null,null,null,null,null,""]
[19,null,null,null,null,null,null,null,null,null,null,null,null,null,null,null,null,null,null,""]
[20,null,null,null,null,null,null,null,null,null,null,null,null,null,null,null,null,null,null,""]
[21,null,null,null,null,null,null,null,null,null,null,null,null,null,null,null,null,null,null,"",null,null,null,null,null,null,null,null,null,null,null,null,null,null,null,null,null,null,null,null,null,null,false]
[]
[]
[]
[]
[]
[]
[]
[]
[]
[]
[]
[]
[]
[]
[]
[]
[]
[]
[]
[]
[]
[]
[]
[null,"PRÉVISIONS DES RETOMBÉES SUR LES RÉDUCTIONS DES ÉMISSIONS DE GES",null,null,null,"Ce tableau et les résultats par action qu'il contient ne seront pas publiés. L'objectif est de permettre une appréciation à l'échelle du PACC des résultats escomptés. Veuillez le compléter et vérifier l'information qui y est contenue, au meilleur de vos connaissances et avec l'information dont vous disposez."]
[null,"Niveau de certitude",null,null,"Lieu",2020,2021,2022,2023,2024,2025,2026,2030,2035,2036,2038,2029,2031,2040,2050,"Commentaires sur les résultats"]
[null,"Pérennité des réductions d'émissions de GES réalisées à ce jour \n(T éq. CO2)",null,null,"Au Québec",null,null,null,null,null,null,null,null,null,null,null,null,null,null,null,""]
[null,null,null,null,"Hors Québec",null,null,null,null,null,null,null,null,null,null,null,null,null,null,null,""]
[null,null,null,null,"Non distingué",null,null,null,null,null,null,null,null,null,null,null,null,null,null,null,""]
[null,"Développement du potentiel de réduction des émissions de GES pour le futur \n(T éq. CO2)",null,null,"Au Québec",null,null,null,null,null,null,null,null,null,null,null,null,null,null,null,""]
[null,null,null,null,"Hors Québec",null,null,null,null,null,null,null,null,null,null,null,null,null,null,null,""]
[null,null,null,null,"Non distingué",null,null,null,null,null,null,null,null,null,null,null,null,null,null,null,""]
[]
[]
[]
[]
[]
[]
[]
[]
[]
[]
[]
[]
[]
[]
[]
[]
[]
[]
[]
[]
[]
[]
[]
[]
[]
[]
[]
[]
[]
[]
[]
[]
[]
[]
[]
[]
[]
[]
[]
[]
[]
[]
[]
[]
[]
[]
[]
[]
[]
[]
[]
[]
[]
[]
[]
[]
[]
[]
[]
[]
[]
[]
[]
[]
[]
[]
[]
[]
[]
[]
[]
[]
[]
[]
[]
[]
[null,"ADAPTATION AUX EFFETS DES CHANGEMENTS CLIMATIQUES"]
[null,"Solutions d'adaptation proposées",null,"Lignes concernées de l'onglet Détail des projets","Étape","Ajustements",null,"Risques",null,"Effets des changements climatiques",null,"Région",null,null,null,null,null,null,"Échelle humaine",null,"Échelle environnementale"]
[null,null,null,null,null,"La solution agit sur : ",null,"afin de protéger : ",null,"de :",null,null,null,null,null,null,null,null,"(estimation du nombre de personnes desservies)",null,"(estimation du nombre d'espèces desservies)"]
[null,null,null,25]
[null,null,null,26]
[null,null,null,27]
[null,null,null,28]
[null,null,null,29]
[null,null,null,30]
[null,null,null,31]
[null,null,null,32]
[]
[]
[]
[]
[]
[]
[]
[]
[]
[]
[]
[]
[]
[]
[]
[]
[]
[]
[]
[]
[]
[]
[]
[]
[]
[]
[]
[]
[]
[]
[]
[]
[]
[]
[]
[]
[]
[]
[]
[]
[]
[]
[]
[]
[]
[]
[]
[]
[]
[]
[]
[]
[]
[]
[]
[]
[]
[]
[]
[]
[]
[]
[]
[]
[]
[]
[]
[]
[]
[]
[]
[]
[]
[]
[]
[]
[]
[]
[]
[]
[]
[]
[]
[]
[]
[]
[]
[]
[]
[]
[]
[]
[]
[]
[]
[]
[]
[]
[]
[]
[]
[]
[]
[]
[]
[]
[]
[]
[]
[]
[]
[]
[]
[]
[]
[]
[]
[]
[]
[]
[]
[]
[]
[]
[]
[]
[]
[]
[null,"Ajouter une ligne"]

{"sheet":"Évaluation","index":6,"n_rows":222,"n_cols":14,"rows_kept":222,"cut":false,"hidden":true,"merged":[[1,7,1,11],[1,1,1,5],[210,1,211,1],[210,2,211,2],[210,3,210,13],[211,3,211,13],[143,3,143,4],[143,5,143,7],[143,8,143,9],[143,10,143,11],[136,1,136,2],[136,3,136,4],[136,5,136,7],[136,8,136,9],[136,10,136,11],[142,1,142,2],[142,3,142,4],[142,5,142,7],[142,8,142,9],[142,10,142,11],[141,1,141,2],[141,3,141,4],[141,5,141,7],[141,8,141,9],[137,8,137,9],[137,10,137,11],[135,1,135,2],[135,3,135,4],[135,5,135,7],[135,8,135,9],[135,10,135,11],[134,1,134,2],[134,3,134,4],[134,5,134,7],[134,8,134,9],[134,10,134,11],[133,1,133,2],[133,3,133,4],[133,5,133,7],[133,8,133,9],[133,10,133,11],[132,1,132,2],[132,3,132,4],[132,5,132,7],[132,8,132,9],[132,10,132,11],[131,1,131,2],[131,3,131,4],[131,5,131,7],[131,8,131,9],[131,10,131,11],[130,1,130,2],[130,3,130,4],[130,5,130,7],[130,8,130,9],[130,10,130,11],[129,1,129,2],[129,3,129,4],[129,5,129,7],[129,8,129,9],[129,10,129,11],[128,1,128,2],[128,3,128,4],[128,5,128,7],[128,8,128,9],[128,10,128,11],[127,1,127,2],[127,3,127,4],[127,5,127,7],[127,8,127,9],[127,10,127,11],[126,1,126,2],[126,3,126,4],[126,5,126,7],[126,8,126,9],[126,10,126,11],[125,1,125,2],[125,3,125,4],[125,5,125,7],[125,8,125,9],[125,10,125,11],[124,1,124,2],[124,3,124,4],[124,5,124,7],[124,8,124,9],[124,10,124,11],[123,1,123,2],[123,3,123,4],[123,5,123,7],[123,8,123,9],[123,10,123,11],[122,1,122,2],[122,3,122,4],[122,5,122,7],[122,8,122,9],[122,10,122,11],[121,1,121,2],[121,3,121,4],[121,5,121,7],[121,8,121,9],[121,10,121,11],[120,1,120,2],[120,3,120,4],[120,5,120,7],[120,8,120,9],[120,10,120,11],[119,1,119,2],[119,3,119,4],[119,5,119,7],[119,8,119,9],[119,10,119,11],[118,1,118,2],[118,3,118,4],[118,5,118,7],[118,8,118,9],[118,10,118,11],[117,1,117,2],[117,3,117,4],[117,5,117,7],[117,8,117,9],[117,10,117,11],[116,1,116,2],[116,3,116,4],[116,5,116,7],[116,8,116,9],[116,10,116,11],[115,1,115,2],[115,3,115,4],[115,5,115,7],[115,8,115,9],[115,10,115,11],[114,1,114,2],[114,3,114,4],[114,5,114,7],[114,8,114,9],[114,10,114,11],[113,1,113,2],[113,3,113,4],[113,5,113,7],[113,8,113,9],[113,10,113,11],[112,1,112,2],[112,3,112,4],[112,5,112,7],[112,8,112,9],[112,10,112,11],[111,1,111,2],[111,3,111,4],[111,5,111,7],[111,8,111,9],[111,10,111,11],[110,1,110,2],[110,3,110,4],[110,5,110,7],[110,8,110,9],[110,10,110,11],[109,1,109,2],[109,3,109,4],[109,5,109,7],[109,8,109,9],[109,10,109,11],[108,1,108,2],[108,3,108,4],[108,5,108,7],[108,8,108,9],[108,10,108,11],[107,1,107,2],[107,3,107,4],[107,5,107,7],[107,8,107,9],[107,10,107,11],[106,1,106,2],[106,3,106,4],[106,5,106,7],[106,8,106,9],[106,10,106,11],[105,1,105,2],[105,3,105,4],[105,5,105,7],[105,8,105,9],[105,10,105,11],[104,1,104,2],[104,3,104,4],[104,5,104,7],[104,8,104,9],[104,10,104,11],[103,1,103,2],[103,3,103,4],[103,5,103,7],[103,8,103,9],[103,10,103,11],[102,1,102,2],[102,3,102,4],[102,5,102,7],[102,8,102,9],[102,10,102,11],[101,1,101,2],[101,3,101,4],[101,5,101,7],[101,8,101,9],[101,10,101,11],[100,1,100,2],[100,3,100,4],[100,5,100,7],[100,8,100,9],[100,10,100,11],[99,1,99,2],[99,3,99,4],[99,5,99,7],[99,8,99,9],[99,10,99,11],[98,1,98,2],[98,3,98,4],[98,5,98,7],[98,8,98,9],[98,10,98,11],[97,1,97,2],[97,3,97,4],[97,5,97,7],[97,8,97,9],[97,10,97,11],[96,1,96,2],[96,3,96,4],[96,5,96,7],[96,8,96,9],[96,10,96,11],[95,1,95,2],[95,3,95,4],[95,5,95,7],[95,8,95,9],[95,10,95,11],[94,1,94,2],[94,3,94,4],[94,5,94,7],[94,8,94,9],[94,10,94,11],[93,1,93,2],[93,3,93,4],[93,5,93,7],[93,8,93,9],[93,10,93,11],[92,1,92,2],[92,3,92,4],[92,5,92,7],[92,8,92,9],[92,10,92,11],[91,1,91,2],[91,3,91,4],[91,5,91,7],[91,8,91,9],[91,10,91,11],[90,1,90,2],[90,3,90,4],[90,5,90,7],[90,8,90,9],[90,10,90,11],[89,1,89,2],[89,3,89,4],[89,5,89,7],[89,8,89,9],[89,10,89,11],[88,1,88,2],[88,3,88,4],[88,5,88,7],[88,8,88,9],[88,10,88,11],[87,1,87,2],[87,3,87,4],[87,5,87,7],[87,8,87,9],[87,10,87,11],[86,1,86,2],[86,3,86,4],[86,5,86,7],[86,8,86,9],[86,10,86,11],[85,1,85,2],[85,3,85,4],[85,5,85,7],[85,8,85,9],[85,10,85,11],[84,1,84,2],[84,3,84,4],[84,5,84,7],[84,8,84,9],[84,10,84,11],[83,1,83,2],[83,3,83,4],[83,5,83,7],[83,8,83,9],[83,10,83,11],[82,1,82,2],[82,3,82,4],[82,5,82,7],[82,8,82,9],[82,10,82,11],[81,1,81,2],[81,3,81,4],[81,5,81,7],[81,8,81,9],[81,10,81,11],[80,1,80,2],[80,3,80,4],[80,5,80,7],[80,8,80,9],[80,10,80,11],[79,1,79,2],[79,3,79,4],[79,5,79,7],[79,8,79,9],[79,10,79,11],[78,1,78,2],[78,3,78,4],[78,5,78,7],[78,8,78,9],[78,10,78,11],[77,1,77,2],[77,3,77,4],[77,5,77,7],[77,8,77,9],[77,10,77,11],[76,1,76,2],[76,3,76,4],[76,5,76,7],[76,8,76,9],[76,10,76,11],[75,1,75,2],[75,3,75,4],[75,5,75,7],[75,8,75,9],[75,10,75,11],[74,1,74,2],[74,3,74,4],[74,5,74,7],[74,8,74,9],[74,10,74,11],[73,1,73,2],[73,3,73,4],[73,5,73,7],[73,8,73,9],[73,10,73,11],[72,1,72,2],[72,3,72,4],[72,5,72,7],[72,8,72,9],[72,10,72,11],[71,1,71,2],[71,3,71,4],[71,5,71,7],[71,8,71,9],[71,10,71,11],[70,1,70,2],[70,3,70,4],[70,5,70,7],[70,8,70,9],[70,10,70,11],[69,1,69,2],[69,3,69,4],[69,5,69,7],[69,8,69,9],[69,10,69,11],[68,1,68,2],[68,3,68,4],[68,5,68,7],[68,8,68,9],[68,10,68,11],[67,1,67,2],[67,3,67,4],[67,5,67,7],[67,8,67,9],[67,10,67,11],[66,1,66,2],[66,3,66,4],[66,5,66,7],[66,8,66,9],[66,10,66,11],[65,1,65,2],[65,3,65,4],[65,5,65,7],[65,8,65,9],[65,10,65,11],[64,1,64,2],[64,3,64,4],[64,5,64,7],[64,8,64,9],[64,10,64,11],[63,1,63,2],[63,3,63,4],[63,5,63,7],[63,8,63,9],[63,10,63,11],[62,1,62,2],[62,3,62,4],[62,5,62,7],[62,8,62,9],[62,10,62,11],[61,1,61,2],[61,3,61,4],[61,5,61,7],[61,8,61,9],[61,10,61,11],[60,1,60,2],[60,3,60,4],[60,5,60,7],[60,8,60,9],[60,10,60,11],[59,1,59,2],[59,3,59,4],[59,5,59,7],[59,8,59,9],[59,10,59,11],[58,1,58,2],[58,3,58,4],[58,5,58,7],[58,8,58,9],[58,10,58,11],[57,1,57,2],[57,3,57,4],[57,5,57,7],[57,8,57,9],[57,10,57,11],[56,1,56,2],[56,3,56,4],[56,5,56,7],[56,8,56,9],[56,10,56,11],[55,1,55,2],[55,3,55,4],[55,5,55,7],[55,8,55,9],[55,10,55,11],[54,1,54,2],[54,3,54,4],[54,5,54,7],[54,8,54,9],[54,10,54,11],[53,1,53,2],[53,3,53,4],[53,5,53,7],[53,8,53,9],[53,10,53,11],[52,1,52,2],[52,3,52,4],[52,5,52,7],[52,8,52,9],[52,10,52,11],[139,8,139,9],[139,10,139,11],[138,1,138,2],[138,3,138,4],[138,5,138,7],[138,8,138,9],[138,10,138,11],[203,1,203,14],[208,9,208,11],[208,3,208,5],[140,1,140,2],[140,3,140,4],[140,5,140,7],[140,8,140,9],[140,10,140,11],[144,1,144,2],[144,3,144,4],[144,5,144,7],[144,8,144,9],[144,10,144,11],[143,1,143,2],[141,10,141,11],[219,2,219,13],[221,2,221,13],[39,1,39,14],[40,1,40,2],[40,3,40,4],[40,5,40,7],[40,8,40,9],[40,10,40,11],[40,13,40,14],[41,1,41,2],[41,3,41,4],[41,5,41,7],[41,8,41,9],[41,10,41,11],[42,1,42,2],[42,3,42,4],[42,5,42,7],[42,8,42,9],[42,10,42,11],[43,1,43,2],[43,3,43,4],[49,1,49,2],[209,2,209,13],[139,5,139,7],[51,8,51,9],[44,1,44,2],[44,3,44,4],[44,5,44,7],[44,8,44,9],[44,10,44,11],[45,1,45,2],[45,3,45,4],[45,5,45,7],[45,8,45,9],[45,10,45,11],[50,8,50,9],[50,10,50,11],[43,5,43,7],[43,8,43,9],[43,10,43,11],[2,1,2,3],[3,2,3,5],[4,2,4,5],[5,1,5,5],[139,1,139,2],[139,3,139,4],[48,1,48,2],[48,3,48,4],[48,5,48,7],[48,8,48,9],[48,10,48,11],[137,1,137,2],[137,3,137,4],[137,5,137,7],[49,3,49,4],[49,5,49,7],[49,8,49,9],[49,10,49,11],[51,1,51,2],[51,3,51,4],[51,5,51,7],[6,1,6,2],[6,3,6,5],[2,7,5,14],[217,3,217,13],[37,12,37,14],[37,1,37,11],[218,2,218,13],[220,2,220,13],[216,2,216,13],[145,1,145,14],[51,10,51,11],[50,1,50,2],[50,3,50,4],[50,5,50,7],[46,1,46,2],[46,3,46,4],[46,5,46,7],[46,8,46,9],[46,10,46,11],[47,1,47,2],[47,3,47,4],[47,5,47,7],[47,8,47,9],[47,10,47,11]]}
[]
[null,{"$f":"Utilitaire!E8","v":"Plan d'action 2013-2020 sur les changements climatiques"},null,null,null,null,null,"Conseils de rédaction :",null,null,null,null,"Informations en date du :",{"$f":"Utilitaire!G6","v":"2022-03-31"}]
[null,{"$f":"\"Action \" & Accueil!D58","v":"Action en cours"},null,null,null,null,null,"- Veuillez compléter la section \"Évaluation de l'action\" (OBLIGATOIRE) - ligne 204 (Fin du PACC)\n\n- Cet onglet sera pour usage interne seulement, il ne sera pas publié.\n\n- Des bulles commentaires dans chacun des titres vous aideront à remplir adéquatement les différentes colonnes.\n\n- Les cases de la section « Évaluation de l'action » sont limitées à 3000 caractères. "]
[null,{"$f":"Accueil!D55","v":"20.1"},{"$f":"Accueil!E55","v":"Conversion et efficacité énergétique dans les bâtiments commerciaux et institutionnels (Écoperformance)"}]
[null,"Ministère porteur:",{"$f":"Accueil!$D$65","v":"MERN (SITE)"}]
[null,"Évaluation"]
[null,"Informations en date du :"]
[]
[]
[]
[]
[]
[]
[]
[]
[]
[]
[]
[]
[]
[]
[]
[]
[]
[]
[]
[]
[]
[]
[]
[]
[]
[]
[]
[]
[]
[]
[null,"Est-ce qu'une production d'un rapport d'évaluation complet est prévue dans le cadre de cette action : "]
[]
[null,"Liste des livrables"]
[null,"Titre du document",null,"Date du document",null,"Type de document",null,null,"Date prévue de transmission au BECC",null,"Date réelle de transmission au BECC",null,"Référence","Commentaires"]
[null,"Rapport d'évaluation - ÉcoPerformance",null,"2021-05-14",null,"Rapport d'évaluation",null,null,null,null,null,null,"https://transitionenergetique.gouv.qc.ca/fileadmin/medias/pdf/evaluation-programmes/EcoPerformance_rapport_evaluation_2021.pdf"]
[]
[]
[]
[]
[]
[]
[]
[]
[]
[]
[]
[]
[]
[]
[]
[]
[]
[]
[]
[]
[]
[]
[]
[]
[]
[]
[]
[]
[]
[]
[]
[]
[]
[]
[]
[]
[]
[]
[]
[]
[]
[]
[]
[]
[]
[]
[]
[]
[]
[]
[]
[]
[]
[]
[]
[]
[]
[]
[]
[]
[]
[]
[]
[]
[]
[]
[]
[]
[]
[]
[]
[]
[]
[]
[]
[]
[]
[]
[]
[]
[]
[]
[]
[]
[]
[]
[]
[]
[]
[]
[]
[]
[]
[]
[]
[]
[]
[]
[]
[]
[]
[]
[]
[null,"Ajouter une ligne"]
[]
[]
[]
[]
[]
[]
[]
[]
[]
[]
[]
[]
[]
[]
[]
[]
[]
[]
[]
[]
[]
[]
[]
[]
[]
[]
[]
[]
[]
[]
[]
[]
[]
[]
[]
[]
[]
[]
[]
[]
[]
[]
[]
[]
[]
[]
[]
[]
[]
[]
[]
[]
[]
[]
[]
[]
[]
[null,"Évaluation de l'action"]
[]
[]
[]
[]
[null,null,"Début : ",{"$f":"Accueil!$D$68","v":"2013-10-28"},null,null,null,null,"Fin : ",{"$f":"Accueil!$K$68","v":"2024-10-31"}]
[null,"Résultats attendus : ",{"$f":"IF(LEN(Description!C49)>0,Description!C49,\"\")","v":"Les résultats directs attendus sont l'économie d'énergie, la réduction des émissions de GES, des investissements importants dans les secteurs commercial et institutionnel, la création d'emplois et une amélioration soutenue de la performance des secteurs commercial et institutionnel au Québec.\nDe façon générale, en efficacité énergétique, il y a la création de quatorze emplois par million de dollars investis\nLes autres avantages ou co-bénéfices attendus de l'action sont de faire appel à des sources d'énergie émergentes ou l'hydroélectricité, de permettre de faire des choix d'équipements plus performants lors de nouveaux projets. Également, l'action permet de transformer le marché et de dynamiser les interventions dans le secteur commercial et institutionnel. Plusieurs analyses permettront aux organisations de se conscientiser sur leur consommation énergétique et de prendre action pour améliorer leur performance."}]
[null,"Résultats obtenus \n(Cibles, indicateurs et description) : ",{"$f":"IF(COUNTA(Indicateurs!B25:B45)=0,0,AVERAGE(Indicateurs!$T$25:$T$45))","v":0.8265760784313726},{"$f":"IF(LEN(Description!C50)>0,Description!C50,\"\")","v":""}]
[null,null,null,{"$f":"IF(LEN(Description!C51)>0,Description!C51,\"\")","v":"En date du 31 mars 2022, 126 analyses et 478 projets d'implantation ont été acceptés par le ministre, pour une réduction annuelle potentielle de 126,5 kt de CO2, nécessitant des investissements de 283,5 M$ grâce à des aides financières de 87,7 M$ pour un coût moyen de l'aide financière de 33,80 $/t sur la durée de vie des équipements (20,5 ans). Ces investissements entraîneraient la création de 3 969 emplois."}]
[]
[]
[]
[]
[null,"Type d'évaluation : "]
[null,"Est-ce que les résultats obtenus dans le cadre de l'action sont satisfaisants?","Oui","Les projets de nos participants se réalisent sur une période de 36 à 48 mois. Les projets reçues et acceptés ces 2-3 dernières années vont produire des résultats réels dans le courant des 2-3 prochaines années."]
[null,"Quelles sont les améliorations possibles pour le futur?"]
[null,"Quels sont les forces et les points positifs de l'action?"]
[null,"Quelle est votre recommandation quant à la poursuite de cette action? "]
[null,"Autres commentaires","Reddition de compte à revoir pour nos programmes dans le cadre du PEV. Le détail des décaissements  par année financière pour chacun des projets complexifie cette reddition de compte sans pour autant la valoriser. Ceci en fonction de la gestion de nos ver"]

{"sheet":"Commentaires","index":7,"n_rows":33,"n_cols":20,"rows_kept":33,"cut":false,"hidden":true,"merged":[[26,1,26,11],[28,12,28,13],[28,1,28,11],[33,12,33,13],[33,1,33,11],[31,12,31,13],[32,12,32,13],[29,1,29,11],[27,1,27,11],[24,12,24,13],[25,12,25,13],[26,12,26,13],[27,12,27,13],[29,12,29,13],[34,1,34,11],[34,12,34,13],[31,1,31,11],[32,1,32,11],[30,1,30,11],[30,12,30,13],[24,1,24,11],[3,2,3,5],[5,1,5,5],[25,1,25,11],[2,1,2,2],[4,2,4,5],[1,7,1,11],[2,7,5,17],[23,1,23,11],[23,12,23,13],[1,1,1,5],[1,15,1,16],[19,1,19,3],[19,4,19,5]]}
[]
[null,{"$f":"Utilitaire!E8","v":"Plan d'action 2013-2020 sur les changements climatiques"},null,null,null,null,null,null,null,null,null,null,null,null,null,null,null,null,null,"COF"]
[null,{"$f":"\"Action \" & Accueil!D58","v":"Action en cours"},null,null,null,null,null,null,null,null,null,null,null,null,null,null,null,null,null,"Frais"]
[null,{"$f":"Accueil!D55","v":"20.1"},{"$f":"Accueil!E55","v":"Conversion et efficacité énergétique dans les bâtiments commerciaux et institutionnels (Écoperformance)"},null,null,null,null,null,null,null,null,null,null,null,null,null,null,null,null,"ETC"]
[null,"Ministère porteur:",{"$f":"Accueil!$D$65","v":"MERN (SITE)"},null,null,null,null,null,null,null,null,null,null,null,null,null,null,null,null,"Détail des projets"]
[null,"Commentaires",null,null,null,null,null,null,null,null,null,null,null,null,null,null,null,null,null,"Détail des projets (GES)"]
[null,null,null,null,null,null,null,null,null,null,null,null,null,null,null,null,null,null,null,"Bilan GES"]
[null,null,null,null,null,null,null,null,null,null,null,null,null,null,null,null,null,null,null,"Indicateurs"]
[null,null,null,null,null,null,null,null,null,null,null,null,null,null,null,null,null,null,null,"Toutes-Autre"]
[]
[]
[null,null,null,null,null,null,null,null,null,null,null,null,null,null,null,null,null,null,null,"2013-2014"]
[null,null,null,null,null,null,null,null,null,null,null,null,null,null,null,null,null,null,null,"2014-2015"]
[null,null,null,null,null,null,null,null,null,null,null,null,null,null,null,null,null,null,null,"2015-2016"]
[null,null,null,null,null,null,null,null,null,null,null,null,null,null,null,null,null,null,null,"2016-2017"]
[null,null,null,null,null,null,null,null,null,null,null,null,null,null,null,null,null,null,null,"2017-2018"]
[null,null,null,null,null,null,null,null,null,null,null,null,null,null,null,null,null,null,null,"2018-2019"]
[null,null,null,null,null,null,null,null,null,null,null,null,null,null,null,null,null,null,null,"2019-2020"]
[null,null,null,null,null,null,null,null,null,null,null,null,null,null,null,null,null,null,null,"2020-2021"]
[null,"Informations en date du :",null,null,"2022-03-31",null,null,null,null,null,null,null,null,null,null,null,null,null,null,"2021-2022"]
[null,null,null,null,null,null,null,null,null,null,null,null,null,null,null,null,null,null,null,"2022-2023"]
[null,null,null,null,null,null,null,null,null,null,null,null,null,null,null,null,null,null,null,"2023-2024"]
[]
[null,"Commentaires",null,null,null,null,null,null,null,null,null,null,"Section concernée",null,"Année","Exercice","nom Commentateur ","courriel Commentateur "]
[null,"",null,null,null,null,null,null,null,null,null,null,"",null,null,"","",""]
[]
[null,"",null,null,null,null,null,null,null,null,null,null,"",null,null,"","",""]
[null,"",null,null,null,null,null,null,null,null,null,null,"",null,null,"","",""]
[null,"",null,null,null,null,null,null,null,null,null,null,"",null,null,"","",""]
[]
[]
[null,"",null,null,null,null,null,null,null,null,null,null,"",null,null,"","","",null,"juin"]
[null,"",null,null,null,null,null,null,null,null,null,null,"",null,null,"","","",null,"décembre"]

{"sheet":"Validation","index":8,"n_rows":85,"n_cols":7,"rows_kept":85,"cut":false,"hidden":true,"merged":[[3,3,3,6],[3,1,3,2],[17,1,17,5],[18,1,18,4],[4,3,4,6],[7,1,7,3],[7,4,7,5],[21,5,22,5],[23,5,24,5],[25,5,26,5],[26,1,26,4],[22,1,22,4],[24,1,24,4],[1,1,1,6],[19,1,19,4],[31,1,31,4],[28,1,28,5],[47,1,47,5],[30,1,30,4],[16,1,16,6],[21,1,21,4],[23,1,23,4],[25,1,25,4],[20,1,20,5],[27,1,27,4],[29,1,29,4],[5,1,5,6],[2,1,2,2],[4,1,4,2],[49,1,49,4],[34,1,34,4],[48,1,48,4],[48,5,49,5],[32,1,32,4],[33,1,33,4],[35,1,35,4],[36,1,36,5],[41,1,41,4],[25,6,26,6],[48,6,49,6],[51,6,52,6],[57,1,57,4],[37,1,37,4],[43,1,43,4],[38,1,38,4],[39,1,39,4],[40,1,40,4],[50,1,50,4],[51,1,51,4],[52,1,52,4],[56,1,56,5],[51,5,52,5],[54,1,54,4],[55,1,55,4],[53,1,53,4],[59,1,59,5],[60,1,60,4],[61,1,61,4],[8,1,8,6],[13,1,13,6],[14,1,14,6],[46,1,46,4],[45,1,45,4],[44,1,44,4],[45,6,46,6],[45,5,46,5],[42,1,42,5],[58,1,58,4],[21,6,22,6],[23,6,24,6]]}
[]
[null,{"$f":"Utilitaire!E8","v":"Plan d'action 2013-2020 sur les changements climatiques"}]
[null,{"$f":"\"Action \" & Accueil!D58","v":"Action en cours"}]
[null,{"$f":"Accueil!D55","v":"20.1"}]
[null,"Ministère porteur:",null,{"$f":"Accueil!$D$65","v":"MERN (SITE)"},{"$f":"Accueil!$D$65","v":"MERN (SITE)"}]
[null,"Rapport de validation de la fiche de suivi"]
[]
[null,"Conseils de rédaction : ",null,null,"Informations en date du :",null,{"$f":"Utilitaire!G6","v":"2022-03-31"}]
[null,"\n\n'- Cet onglet ne sera pas diffusé.\n\n- Nous apprécierions vos commentaires constructifs par rapport aux nouvelles fiches de suivi. La case B15 est réservée à cet effet.\n\n- Complétez la grille de validation ci-dessous (ligne 19) en cochant chaque point. Vous pouvez inscrire des commentaires à l'endroit prévu à cet effet."]
[]
[]
[]
[]
[null,"Votre appréciation de la fiche de suivi et suggestions pour les prochains exercices"]
[]
[]
[null,"Grille de validation de la fiche de suivi"]
[null,"Fin du PACC",null,null,null,null,"Commentaires"]
[null,"Avez-vous complété le tableau de la ligne 204 de l'onglet Évaluation?"]
[null,"Avez-vous saisi tous vos engagements à SAGIR (vous avez jusqu'au 31 mai)?"]
[null,"Onglet Accueil",null,null,null,null,"Commentaires"]
[null,"Vérifier que toutes les cases sont remplies."]
[null,"Les cases non remplies s'affichent en orange\nLes lignes 69 à 73 seront masquées pour la publication."]
[null,"Vérifier que la part de financement est écrite sous forme de pourcentage (ex. : 60 %)."]
[null,"Inscrire un nombre entre 0 et 100 suivi du symbole \"%\". Si le pourcentage est variable, inscrire \"Variable\"."]
[null,"Vérifier que le statut de l'action est toujours conforme avec son évolution."]
[null,"Utiliser l'information des onglets \"Description\" et Détail des projets\" afin que le statut soit conforme avec\n l'évolution de l'action."]
[null,"Vérifier, s'il y a lieu, que le nom du programme est inscrit."]
[null,"Onglet Description",null,null,null,null,"Commentaires"]
[null,"Vérifier que toutes les cases obligatoires sont remplies."]
[null,"Vérifier que tous les éléments pertinents en lien avec le COVID-19 sont inscrits au tableau prévu à cet effet."]
[null,"Vérifier que les éléments de classification de l'action sont sélectionnés à partir du menu déroulant."]
[null,"Vérifier que l'entièreté du texte est lisible. "]
[null,"Vérifier que l'échéancier dans la section \"Mise en œuvre\" est inscrit."]
[null,"Vérifier que l'état d'avancement est sélectionné à partir du menu déroulant."]
[null,"Vérifier que le tableau \"Plans, stratégies, politiques incluant la mise en œuvre de cette action\" est rempli."]
[null,"Onglet Détail des projets",null,null,null,null,"Commentaires"]
[null,"Vérifier que les informations confidentielles sont inscrites en bleu."]
[null,"Transmettre au BECC le rapport des résultats, si un projet est terminé."]
[null,"Vérifier le total des dépenses réelles de tous les projets correspond à celui inscrit dans les COF pour chaque année financière complétée."]
[null,"Vérifier que le total des dépenses réelles et prévues pour un projet n'excède pas le montant engagé."]
[null,"Vérifier l'utilisation des nouveaux statuts de projets pour les projets affectés par le COVID-19"]
[null,"Onglet GES",null,null,null,null,"Commentaires"]
[null,"Vérifier que le total des réductions de GES correspond aux données de l'onglet \"Indicateurs\"."]
[null,"Vérifier que les deux cases de la ligne 20 sont bien remplies."]
[null,"Vérifier que le coût la tonne et la durée du projet sont bien indiqués pour tous les projets ayant soit un potentiel de réduction ou des réductions réelles (colonnes H et K)."]
[null,"La méthode de calcul du coût la tonne doit respecter les indications en commentaire dans la cellule H23."]
[null,"Onglet Indicateurs",null,null,null,null,"Commentaires"]
[null,"Vérifier la cohérence des cibles, des résultats et des résultats à comparer avec les cibles.\n (même unité de mesure, évolution des résultats annuels)"]
[null,"S'il y a lieu, utiliser la colonne \"Commentaires sur les résultats\" afin de fournir davantage d'informations."]
[null,"Vérifier que les commentaires à l'intention du BECC qui ne sont pas pour diffusion sont inscrits en bleu."]
[null,"Vérifier qu'il y a des résultats pour tous les indicateurs. Inscrire un 0 comme résultat pour les \n indicateurs ne présentant pas de résultats."]
[null,"Si les résultats ne sont pas disponibles, vous devez inscrire un commentaire dans la colonne prévue\n à cet effet indiquant à quel moment ils seront disponibles."]
[null," Transmettre au BECC pour approbation une annexe 4 (fiche-indicateur) si vous désirez qu'un indicateur soit ajouté."]
[null,"Vérifier que le tableau \"PRÉVISIONS DES RETOMBÉES SUR LES RÉDUCTIONS DES ÉMISSIONS DE GES\" est bien rempli si votre action vise la réduction des GES."]
[null,"Vérifier que le tableau \"ADAPTATION AUX EFFETS DES CHANGEMENTS CLIMATIQUES\" est bien rempli si votre action vise l'adaptation aux changements climatiques."]
[null,"Onglet Commentaires",null,null,null,null,"Commentaires"]
[null,"Vérifier que les commentaires de l'exercice précédent s'appliquent toujours. Retirer tous les\n commentaires qui ne s'appliquent plus."]
[null,"Inscrire en noir les commentaires nécessaires à afficher lors de la publication des fiches"]
[null,"Onglet Évaluation",null,null,null,null,"Commentaires"]
[null,"Remplir et mettre à jour la liste des livrables. Veuillez transmettre tout livrable attendu au BECC avec votre fiche de suivi."]
[null,"Veuillez remplir la section Évaluation de l'action. Obligatoire pour la fin du PACC."]
[]
[]
[]
[]
[]
[]
[]
[]
[]
[]
[]
[]
[]
[]
[]
[]
[]
[]
["Code de couleur","Onglet concerné","no ligne","Description de la problématique","No d'erreur",null,"Commentaires"]
[null,"Description",null,"Les informations \"Description, objectif, clientèle, critères d'admissibilité, processus de suivi de l'action, résultats attendus, résultats obtenus dans la dernière année, résultats obtenus, finalité, catégorie\" sont manquantes dans l'onglet Description.",18]
[null,"détail des projets",null,"Aucun projet n'est mentionné dans la fiche. Cette situation est acceptable seulement si l'action n'est pas encore lancée (statut non démarrée ou en élaboration).",12]
[null,"GES",null,"Les informations \"Potentiel de réduction des GES, réduction réelle des émissions de GES\" sont manquantes dans l'onglet GES.",18]
[null,"indicateurs",null,"Aucun indicateur n'est inscrit pour cette action. Acceptable seulement si l'action n'est pas démarrée.",20]

{"sheet":"Modalités de fin du PACC","index":9,"n_rows":23,"n_cols":5,"rows_kept":23,"cut":false,"hidden":true,"merged":[[15,2,15,13],[16,2,16,13],[13,1,13,12],[1,1,1,13],[22,2,22,13],[3,2,3,3],[4,2,4,3],[5,2,5,3],[7,2,7,3],[6,2,6,3],[8,1,8,13],[17,2,17,13],[19,2,19,13],[20,2,20,13],[21,2,21,13],[18,3,18,13],[12,1,12,13],[14,2,14,13]]}
[]
[null,"Échéancier de la fin du Plan d'action 2013-2020 sur les changements climatiques"]
[]
[null,"-","2021-03-31",null,"Fin du PACC. Vous ne pouvez plus prendre de nouveaux engagements en vertu des actions du PACC."]
[null,"-","2021-05-31",null,"Échéance pour saisir dans SAGIR les engagements (lettre d'octroi suffisante) pris avant le 31 mars."]
[null,"-","2021-12-31",null,"Échéance pour signer les conventions de subventions se rapportant aux engagements saisis à SAGIR."]
[null,"-","2022-12-31",null,"Fin des projets réalisés à l'interne des Partenaires"]
[null,"-","2025-12-31",null,"Fin des projets"]
[null,"Lorsque tous les projets liés à une action seront terminés et que tous les résultats liés à l'action seront colligés, l'action sera inscrite comme étant « terminée » et sera retirée du suivi semestriel."]
[]
[]
[]
[null,"Modalités détaillées de la fin du PACC"]
[null,"(Ces modalités sont annexées à l'entente administrative concernant la mise en œuvre du PACC et concordent avec l'échéancier ci-dessus)"]
[null,null,"1. Les enveloppes budgétaires 2013-2020 des actions et sous-actions (Annexe 2 de l’ENTENTE) doivent être respectées en tout temps."]
[null,null,"2. Tous les engagements (c.-à-d. une dépense jugée admissible et autorisée) doivent être pris avant le 31 mars 2021. Après cette date, les engagements pris ne peuvent plus être bonifiés."]
[null,null,"3. Tous les engagements pris avant le 31 mars 2021 (par exemple : lettre d’octroi de subvention signée par vos autorités, contrat, convention ou entente signés, décret ou CT approuvé) doivent être saisis dans SAGIR au plus tard le 31 mai 2021. Une nouvelle version de la « Procédure de comptabilisation des dépenses portées au débit du Fonds d’électrification et de changements climatiques par les ministères et organismes partenaires » sera transmise ultérieurement lors de la fermeture de la fin d’année financière 2020-2021 afin de tenir compte de la fin du PACC."]
[null,null,"4. Les conventions d’aide financière qui ne pourront être signées avant le 31 mars 2021 pourront être reconnues comme engagées seulement si le Partenaire transmet une lettre d’octroi de subvention au bénéficiaire avant cette date :"]
[null,null,null,"· La lettre d’octroi devra mentionner le montant total de la subvention avec le détail des versements estimés par année financière et devra préciser qu’elle est conditionnelle à une décision du Conseil des ministres ou du Conseil du trésor lorsqu’applicable. Enfin, la lettre devra préciser que la subvention est conditionnelle à la signature d’une convention de subvention au plus tard le 31 décembre 2021."]
[null,null,"5. Aucun engagement ne pourra s’échelonner au-delà du 31 décembre 2025."]
[null,null,"6. Les frais d’administration (dépenses de rémunération et de fonctionnement) nécessaires au suivi de conventions d’aide financière ou de contrats pourront être imputés au FECC jusqu’au terme des projets ou au plus tard au 31 décembre 2025."]
[null,null,"7. Les suivis se poursuivront tant que les actions ne seront pas terminées."]
[null,null,"8. Aucune dépense pour les projets réalisés à l’interne (projets majoritairement réalisés en régie interne par le personnel du Partenaire) ne pourra être effectuée au-delà du 31 mars 2022."]

{"sheet":"Prochain Exercice-Commentaire","index":10,"n_rows":14,"n_cols":6,"rows_kept":14,"cut":false,"hidden":true,"merged":[[6,1,6,5],[5,3,5,4],[1,1,2,5],[3,1,4,2],[3,4,3,5],[4,4,4,5],[5,1,5,2]]}
[]
[null,{"$f":"Utilitaire!E8","v":"Plan d'action 2013-2020 sur les changements climatiques"}]
[]
[null,"Commentaires",null,null,{"$f":"Accueil!D65 & \" - \" &Accueil!D53","v":"MERN (SITE) - 20.1"}]
[null,null,null,null,{"$f":"\"Action \" & Accueil!D58","v":"Action en cours"}]
[null,"Conseils de rédaction :",null,"Informations en date du :",null,{"$f":"Utilitaire!G6","v":"2022-03-31"}]
[null,"- Veuillez inscrire ici tout commentaire pour prochain exercice"]
[]
[]
[null,"Onglet de la fiche","Case","Commentaire"]
[]
[null,"Détail des projets","i489","Veuillez faire la mise à jour des status car la date du dernier financement de quelques projets remontent à plusieurs années. "]
[null,"Détail des projets","k661","Veuillez vérifier les montants engagés car ils doivent être plus petit ou égaux au budget total du projet (colonne N)."]
[null,"Indicateurs","u28","Pouvez-vous expliquer l'écart avec la cible"]